BEGIN:VCALENDAR
VERSION:2.0
PRODID:-//https://techplay.jp//JP
CALSCALE:GREGORIAN
METHOD:PUBLISH
X-WR-CALDESC:RPAに向く業務・向かない業務別 業務自動化攻
 略法 セミナー
X-WR-CALNAME:RPAに向く業務・向かない業務別 業務自動化攻
 略法 セミナー
X-WR-TIMEZONE:Asia/Tokyo
BEGIN:VTIMEZONE
TZID:Asia/Tokyo
BEGIN:STANDARD
DTSTART:19700101T000000
TZOFFSETFROM:+0900
TZOFFSETTO:+0900
TZNAME:JST
END:STANDARD
END:VTIMEZONE
BEGIN:VEVENT
UID:816241@techplay.jp
SUMMARY:RPAに向く業務・向かない業務別 業務自動化攻略法
  セミナー
DTSTART;TZID=Asia/Tokyo:20210512T123000
DTEND;TZID=Asia/Tokyo:20210512T130000
DTSTAMP:20260421T052858Z
CREATED:20210428T021055Z
DESCRIPTION:イベント詳細はこちら\nhttps://techplay.jp/event/81624
 1?utm_medium=referral&utm_source=ics&utm_campaign=ics\n\nRPAに向く業
 務・向かない業務別 業務自動化攻略法 （CAC RPAセミナ
 ー）\n概要\nRPAについて考える ＝ 業務を俯瞰して考え
 る\n手順が決まっていて、繰り返しが多い業務はRPA向
 きです。どんどんRPAで自動化しましょう。ではそれ以
 外は？RPAに向かない業務に目を瞑っていませんか？ こ
 のセミナーではRPAに向く業務、向かない業務、それぞ
 れ改善・自動化する方法を説明します。\nタイムスケ
 ジュール\n\n\n\n時間\n内容\n\n\n\n\n12:20〜\n受付開始\n\n\n1
 2:30\nオープニング\n\n\n12:30〜12:55\nRPAに向く業務・向か
 ない業務 業務自動化攻略法　1. RPAに「向く業務」とは
 　2. RPAに「向く業務」を正しく見つける方法とその攻
 略法　3. RPAに「向かない業務」の攻略法\n\n\n12:55〜13:00
 \nLIVE Q&Aチャットで受け付けるQ&A。疑問に思ったこと、
 いま抱えている課題などお寄せください。当社エンジ
 ニアがお答えします。\n\n\n13:00\nクローズ\n\n\n\n※ 当日
 予告なく時間配分・内容が変更になる可能性がござい
 ます。\n登壇者\n平井 健太郎\n株式会社シーエーシー 
 産業ビジネスユニット 産業ソリューション第二部\n参
 加対象\n\nRPAの推進担当者\n業務改善の推進担当者\n\n参
 加費\n無料\nハッシュタグ\n#RPA #業務改善 #業務選定 #UiP
 ath_Automation_hub #ノーコード・ローコード #AI-OCR #BPO\n注
 意事項\n\nリクルーティング、勧誘など、採用目的での
 イベント参加はお断りしております。\nキャンセル待
 ち・補欠・落選の方はご参加いただくことが出来ませ
 んのでご了承ください。\n欠席される場合は、お手数
 ですが速やかにキャンセル処理をお願い致します。\n
 無断キャンセルや欠席が続く場合、次回以降の参加を
 お断りさせていただく場合がございます。\n
LOCATION:オンライン（Zoom）
URL:https://techplay.jp/event/816241?utm_medium=referral&utm_source=ics&utm
 _campaign=ics
END:VEVENT
END:VCALENDAR
