BEGIN:VCALENDAR
VERSION:2.0
PRODID:-//https://techplay.jp//JP
CALSCALE:GREGORIAN
METHOD:PUBLISH
X-WR-CALDESC:【初心者歓迎】Javascript連続講座〜②応用編〜
X-WR-CALNAME:【初心者歓迎】Javascript連続講座〜②応用編〜
X-WR-TIMEZONE:Asia/Tokyo
BEGIN:VTIMEZONE
TZID:Asia/Tokyo
BEGIN:STANDARD
DTSTART:19700101T000000
TZOFFSETFROM:+0900
TZOFFSETTO:+0900
TZNAME:JST
END:STANDARD
END:VTIMEZONE
BEGIN:VEVENT
UID:816287@techplay.jp
SUMMARY:【初心者歓迎】Javascript連続講座〜②応用編〜
DTSTART;TZID=Asia/Tokyo:20210502T090000
DTEND;TZID=Asia/Tokyo:20210502T120000
DTSTAMP:20260422T120000Z
CREATED:20210428T062334Z
DESCRIPTION:イベント詳細はこちら\nhttps://techplay.jp/event/81628
 7?utm_medium=referral&utm_source=ics&utm_campaign=ics\n\n完全初心者
 でも大丈夫なJavascript連続講座を開催しています。\n連
 続して受講することで、プログラミング未経験から「
 基本文法」、「DOM操作」、「ゲーム作り」を学ぶこと
 ができます。\n年齢問わず学べる内容になっています
 。（過去に小学生の受講者さんもいました）\n\n[5/1 9:00
 〜12:00] Javascript連続講座〜①基礎編〜（無料）\n[5/2 9:00
 〜12:00] Javascript連続講座〜②応用編〜 【←この講座】\
 n[5/3 9:00〜12:00] Javascript連続講座〜③ゲーム制作編〜\n\n
 ※①〜③全て受講をお考えの方のみ【先着4名】まで合
 計1000円受講できます。（その際は限定4名の方で登録
 してください）\n※先着４名の割引については、受講
 後のアンケート必須でお願いします。\n※②③を両方
 受講希望の方は、1500円で受講できます。\n※本講座は
 、①の基礎編を受講済前提ですが、「if文、for文、関
 数の書き方」などがわかる方であれば、誰でも参加可
 能です。\nこんなあなたにオススメ\n\n初心者向けの本
 を買ったが挫折した\nprogateなどで勉強しようとしたけ
 どついていけなかった\n独学で勉強することを諦めた\n
 自分のアイデアをプログラミングで形にしたい\njavascri
 ptの文法は学んだけど、実戦のスキルが欲しい\n\nどん
 な言語を使うの\n複雑な準備のいらないJavaScriptを使用
 します。\nJavascriptでできること\n\nWebアプリを作れる\n
 いろいろなWebデザインを作れる\niOSやAndroidのスマホア
 プリのデザインを作れる\nサーバーサイドのプログラ
 ムを作れる\n\n必要なもの\n\nPC（MacでもWindowsでも可能
 ）\nWifi環境（オンラインで講義します）\nGoogleアカウ
 ント（Google Meetでの授業を予定しています）\n\n講師プ
 ロフィール\n佐々木和哉\nフリーランス エンジニア（We
 b\,iOS\,Android等）\n都内私立高校でプログラミング教育
 の授業を講師＆プロデュース\n教員経験あり（数学と
 プログラミングをかつて教えていました）\nUdemyのサポ
 ート講師\nプログラミング講師歴は7年\n一言メッセー
 ジ\n本講座に興味を持っていただきありがとうござい
 ます。\n私自身プログラミングに興味がある人に対し
 て、プログラミングの楽しさを伝えたいと言う思いが
 あります。\nできる限り多くの人に伝えたいのですが..
 .できる限り丁寧にサポートをしたいと言う思いもあり
 ます。\n少人数の枠で申し訳ございませんが、その代
 わり濃い時間にできればと考えていますので、よろし
 くお願いします。\nせっかくのコロナで外周できない
 ので、スキルを身につけちゃおう！
LOCATION:オンライン
URL:https://techplay.jp/event/816287?utm_medium=referral&utm_source=ics&utm
 _campaign=ics
END:VEVENT
END:VCALENDAR
