BEGIN:VCALENDAR
VERSION:2.0
PRODID:-//https://techplay.jp//JP
CALSCALE:GREGORIAN
METHOD:PUBLISH
X-WR-CALDESC:「量子コンピュータによる機械学習」読書会 |
 11>
X-WR-CALNAME:「量子コンピュータによる機械学習」読書会 |
 11>
X-WR-TIMEZONE:Asia/Tokyo
BEGIN:VTIMEZONE
TZID:Asia/Tokyo
BEGIN:STANDARD
DTSTART:19700101T000000
TZOFFSETFROM:+0900
TZOFFSETTO:+0900
TZNAME:JST
END:STANDARD
END:VTIMEZONE
BEGIN:VEVENT
UID:816434@techplay.jp
SUMMARY:「量子コンピュータによる機械学習」読書会 |11>
DTSTART;TZID=Asia/Tokyo:20210513T210000
DTEND;TZID=Asia/Tokyo:20210513T220000
DTSTAMP:20260422T133628Z
CREATED:20210429T142329Z
DESCRIPTION:イベント詳細はこちら\nhttps://techplay.jp/event/81643
 4?utm_medium=referral&utm_source=ics&utm_campaign=ics\n\n 概要 \n\n若
 干進度に差異がありますが、5月3日に開催される回\nと
 ほぼ同一内容です。 \n近年、素因数分解や探索問題な
 ど、いくつかの問題を従来のコンピュータよりも少な
 い計算量で解ける量子コンピュータや情報論的な安全
 性をもつ量子暗号等によって量子情報科学が社会的に
 も注目されております。一方、ディープラーニングの
 登場によって始まった第三次AIブームは現在も続いて
 おり、日常生活のいたるところで人工知能は利用され
 ています。従来のコンピュータの代わりに量子コンピ
 ュータを使って、より効率的に機械学習ができないか
 というのは自然な考えです。今回は量子コンピュータ
 を用いた教師付き学習について、基本原理をしっかり
 と理解することを目指します。\n量子コンピュータの
 基礎と機械学習の基礎も教科書に書かれているので、
 通常の機械学習は知っているが量子コンピュータのこ
 とは知らない、あるいは量子力学は知っているが機械
 学習は知らないという方でも参加できます。\nテキス
 ト\n　共立出版から発行されている「量子コンピュー
 タによる機械学習」　https://www.kyoritsu-pub.co.jp/bookdetail/9
 784320124622　を使います。\nこの本は「Supervised Learning wit
 h Quantum Computers」\nhttps://www.springer.com/gp/book/9783319964232\n
 の日本語訳です。\n今回の内容\n\nP.70 制限付きボルツ
 マンマシンから読みます。\n 進め方\n\nこの読書会はオ
 ンラインでスカイプをもちいて開催します。\n開始時
 刻になったら、主催者がこの読書会のスカイプの音声
 通話を開始します。\n基本的には主催者が教科書を音
 読し、それに対する説明をする、数式がある場合はそ
 の計算について解説をします。そして参加者は適宜、
 質問して議論をして理解を深めるという形を想定して
 います。なお洗練された講義とはほど遠いと思います
 ので、参加される場合はその点ご了承ください。\n毎
 週木曜日の21:00~22:00の開催を想定しています。\n参加方
 法\n\n参加する方はconnpassで参加申し込みをお願いしま
 す。申し込み後、「参加者への情報」においてこの読
 書会のスカイプに参加するためのリンクが表示されま
 す。そのリンクをクリックしてスカイプに参加してく
 ださい。\n注意点\n今回読む本はブルーバックスのよう
 な啓蒙書ではありません。教養番組のように分かりや
 すいグラフィックで手軽に理解したいという方・数式
 を使わずに理解したいという方には向いていません。
 量子情報や通常の機械学習については基礎が教科書で
 も2章、3章で解説されていますので、前提ではありま
 せんが、線形代数の基礎知識（例えば行列の固有値、
 固有ベクトルの計算）は必要です。また読み終わるま
 でに数か月~1年くらいの相当な時間がかかると思いま
 す。短期間で読み終えたいという方には向いておりま
 せん。\nスカイプの通話は通信容量やプライバシー等
 の問題からビデオはオフで参加してください。またマ
 イクも質問するとき以外は雑音を減らすためにオフに
 設定してください。
LOCATION:オンライン オンライン
URL:https://techplay.jp/event/816434?utm_medium=referral&utm_source=ics&utm
 _campaign=ics
END:VEVENT
END:VCALENDAR
