BEGIN:VCALENDAR
VERSION:2.0
PRODID:-//https://techplay.jp//JP
CALSCALE:GREGORIAN
METHOD:PUBLISH
X-WR-CALDESC:【5/13開催】第1回「そのカスタマージャーニー
 マップ間違っているかも？サイトに辿り着くまでの行
 動を可視化するユーザビリティ調査とは？」
X-WR-CALNAME:【5/13開催】第1回「そのカスタマージャーニー
 マップ間違っているかも？サイトに辿り着くまでの行
 動を可視化するユーザビリティ調査とは？」
X-WR-TIMEZONE:Asia/Tokyo
BEGIN:VTIMEZONE
TZID:Asia/Tokyo
BEGIN:STANDARD
DTSTART:19700101T000000
TZOFFSETFROM:+0900
TZOFFSETTO:+0900
TZNAME:JST
END:STANDARD
END:VTIMEZONE
BEGIN:VEVENT
UID:816469@techplay.jp
SUMMARY:【5/13開催】第1回「そのカスタマージャーニーマ
 ップ間違っているかも？サイトに辿り着くまでの行動
 を可視化するユーザビリティ調査とは？」
DTSTART;TZID=Asia/Tokyo:20210513T160000
DTEND;TZID=Asia/Tokyo:20210513T170000
DTSTAMP:20260422T021055Z
CREATED:20210430T023827Z
DESCRIPTION:イベント詳細はこちら\nhttps://techplay.jp/event/81646
 9?utm_medium=referral&utm_source=ics&utm_campaign=ics\n\n【5/13開催】
 第1回『サイトに辿り着くまでの行動を可視化するユー
 ザビリティ調査とは？』\n概要\n【このような方におす
 すめです】・Webサイト改善を推進していきたい方・社
 内でサイト改善に取り組んでいるが成果が見られない
 方・リニューアル前の現状サイトの課題出し、目標を
 設計したい方※個人、学生、代理店の方のお申し込み
 はご遠慮ください。\n5月は「ユーザビリティ改善」を
 テーマに計3回のウェビナーを開催いたします。今回は
 、第1回目の『 サイトに辿り着くまでの行動を可視化
 するユーザビリティ調査とは？』です。ご興味のあるW
 eb担当の方はぜひご参加ください。\nタイムスケジュー
 ル\n\n\n\n時間\n内容\n\n\n\n\n15:30〜\n受付開始\n\n\n16:00〜16
 :50\n1) マーケティング現場事件簿　カスタマージャー
 ニーマップの間違いが連続して発覚！なぜか？2) 業界
 でのシェアが高い会社ほど陥りやすい典型的なパター
 ン3) サイトに入る前の行動を可視化するユーザー行動
 観察調査4) ユーザー行動観察調査は何人実施したらい
 いのか？5) サイトに入る前の行動から全体を鳥瞰して
 設計するサイトコンテンツ\n\n\n16:50〜17:00\n質疑応答/相
 談\n\n\n\n※ 当日予告なく時間配分・内容が変更になる
 可能性がございます。\n登壇者\n\n伊藤肇\nECマーケティ
 ング株式会社　執行役員\n2000年からWebマーケティング
 に携わる。Webマーケティング歴20年、UI/UX分野の専門家
 としての経歴12年。2006年株式会社ECホールディングス
 を取締役として創業。2010年ECマーケティングの創業時
 に参画し現在に至る。\n\n参加対象\nWebサイトを運営す
 る広告主様※同業他社様のご参加はご遠慮いただいて
 おります。予めご了承ください。※学生・個人の方の
 ご参加は、ご遠慮くださいますようお願いいたします
 。※定員を超えた場合は抽選とさせていただきます。\
 n参加費\n無料
LOCATION:オンライン
URL:https://techplay.jp/event/816469?utm_medium=referral&utm_source=ics&utm
 _campaign=ics
END:VEVENT
END:VCALENDAR
