BEGIN:VCALENDAR
VERSION:2.0
PRODID:-//https://techplay.jp//JP
CALSCALE:GREGORIAN
METHOD:PUBLISH
X-WR-CALDESC:採用ミスマッチ解消のカギとなる、企業と/求
 職者の「等身大」の見極め方とは
X-WR-CALNAME:採用ミスマッチ解消のカギとなる、企業と/求
 職者の「等身大」の見極め方とは
X-WR-TIMEZONE:Asia/Tokyo
BEGIN:VTIMEZONE
TZID:Asia/Tokyo
BEGIN:STANDARD
DTSTART:19700101T000000
TZOFFSETFROM:+0900
TZOFFSETTO:+0900
TZNAME:JST
END:STANDARD
END:VTIMEZONE
BEGIN:VEVENT
UID:816527@techplay.jp
SUMMARY:採用ミスマッチ解消のカギとなる、企業と/求職者
 の「等身大」の見極め方とは
DTSTART;TZID=Asia/Tokyo:20210513T120000
DTEND;TZID=Asia/Tokyo:20210513T130000
DTSTAMP:20260419T131435Z
CREATED:20210430T073010Z
DESCRIPTION:イベント詳細はこちら\nhttps://techplay.jp/event/81652
 7?utm_medium=referral&utm_source=ics&utm_campaign=ics\n\n採用ミスマ
 ッチ解消のカギとなる、企業と/求職者の「等身大」の
 見極め方とは\n概要\n採用担当者であれば、誰でも避け
 たい「採用のミスマッチ」。そもそもなぜ、ミスマッ
 チが起こってしまうのでしょうか。\n我々は、企業・
 求職者共に「等身大」を伝えきれず、適切な見極めに
 繋げられていないことが原因であると考えます。\n本
 イベントは「採用ミスマッチ解消のカギとなる企業と/
 求職者の「等身大」の見極め方とは」と題して、採用
 ミスマッチが起こる原因とその解消法について、ROXXと
 HeaRがそれぞれの知見や事例をもとにお話していきます
 。\nミスマッチ低減に向けた具体的な仕組みづくりに
 お悩みの人事・採用担当者の方は、是非お申し込みく
 ださい。\nこのような課題をお持ちの人事・採用ご担
 当者様におすすめ\n\nミスマッチによる早期離職を改善
 したい\n即戦力人材の見極めに悩んでいる\nオンライン
 に適した選考プロセス設計、見極めに悩んでいる\nリ
 ファレンスチェックの効果について知りたい\n\nタイム
 スケジュール\n\n\n\n時間\n内容\n\n\n\n\n11:55〜\nログイン
 開始\n\n\n12:00〜12:10\nイントロダクション\n\n\n12:10〜12:25
 \n選考での見極め不足による採用ミスマッチ事例\n\n\n12
 :25〜12:40\n「等身大」を見せ合うことが、ミスマッチ解
 消のカギ\n\n\n12:40〜12:45\nサービス紹介\n\n\n12:45〜12:55\n
 質疑応答\n\n\n12:55〜13:00\nアンケート回答＆チェックア
 ウト\n\n\n\n※ 当日予告なく時間配分・内容が変更にな
 る可能性がございます。\n登壇者\n山田 浩輝\n株式会社
 ROXX/COO\n青山学院大学３年時に、代表の中嶋と共に株式
 会社RENO(現株式会社ROXX)を創業。ROXXではCOOとして経営
 管理業務を全て担いながら、新規事業責任者として「a
 gent bank」の立ち上げを実行。二年でMRR数千万円のSaaS事
 業を立ち上げる。2019年7月よりオンライン完結のリフ
 ァレンスチェックサービス「back check」の事業責任者と
 して事業立ち上げを担っている。\n\n\n高谷 匠\nHeaR株式
 会社/COO\n大学卒業後、リクルートに新卒入社。ゼクシ
 ィの事業部に配属し、結婚式場やホテルの婚礼事業の
 プロモーション領域におけるコンサルティングを実施
 。2019年5月、HeaR株式会社に3人目正社員としてジョイン
 。現在はCOOとして、主に採用コンサルティング事業の
 牽引を担当。\n\n参加対象\n\n企業の人事・採用担当者\n
 \n参加費\n無料\n注意事項\n\n所属企業が確認できない場
 合、ご参加をお断りさせていただくことがあります\n
 同企業で複数名ご参加いただく場合、お一人様ずつの
 お申し込みをお願いします\nお申し込み後、キャンセ
 ルされる場合は事前にご連絡をお願いします\n競合他
 社様のご参加はお断りさせていただきます\nセミナー
 の内容は予告なく変更となる場合がございます\n
LOCATION:オンライン
URL:https://techplay.jp/event/816527?utm_medium=referral&utm_source=ics&utm
 _campaign=ics
END:VEVENT
END:VCALENDAR
