BEGIN:VCALENDAR
VERSION:2.0
PRODID:-//https://techplay.jp//JP
CALSCALE:GREGORIAN
METHOD:PUBLISH
X-WR-CALDESC:Kernel/VM探検隊online part3
X-WR-CALNAME:Kernel/VM探検隊online part3
X-WR-TIMEZONE:Asia/Tokyo
BEGIN:VTIMEZONE
TZID:Asia/Tokyo
BEGIN:STANDARD
DTSTART:19700101T000000
TZOFFSETFROM:+0900
TZOFFSETTO:+0900
TZNAME:JST
END:STANDARD
END:VTIMEZONE
BEGIN:VEVENT
UID:816633@techplay.jp
SUMMARY:Kernel/VM探検隊online part3
DTSTART;TZID=Asia/Tokyo:20210710T133000
DTEND;TZID=Asia/Tokyo:20210710T183000
DTSTAMP:20260425T173105Z
CREATED:20210430T211933Z
DESCRIPTION:イベント詳細はこちら\nhttps://techplay.jp/event/81663
 3?utm_medium=referral&utm_source=ics&utm_campaign=ics\n\nイベント概
 要\nカーネルやVM、およびその他なんでもIT技術の話題
 ジャンルについて誰でも何でも発表してワイワイ盛り
 上がろうという会です。ジャンルの指定は特にありま
 せん． 楽しければ何でもOK です．詳しい内容や，過去
 の発表についてはHPを参照してください．\nhttp://www.kern
 elvm.org/\nたとえばLinux・*BSD・Plan9・Windowsなどの各種OSの
 デベロッパー/ヘビーユーザー，セキュリティ界隈の方
 々，競技プログラミング方面や難読化プログラミング
 が趣味な方，VMMの研究者の方，社宅でBGP組みたい方，
 などなど様々な分野で御活躍中の方々に幅広くご参加
 頂いております。(公式ページより引用)\nイベント会場
 は電子空間です。参加登録なしでも配信URLにさえアク
 セスすれば誰にでも見られますし、録画したものを後
 から参照できるようにもする予定です。\nタイムテー
 ブル\n\n\n\n発表者\nタイトル\n時刻\n発表時間(質疑応答
 含む)\n\n\n\n\n@nekomatu\nオープニング\n13:30\n5分\n\n\n@retrage
 \nPractical Rust (Hypervisor) Firmware\n13:35\n35分 (メイン)\n\n\nsat
 oru_takeuchi @sat\n無限ストレージ\n14:11\n10分 (LT)\n\n\n@mumumu_
 vm\nC言語プログラムの構造とほんの少しだけ解釈\n14:22\
 n10分(LT)\n\n\n---\n休憩\n14:32-14:44\n12分\n\n\n@Fadis\nL2 WireGuard
 \n14:45\n22分(LT)\n\n\n@Mach0xFF\nApple Siliconn HVF\n15:10\n10分(LT)\n
 \n\n---\n休憩\n15:22 - 15:39\n17分\n\n\nt-imada\nUnikernels\, MirageOS
  & Solo5\n15:40\n35分 (メイン)\n\n\n@orumin\nむかしの RISC、む
 かしの Unix\n16:16\n10分(LT)\n\n\n---\n休憩\n16:27 - 16:39\n12分\n
 \n\nuchan\nセルフホストなOSと言語処理系を作るプロジェ
 クト メインスロットNo.3\n16:40\n35分 (メイン)\n\n\n@mzyy94\n
 未定\n17:16\n10分(LT)\n\n\n@nullpo_head\nSystemdのWSLディストロ
 を作る(仮)\n17:27\n15分(LT)\n\n\nnekomatu\nクロージング\n18:26
 \n5分\n\n\n\n\nメインスロットは5分の質疑応答時間があ
 ります。\nライトニングトークは質疑応答時間はあり
 ません。\n発表枠が溢れていても、興味があれば登録
 ください。調整の検討にします。\n\n配信URL\nhttps://youtu
 .be/ewplqJhG4CE\n質問のあるかたはtwitterに #kernelvm タグを
 使って質問とわかるように書き込んでいただくと、セ
 ッション後に時間があれば回答いたします。\nアンケ
 ート\n（ここにGoogleFormのURLが貼られるかもしれない）\
 n19時過ぎにtwitterの@kernelvm垢で結果をつぶやきます か
 もしれません。\n備考\n質問事項などありましたら主催
 者までconnpass機能でご連絡ください。本ページのコメ
 ント欄に書いてくれても構いません。たとえば「発表
 したいものの既に枠が埋まっているのでなんとかなら
 ないか」、「持ち時間を変更してほしいんだけど」、
 などです。\n発表者には「資料の公開」をお願いして
 います。
LOCATION:オンライン オンライン
URL:https://techplay.jp/event/816633?utm_medium=referral&utm_source=ics&utm
 _campaign=ics
END:VEVENT
END:VCALENDAR
