BEGIN:VCALENDAR
VERSION:2.0
PRODID:-//https://techplay.jp//JP
CALSCALE:GREGORIAN
METHOD:PUBLISH
X-WR-CALDESC:RubyとRailsを学習されている方限定
X-WR-CALNAME:RubyとRailsを学習されている方限定
X-WR-TIMEZONE:Asia/Tokyo
BEGIN:VTIMEZONE
TZID:Asia/Tokyo
BEGIN:STANDARD
DTSTART:19700101T000000
TZOFFSETFROM:+0900
TZOFFSETTO:+0900
TZNAME:JST
END:STANDARD
END:VTIMEZONE
BEGIN:VEVENT
UID:816666@techplay.jp
SUMMARY:RubyとRailsを学習されている方限定
DTSTART;TZID=Asia/Tokyo:20210504T080000
DTEND;TZID=Asia/Tokyo:20210504T100000
DTSTAMP:20260420T094230Z
CREATED:20210501T141249Z
DESCRIPTION:イベント詳細はこちら\nhttps://techplay.jp/event/81666
 6?utm_medium=referral&utm_source=ics&utm_campaign=ics\n\nはじめまし
 て！さとうです。\nお互い分からない事や情報交換出
 来る場を作りたいと思い、開催しようと思いました。R
 ubyとRailsを学習されている方でしたらどなたでも歓迎
 します。ご応募お待ちしております。\n当日はDiscordを
 使います。\nSlackとDiscordのインストールは事前にお願
 いします。
LOCATION:オンライン
URL:https://techplay.jp/event/816666?utm_medium=referral&utm_source=ics&utm
 _campaign=ics
END:VEVENT
END:VCALENDAR
