BEGIN:VCALENDAR
VERSION:2.0
PRODID:-//https://techplay.jp//JP
CALSCALE:GREGORIAN
METHOD:PUBLISH
X-WR-CALDESC:【Web勉強会】AWS・Azure・GCPの資格と学び始め方
X-WR-CALNAME:【Web勉強会】AWS・Azure・GCPの資格と学び始め方
X-WR-TIMEZONE:Asia/Tokyo
BEGIN:VTIMEZONE
TZID:Asia/Tokyo
BEGIN:STANDARD
DTSTART:19700101T000000
TZOFFSETFROM:+0900
TZOFFSETTO:+0900
TZNAME:JST
END:STANDARD
END:VTIMEZONE
BEGIN:VEVENT
UID:816727@techplay.jp
SUMMARY:【Web勉強会】AWS・Azure・GCPの資格と学び始め方
DTSTART;TZID=Asia/Tokyo:20210516T150000
DTEND;TZID=Asia/Tokyo:20210516T160000
DTSTAMP:20260426T005923Z
CREATED:20210502T141330Z
DESCRIPTION:イベント詳細はこちら\nhttps://techplay.jp/event/81672
 7?utm_medium=referral&utm_source=ics&utm_campaign=ics\n\nイベント概
 要\nクラウドに興味がある初学者の疑問を解消し、一
 緒にクラウドを学んでいきたいと考えています。\n今
 回はAWS、Azure、GCPの資格を紹介し、初学者にお勧めの
 資格やクラウドを学び始める学習方法を解説します。\
 n本セッションでは以下についてお伝えします。\n・資
 格に対する考え方とは？\n・AWS、Azure、GCPそれぞれどの
 ような資格があるの？\n・初学者にお勧めの資格はあ
 る？\n・どのようにクラウドを学び始めると良いの？\n
 クラウドを学び始めたいあなたのご参加をお待ちして
 います！\nまた、本勉強会はYoutube Liveを通じて実施し
 ます。\n実施日前日(5月15日[土])と当日の開始30分前にco
 nnpassより閲覧用URLを送付しますので、ご認識のほどお
 願いします。\n今後「IT情報メディア いっとねっと。
 」チャンネルにて、IT関連の幅広い情報発信を行なっ
 ていきますので、\n是非チャンネル登録もよろしくお
 願いします。\nhttps://www.youtube.com/channel/UCp-skFt5HDia_YBxGdHH
 pJA?guided_help_flow=3\nAgenda\n・自己紹介\n・資格に対する考
 え方\n・AWS、Azure、GCPの資格\n・クラウドの学び始め方\
 n・質疑応答\nこんな方にオススメ\n・クラウドに興味
 がある方\n・これからクラウドエンジニアになりたい
 方\n・クラウド資格を取ろう！と決めたものの学び始
 め方がわからない方\n・クラウドを学び始めたばかり
 の方\nSpeaker Profile\nあずきつね \n2018年に新卒で中堅プ
 ライムSIerに入社し、AzureとAWSを扱う設計、構築、テク
 ニカルサポートを担当。\n社内での実績を積むことで
 、Azure移行案件のAzureチームリーダーとして顧客折衝や
 課題管理を経験。\nAzureとAWSの経験を生かし、社会人2
 年目で外資系大手IT企業3社から内定を得て転職。\n転
 職後はAzure設計構築案件にて技術力を評価され、自身
 の担当案件を進めつつ他案件のAzure技術支援を実施。\n
 その後はマルチクラウド推進案件にてお客さんのAWS、A
 zure、GCP活用を支援し、顧客折衝と課題管理、技術支援
 を担当。\nAzure、AWS、GCPの資格を保有。\n・AZ-103: Microsof
 t Certified Azure Administrator Associate\n・AZ-900: Microsoft Azure Fun
 damentals\n・AWS Certified Solutions Architect Associate\n・Google Clou
 d Certified Associate Cloud Engineer\nTwitter：あずきつね\nのな
 めしゃちょー CCIE#58xxx \n2015年新卒として某Slerに入社し
 、ネットワークエンジニアとしてのキャリアパスが始
 まる。\n未経験での入社であったため当初はIPアドレス
 すら理解できていない状態であったが、\n自己学習に
 よりCCNA、CCNPと取得し、2018年2月にはCCIE Routing and Switchi
 ngを取得。\n現在は自身の経験を活かし、ネットワーク
 エンジニアの魅力を伝えるべく勉強会やブログ運営な
 ど様々な活動を行っている。\nブログ：いっとねっと
 。\nお問い合わせ\n何かございましたら以下までお気軽
 にご連絡ください。\ns.okada@it-networking.jp
LOCATION:Youtube Live オンライン
URL:https://techplay.jp/event/816727?utm_medium=referral&utm_source=ics&utm
 _campaign=ics
END:VEVENT
END:VCALENDAR
