BEGIN:VCALENDAR
VERSION:2.0
PRODID:-//https://techplay.jp//JP
CALSCALE:GREGORIAN
METHOD:PUBLISH
X-WR-CALDESC:【Udemy人気講師】技術力に自信がなかった私が
 ここまでやってこれたマインドを伝授します
X-WR-CALNAME:【Udemy人気講師】技術力に自信がなかった私が
 ここまでやってこれたマインドを伝授します
X-WR-TIMEZONE:Asia/Tokyo
BEGIN:VTIMEZONE
TZID:Asia/Tokyo
BEGIN:STANDARD
DTSTART:19700101T000000
TZOFFSETFROM:+0900
TZOFFSETTO:+0900
TZNAME:JST
END:STANDARD
END:VTIMEZONE
BEGIN:VEVENT
UID:816808@techplay.jp
SUMMARY:【Udemy人気講師】技術力に自信がなかった私がこ
 こまでやってこれたマインドを伝授します
DTSTART;TZID=Asia/Tokyo:20210513T210000
DTEND;TZID=Asia/Tokyo:20210513T223000
DTSTAMP:20260423T073803Z
CREATED:20210504T141152Z
DESCRIPTION:イベント詳細はこちら\nhttps://techplay.jp/event/81680
 8?utm_medium=referral&utm_source=ics&utm_campaign=ics\n\n【Udemy人気
 講師】技術力に自信がなかった私がここまでやってこ
 れたマインドを伝授します\n本イベントはプログラミ
 ングスクールの「RaiseTech」とエンジニア転職コミュニ
 ティ「転職クエスト」の合同開催イベントとなってお
 ります。  \n今回の【Udemy人気講師】技術力に自信がな
 かった私がここまでやってこれたマインド&相談会とは
 ？\n今回はUdemyでもReactの講座を配信したり、フリーラ
 ンスとして活躍した後に起業したじゃけぇさんに登壇
 していただきます！\n自己紹介\n名前　じゃけぇ (Takumi 
 Okada)\nSIerで基幹システム等を経験した後、フリーラン
 スとして独立。\n「ユーザーの目に触れる部分の開発
 」に魅力を感じ、フロントエンド周りの技術を軸にプ
 ロダクト開発、カイゼンを支援。\nその後2020年に株式
 会社Reach Scriptを設立。ペット系の自社サービス開発に
 取り組む。\n関西で若手エンジニア、デザイナーのた
 めのコミュニティである「ノーマウント勉強会」を主
 催\n講座内容\n現在はエンジニアだけでなく、6月から
 エンジニアリングスクール"RaiseTech"でフロントエンド
 コースの講師もされています。\n今回はエンジニアに
 転職した際に、これからよりキャリアアップしていく
 ために絶対に意識しておきたいTipsを自身の経験を交え
 て講義形式でお伝えするイベントとなっております。\
 nまた講義後にはゲストのじゃけぇさんに直接質問でき
 る質疑応答の時間もあります！  \nこのイベントに参加
 するメリットはこちら。\n・実際にエンジニア就職し
 た人からリアルな情報を聞ける\n・エンジニアの今後
 のキャリアアップにおけるお悩み相談ができる\n・学
 習のモチベーションが上がる\nなど\nあなたのマインド
 ・行動次第では\n上記のメリット以上のものを手に入
 れられるかも！？  \n今回はフリーランス兼RaiseTech講師
 である「じゃけぇさん」が実際に自身のキャリアで実
 行した考え方を共有していきます。\nエンジニアに関
 する質問等、なんでも聞いてください！  \nエンジニア
 になるべく勉強を始めた方、これから転職活動を考え
 ている方、参加OKです！\n学習する言語の縛りもありま
 せん！様々な思いを持った方と話しをして刺激し合え
 る会になればいいなと思います。  \n今回の登壇者\n ※
 登壇者のじゃけぇさん（Twitter：https://twitter.com/bb_ja_k）
 \nじゃけぇさんの公式HP(https://freelance-jak.com/)\n ※主催
 者の長岡ゆーき（Twitter：https://twitter.com/freepc_yuki）\n 
 ※主催者のRaiseTech（Twitter：https://twitter.com/RaiseTech_Info
 ）  \nタイムテーブル\n\n\n\nスケジュール\n内容\n\n\n\n\n2
 1:00\n開場\n\n\n21:05\n自己紹介\n\n\n21:10\n【Udemy人気講師】
 技術力に自信がなかった私がここまでやってこれたマ
 インドを伝授します\n\n\n22:00\n質疑応答＆就活相談会\n\
 n\n22:30\nイベント終了\n\n\n\n実施方法について\nZOOMを用
 いてオンライン開催とさせていただきます。\nイベン
 ト開催前に参加希望者に対してZOOMの参加URLを共有させ
 ていただきます。\n参加方法で不明点がある方は主催
 者の長岡ゆーきのTwitterのDMにご連絡ください。  \n禁止
 事項にご理解・ご協力ください\nハラスメント、暴力
 行為、勧誘、マウントなど、他の参加者が不快になる
 ような行為は禁止します。 \nSNSへの投稿は自由です
 が、写真・動画投稿時の顔出し可否の確認など、プラ
 イバシーへのご配慮をお願いいたします。\n 一緒に
 楽しく学び、繋がれる環境を創っていきましょう！  \n
 最後に\n同じ境遇の仲間がいたり、前向きに頑張って
 いる人と話しをすると、自分もやる気が出てきて頑張
 れるんですよね！ \nイベントに参加された事が無い
 方にとっては少し敷居が高く感じられると思いますが
 、せっかくの機会ですので一歩踏み出してみてはいか
 がでしょうか！ \nあなたの参加を心待ちにしていま
 す！
LOCATION:Zoomによるオンライン参加
URL:https://techplay.jp/event/816808?utm_medium=referral&utm_source=ics&utm
 _campaign=ics
END:VEVENT
END:VCALENDAR
