BEGIN:VCALENDAR
VERSION:2.0
PRODID:-//https://techplay.jp//JP
CALSCALE:GREGORIAN
METHOD:PUBLISH
X-WR-CALDESC:ゆるゆるオンラインもくもく会 #9
X-WR-CALNAME:ゆるゆるオンラインもくもく会 #9
X-WR-TIMEZONE:Asia/Tokyo
BEGIN:VTIMEZONE
TZID:Asia/Tokyo
BEGIN:STANDARD
DTSTART:19700101T000000
TZOFFSETFROM:+0900
TZOFFSETTO:+0900
TZNAME:JST
END:STANDARD
END:VTIMEZONE
BEGIN:VEVENT
UID:816811@techplay.jp
SUMMARY:ゆるゆるオンラインもくもく会 #9
DTSTART;TZID=Asia/Tokyo:20210515T090000
DTEND;TZID=Asia/Tokyo:20210515T120000
DTSTAMP:20260423T113215Z
CREATED:20210504T141304Z
DESCRIPTION:イベント詳細はこちら\nhttps://techplay.jp/event/81681
 1?utm_medium=referral&utm_source=ics&utm_campaign=ics\n\n概要\nオン
 ラインで朝のもくもく会を開催していきます。\n【も
 くもく会って？】\n主にプログラミングを勉強する目
 的で、複数人が集まって各自「黙々」と作業をするイ
 ベントのことを指しますとのことですが、テーマをプ
 ログラミングに限らずゆるくやっていけたらなと思っ
 ています。\nテーマ\nさっきも書きましたが原則自由で
 す。そして応用もまた自由です。やりたいことを好き
 なだけやりたいです。\n作業の時間にも、読書の時間
 にも、学習の時間でも、ブログの時間でも好きにやり
 ましょう。\n会場\nZoomを利用しようと考えています\nhtt
 ps://us04web.zoom.us/j/8703579537?pwd=Z2tWL1hZUW5yOVhTMW5SOEdhazFjUT09\n
 当日5分くらい前から部屋を解放しております\n参加費\
 n無料\nもくもく会の流れ\n①  9：00〜　簡単な自己紹介
 と今日やることを宣言（1人1〜2分程度）\n②  9：15〜　
 もくもく作業（Zoom中は基本音声なしでチャットのみで
 の会話あり）\n③12：00〜　成果の発表（1人1〜2分程度
 ）\n④なにかしらの雑談？\n留意点\n・ビデオオフ：可\
 n・音声オフ　：可\n・ただいる　：可\n・途中参加　
 ：可\n・途中退出　：可\n最小開催人数\n1人\n主催者に
 ついて\nいなむらてっぺい\n34歳でエンジニアになろう
 と決意して、未経験からの転職成功を果たす\nテレビ
 局勤め〜塾の講師〜建築の営業・現場監理とジョブホ
 ッパーながら遊びながらここまでに至る\n駆け出しAWS
 エンジニア歴2ヶ月ですが、やりたいと思ったことはや
 ってみるのです。\nTwitter\nhttps://twitter.com/t9z_a\nLinktree\nh
 ttps://linktr.ee/tetutetu214
LOCATION:Zoom オンライン
URL:https://techplay.jp/event/816811?utm_medium=referral&utm_source=ics&utm
 _campaign=ics
END:VEVENT
END:VCALENDAR
