BEGIN:VCALENDAR
VERSION:2.0
PRODID:-//https://techplay.jp//JP
CALSCALE:GREGORIAN
METHOD:PUBLISH
X-WR-CALDESC:【連載】SEOノウハウ！基礎からテクニカルな
 内容までまるわかり！
X-WR-CALNAME:【連載】SEOノウハウ！基礎からテクニカルな
 内容までまるわかり！
X-WR-TIMEZONE:Asia/Tokyo
BEGIN:VTIMEZONE
TZID:Asia/Tokyo
BEGIN:STANDARD
DTSTART:19700101T000000
TZOFFSETFROM:+0900
TZOFFSETTO:+0900
TZNAME:JST
END:STANDARD
END:VTIMEZONE
BEGIN:VEVENT
UID:817520@techplay.jp
SUMMARY:【連載】SEOノウハウ！基礎からテクニカルな内容
 までまるわかり！
DTSTART;TZID=Asia/Tokyo:20210518T110000
DTEND;TZID=Asia/Tokyo:20210525T120000
DTSTAMP:20260425T105420Z
CREATED:20210511T070413Z
DESCRIPTION:イベント詳細はこちら\nhttps://techplay.jp/event/81752
 0?utm_medium=referral&utm_source=ics&utm_campaign=ics\n\n\n【連載】SE
 O記事の書き方！キーワードの選び方から書き方までま
 るわかり！\n連載1回目は基礎的なSEOについて、より理
 解を深められる回となっております。連載2回目はサイ
 ト構造の作り方について解説致します。\n▼こんな方
 にオススメです！・これからSEO対策に取り組むご担当
 者様・SEOを学び直したいご担当者様・サイト構造に関
 して、理解を深めたいご担当者様\n▼ウェビナー内容
 【連載1回目】　・SEO難易度が高すぎるキーワード・検
 索Volが少ない・無いキーワード・検索意図を汲み取れ
 ていない・Googleにインデックスされていない・手動対
 策がかかっている\n【連載2回目】・Webサイト構造を作
 る上での考え方・ユーザーの流れを考慮した導線とは
 ・「ユーザーファースト」のサイトの作り方・キーワ
 ードの選定の観点 ・SEOアクセスの増やし方\n▼ウェビ
 ナー開催概要・開催日時【連載1回目】2021年5月18日（
 火）11:00～12:00【連載2回目】2021年5月25日（火）11:00～12
 :00\n・参加費無料\n・開催方法ウェビナー　※Zoomを利
 用します\n・参加方法お申込後に、別途担当者よりメ
 ールにてご案内致します。\n▼タイムスケジュール11:58
 〜　　　　視聴用URL開場12:00〜12:40     ウェビナー本
 編12:40〜13:00     質疑応答・アンケート回答　※質問
 がなくなり次第終了※ 当日予告なく時間配分・内容が
 変更になる可能性がございます。\n▼講師紹介尾崎　
 篤志株式会社CINCコンサルタント\n赤須　椋株式会社CINC
 \n▼注意事項競合他社/同業者/企業にご所属でない個人
 の方からのお申込みなど、 当社の判断によりセミナー
 参加をお断りする場合があります。予めご了承くださ
 い。
LOCATION:オンラインセミナー
URL:https://techplay.jp/event/817520?utm_medium=referral&utm_source=ics&utm
 _campaign=ics
END:VEVENT
END:VCALENDAR
