BEGIN:VCALENDAR
VERSION:2.0
PRODID:-//https://techplay.jp//JP
CALSCALE:GREGORIAN
METHOD:PUBLISH
X-WR-CALDESC:普遍的そして実践的！ ノンデザイナーのため
 のデザイン原論 【WESEEK Tech Conf #5】
X-WR-CALNAME:普遍的そして実践的！ ノンデザイナーのため
 のデザイン原論 【WESEEK Tech Conf #5】
X-WR-TIMEZONE:Asia/Tokyo
BEGIN:VTIMEZONE
TZID:Asia/Tokyo
BEGIN:STANDARD
DTSTART:19700101T000000
TZOFFSETFROM:+0900
TZOFFSETTO:+0900
TZNAME:JST
END:STANDARD
END:VTIMEZONE
BEGIN:VEVENT
UID:818596@techplay.jp
SUMMARY:普遍的そして実践的！ ノンデザイナーのためのデ
 ザイン原論 【WESEEK Tech Conf #5】
DTSTART;TZID=Asia/Tokyo:20210610T190000
DTEND;TZID=Asia/Tokyo:20210610T200000
DTSTAMP:20260422T103227Z
CREATED:20210521T014444Z
DESCRIPTION:イベント詳細はこちら\nhttps://techplay.jp/event/81859
 6?utm_medium=referral&utm_source=ics&utm_campaign=ics\n\nイベント概
 要\nWESEEK Tech Conferenceは、株式会社WESEEKが主催するエン
 ジニア向けの勉強会です。月に2回ほど、WESEEKに所属す
 るエンジニアが様々なテーマで発表を行う予定です。\
 n先日、弊社が開発するSaaS型社内wiki・ナレッジベースG
 ROWI.cloudの法人向け新プランが公開され、公式サイトの
 デザインも一新されました。そこで、今回のWESEEK Tech C
 onferenceは特別編として、GROWI.cloudの新サイトデザイン
 を手掛けられたCOSMORENA\, Inc.代表の時空デザイナー形部
 さんが登場！\nエンジニアをはじめとするデザイナー
 ではない皆さんに向けて、実践的なデザイン理論につ
 いて熱く語ってくださいます。\n本イベントはconnpassと
 peatixで同時に公開を行っております。\n※ 本イベント
 ではZoomを用いて発表を行います。Zoomへの参加URL・パ
 スワードは当日通知いたします。イベントの模様は社
 内への共有のために録画をさせていただきます。社外
 への動画の公開は行いません。\nタイムテーブル\n\n\n\n
 時間\nタイトル\nスピーカー\n\n\n\n\n19:00-19:05\nオープニ
 ング\n太田 綾香\n\n\n19:05-19:40\n普遍的そして実践的！ 
 ノンデザイナーのためのデザイン原論\n形部 秀\n\n\n19:4
 0-19:50\n質疑応答\n\n\n\n\n発表概要\n普遍的そして実践的
 ！ ノンデザイナーのためのデザイン原論\n登壇者プロ
 フィール\n形部 秀\nCOSMORENA\, Inc. / 時空デザイナー\n武
 蔵野美術大学在学中にスマホ向けゲームでUnity/UI/サウ
 ンドなど多方面で活躍後、AIベンチャーへ新卒で入社
 。フロント開発やデザイン業務に従事する傍らで、CG
 アニメーターとしてアニメ制作を経験し、けものフレ
 ンズ2では時空デザイナーとして参加。2020年にクリエ
 イティブカンパニー"COSMORENA\, Inc."を設立し、様々な人
 を巻き込みながらクリエイティブを加速させている。\
 n株式会社WESEEKについて\n株式会社WESEEKは、システム開
 発のプロフェッショナル集団です。\nUIデザインからサ
 ービス運用のためのネットワーク・インフラ構築まで
 、すべて自社で開発を行っています。受託開発や自社
 サービス開発など、幅広いプロジェクトに取り組んで
 きました。\n【現在の主な事業】\n1:通信大手企業の業
 務フロー自動化プロジェクト\n2:ソーシャルゲームの受
 託開発\n3:自社発オープンソースプロダクト「GROWI」「G
 ROWI.cloud」の開発\nGROWI\nGROWIは、Markdown記法でページを
 記述できるオープンソースのWikiシステムです。\n【主
 な特徴】\n\nテキストも図表もどんどん書ける、強力な
 編集機能\nチーム拡大に迅速に対応できる管理者向け
 機能を提供\n充実した機能・サポートでエンタープラ
 イズにも対応\n\nGROWI.cloud\nGROWI.cloudはOSSのGROWIを専門的
 知識がなくても簡単に運用・管理できる、法人・個人
 向けの商用サービスです。\n大手Sier・ISPから中小企業
 ・大学などの教育機関まで幅広くご利用いただき、さ
 らに個人や大学サークルでもご利用いただいています
 。\n導入事例記事\nインターネットマルチフィード株式
 会社様\n株式会社HIKKY（VR法人HIKKY）様\n一緒に働く仲間
 を募集しています\n東京の高田馬場オフィス、大分に
 ある別府サテライトオフィスにてエンジニアを募集し
 ております。中途採用だけではなく、インターンシッ
 プも積極的に受け入れています！\n詳しい募集要項は
 、弊社HPの採用ページからご確認ください。\nアンチハ
 ラスメントポリシー\n弊社が主催・運営をするイベン
 トでは、アンチハラスメントポリシーを定めています
 。\nイベントに参加される場合は、こちらの規範を遵
 守していただきますようお願いいたします。\nアンチ
 ハラスメントポリシー\nまた、下記の目的での参加は
 ご遠慮ください。・採用、営業目的
LOCATION:オンライン
URL:https://techplay.jp/event/818596?utm_medium=referral&utm_source=ics&utm
 _campaign=ics
END:VEVENT
END:VCALENDAR
