BEGIN:VCALENDAR
VERSION:2.0
PRODID:-//https://techplay.jp//JP
CALSCALE:GREGORIAN
METHOD:PUBLISH
X-WR-CALDESC:脱Excel! テスト管理を学ぶハンズオンセミナー
X-WR-CALNAME:脱Excel! テスト管理を学ぶハンズオンセミナー
X-WR-TIMEZONE:Asia/Tokyo
BEGIN:VTIMEZONE
TZID:Asia/Tokyo
BEGIN:STANDARD
DTSTART:19700101T000000
TZOFFSETFROM:+0900
TZOFFSETTO:+0900
TZNAME:JST
END:STANDARD
END:VTIMEZONE
BEGIN:VEVENT
UID:818808@techplay.jp
SUMMARY:脱Excel! テスト管理を学ぶハンズオンセミナー
DTSTART;TZID=Asia/Tokyo:20210610T150000
DTEND;TZID=Asia/Tokyo:20210610T170000
DTSTAMP:20260420T144011Z
CREATED:20210523T063217Z
DESCRIPTION:イベント詳細はこちら\nhttps://techplay.jp/event/81880
 8?utm_medium=referral&utm_source=ics&utm_campaign=ics\n\n脱Excel! テス
 ト管理を学ぶハンズオンセミナー | テクマトリックス
 株式会社\n⇒セミナーの申し込みは、主催者のサイト
 から申し込みとなります。 こちらクリック\n概要\n本
 セミナーでは、世界で250\,000ユーザーが使用している
 テスト管理ツール「TestRail」をハンズオン形式で学び
 ます。弊社のデモ環境を利用し講師の説明やテキスト
 を見ながら、テストケースの作成や結果、レポートの
 表示など基本操作を体験いただけます。\n** テスト管
 理ツール「TestRail」とは**テストケース、テスト結果、
 進捗状況、不具合の検出状況など、テストに係わるさ
 まざまな ”管理すべき” ものをシンプルに、快適に
 、かつ効率的に管理するツールです。\nTestRailにご興味
 のある方はもちろんのこと、テスト管理ツールにご興
 味のある方も、ぜひご参加ください。\n※ 当日予告な
 く時間配分・内容が変更になる可能性がございます。\
 n会場\n\nZoomを利用したWEBセミナーとなります。\nご体
 験いただく操作環境はセミナーの3営業日前までにご案
 内致します。\n\n\nアジェンダ\n1. TestRailの概要説明\n2. 
 テストケースの作成\n3. テスト結果の登録\n4. レポート
 \n5. その他便利機能\n6. 質疑応答\n\n\n想定受講者\n\nExcel
 を使って下記のテスト業務を行っている\n\nテストケー
 スの作成\nテスト結果の記録\nテスト結果の集計\n\n\nテ
 ストエビデンス(画像ファイル等)の共有に課題を感じ
 ている\nテストの進捗状況を把握することに課題を感
 じている\nテスト結果のレポート作成・分析工数が面
 倒だと感じている\n\n受講料\n\n無料\n\nお問い合わせ\n\n
 テクマトリックス株式会社　ソフトウェアエンジニア
 リング事業部\n\n「TestRail」公式サイト
LOCATION:WEBセミナー
URL:https://techplay.jp/event/818808?utm_medium=referral&utm_source=ics&utm
 _campaign=ics
END:VEVENT
END:VCALENDAR
