BEGIN:VCALENDAR
VERSION:2.0
PRODID:-//https://techplay.jp//JP
CALSCALE:GREGORIAN
METHOD:PUBLISH
X-WR-CALDESC:【受付中】オンラインMatterport製品説明会（無
 料）
X-WR-CALNAME:【受付中】オンラインMatterport製品説明会（無
 料）
X-WR-TIMEZONE:Asia/Tokyo
BEGIN:VTIMEZONE
TZID:Asia/Tokyo
BEGIN:STANDARD
DTSTART:19700101T000000
TZOFFSETFROM:+0900
TZOFFSETTO:+0900
TZNAME:JST
END:STANDARD
END:VTIMEZONE
BEGIN:VEVENT
UID:819272@techplay.jp
SUMMARY:【受付中】オンラインMatterport製品説明会（無料）
DTSTART;TZID=Asia/Tokyo:20210602T110000
DTEND;TZID=Asia/Tokyo:20210602T120000
DTSTAMP:20260422T025522Z
CREATED:20210526T224755Z
DESCRIPTION:イベント詳細はこちら\nhttps://techplay.jp/event/81927
 2?utm_medium=referral&utm_source=ics&utm_campaign=ics\n\n【無料】Matt
 erport製品説明会　Matterportがどのような撮影機なのか説
 明します\n概要\n【内容】・Matterportとはどのような製
 品なのか・Matterportの特徴、活用方法、重要事項・Matter
 portの撮影～クラウド契約、その他サポートについて\n
 概要\nMatterport製品説明会をZoomウェビナーにてオンライ
 ンで行います。Matterportの導入をお考えの方は是非ご参
 加下さい。\nタイムスケジュール\n※ 当日予告なく時
 間配分・内容が変更になる可能性がございます。\n登
 壇者\n\n細谷 正広氏\nご参加をお待ちしております。\n\
 n参加対象・VR撮影機材のご購入をご検討の方・インタ
 ーネット上で展示場を作成されたい方・建設現場をVR
 で記録されたい方・不動産広告CGパース作成者・Matterpo
 rt製品をご購入をご検討中の方\n参加費\n無料\nハッシ
 ュタグ\n#techplayjp#Matterport#VR\n注意事項\n\nリクルーティ
 ング、勧誘など、採用目的でのイベント参加はお断り
 しております。\nキャンセル待ち・補欠・落選の方は
 ご参加いただくことが出来ませんのでご了承ください
 。\n欠席される場合は、お手数ですが速やかにキャン
 セル処理をお願い致します。\n無断キャンセルや欠席
 が続く場合、次回以降の参加をお断りさせていただく
 場合がございます。\n
LOCATION:オンライン
URL:https://techplay.jp/event/819272?utm_medium=referral&utm_source=ics&utm
 _campaign=ics
END:VEVENT
END:VCALENDAR
