BEGIN:VCALENDAR
VERSION:2.0
PRODID:-//https://techplay.jp//JP
CALSCALE:GREGORIAN
METHOD:PUBLISH
X-WR-CALDESC:JDLA認定　E資格の受験を検討している方向け　
 無料体験セミナー　★実際のテキスト配布特典あり！
X-WR-CALNAME:JDLA認定　E資格の受験を検討している方向け　
 無料体験セミナー　★実際のテキスト配布特典あり！
X-WR-TIMEZONE:Asia/Tokyo
BEGIN:VTIMEZONE
TZID:Asia/Tokyo
BEGIN:STANDARD
DTSTART:19700101T000000
TZOFFSETFROM:+0900
TZOFFSETTO:+0900
TZNAME:JST
END:STANDARD
END:VTIMEZONE
BEGIN:VEVENT
UID:819471@techplay.jp
SUMMARY:JDLA認定　E資格の受験を検討している方向け　無
 料体験セミナー　★実際のテキスト配布特典あり！
DTSTART;TZID=Asia/Tokyo:20210612T100000
DTEND;TZID=Asia/Tokyo:20210612T110000
DTSTAMP:20260421T210033Z
CREATED:20210528T092625Z
DESCRIPTION:イベント詳細はこちら\nhttps://techplay.jp/event/81947
 1?utm_medium=referral&utm_source=ics&utm_campaign=ics\n\nJDLA認定　E
 資格の受験を検討している方向け　無料体験セミナー\
 n概要\n本セミナーでは、JDLA認定プログラム全5回の講
 義の概要に加え、ディープラーニングに必要な数学と
 データ構造の知識を前半にご紹介します。セミナー後
 半では機械学習の最も基本である回帰について解説さ
 せていただきます。\nこれまで、JDLA認定プログラムに
 興味をお持ちの方から、\n「認定プログラムを受講す
 るにはどのくらいの数学の知識が必要ですか？」「受
 講するにあたり、どのような準備を行えばよいのです
 か？」\nといったご質問を多数いただいております。\n
 本セミナーを受講していただくと、JDLAが実施するE資
 格のレベル感に触れることができ、上記のような不安
 を解消することができます。\nその上で、実際に認定
 プログラムを受講してE資格にチャレンジするかどうか
 をご判断いただきたいと思いで、今回の無料体験セミ
 ナーを企画させていただきました。\n途中での入退出
 も可能ですので、ぜひ気軽にご参加ください。\n★今
 回のセミナーにお申し込みをいただいた方全員に、弊
 社の講座　「基礎から学ぶディープラーニング」で実
 際に使用している　テキスト(一部抜粋)を配布いたし
 ます！！\n★今回のセミナーに参加され、アンケート
 に答えてくださった方には　6月16日および7月5日から
 開講される認定プログラムの第一日目の受講が　無料
 でできるクーポンをお渡しします。　それを利用して
 いただくことで、実際の講義を受けた上で正式に受講
 するかどうかを　選択することができます。\n※2021年6
 月1日(火)に開催のものと同内容です。▽日程が合わな
 い方はこちら6月 9日(水) 19:30 https://techplay.jp/event/8194696
 月18日(金) 19:30 https://techplay.jp/event/819473\nタイムスケジ
 ュール\n\n\n\n時間\n内容\n\n\n\n\n9:55〜\n受付開始\n\n\n10:00
 〜10:05\nテクノブレーンが運営している認定プログラム
 のスケジュールや特徴、割引キャンペーンの内容につ
 いて\n\n\n10:05〜10:55\n講義パート平原健太(株式会社RUTILE
 A)-ディープラーニングに必要な数学とデータ構造-回帰
 について\n\n\n10:55〜11:00\nQ&A\n\n\n11:00\n終了\n\n\n\n※ 当日
 予告なく時間配分・内容が変更になる可能性がござい
 ます。\n登壇者\n平原 健太株式会社RUTILEA\n京都大学総
 合人間学部総合人間学科卒業、その後再受験で京都大
 学工学部電気電子工学科入学、現在同学科在学中。\n
 専門は宇宙プラズマの計算機シミュレーション。塾・
 予備校講師経験を持つ。\n2020年1月のE資格講座を担当
 の実績あり。\n\n\n参加対象\n\nJDLA認定プログラムの受
 講を考えている方\n\n参加費\n無料\n注意事項\n\nリクル
 ーティング、勧誘など、採用目的でのイベント参加は
 お断りしております。\nキャンセル待ち・補欠・落選
 の方はご参加いただくことが出来ませんのでご了承く
 ださい。\n欠席される場合は、お手数ですが速やかに
 キャンセル処理をお願い致します。\n無断キャンセル
 や欠席が続く場合、次回以降の参加をお断りさせてい
 ただく場合がございます。\n
LOCATION:オンライン
URL:https://techplay.jp/event/819471?utm_medium=referral&utm_source=ics&utm
 _campaign=ics
END:VEVENT
END:VCALENDAR
