BEGIN:VCALENDAR
VERSION:2.0
PRODID:-//https://techplay.jp//JP
CALSCALE:GREGORIAN
METHOD:PUBLISH
X-WR-CALDESC:【第１2回】フリーランスのエンジニアに興味
 のある方に、フリーランスについて知っていただき、
 今後の皆さんの活動の「参考」「きっかけ」にしてい
 ただく会【2021/6/26 14:00 in 渋谷】
X-WR-CALNAME:【第１2回】フリーランスのエンジニアに興味
 のある方に、フリーランスについて知っていただき、
 今後の皆さんの活動の「参考」「きっかけ」にしてい
 ただく会【2021/6/26 14:00 in 渋谷】
X-WR-TIMEZONE:Asia/Tokyo
BEGIN:VTIMEZONE
TZID:Asia/Tokyo
BEGIN:STANDARD
DTSTART:19700101T000000
TZOFFSETFROM:+0900
TZOFFSETTO:+0900
TZNAME:JST
END:STANDARD
END:VTIMEZONE
BEGIN:VEVENT
UID:819518@techplay.jp
SUMMARY:【第１2回】フリーランスのエンジニアに興味のあ
 る方に、フリーランスについて知っていただき、今後
 の皆さんの活動の「参考」「きっかけ」にしていただ
 く会【2021/6/26 14:00 in 渋谷】
DTSTART;TZID=Asia/Tokyo:20210626T140000
DTEND;TZID=Asia/Tokyo:20210626T163000
DTSTAMP:20260423T230750Z
CREATED:20210528T181211Z
DESCRIPTION:イベント詳細はこちら\nhttps://techplay.jp/event/81951
 8?utm_medium=referral&utm_source=ics&utm_campaign=ics\n\nフリーラン
 スセミナー概要\nフリーランスのエンジニア(PG\,SE)に興
 味がある方、フリーランスとして活動を始めたばかり
 （準備中）の方へ、実際にフリーランスとして活動し
 ている方の経験や知識についてお話をして頂く会とな
 っています。\nお菓子を食べながらリラックスした雰
 囲気で、フリーランスについて楽しく知っていただき
 、フリーランスを身近に感じていただくとともに、み
 なさんの次のステップの参考・きっかけにして頂きた
 いと思い、開催しております。\n〔セミナーの流れ〕
 　１．受付（13:50～14:00）　２．セミナー(14:00～16:30) 
  ※途中10分休憩　　　実際にフリーランス（PG\,SE）と
 して　　　活動している技術者さんによるお話し\n《
 主な項目》　　　　　① フリーランスへの事前準備　
 　　　　② 案件の探し方　　　　　③ 案件での失敗
 談　　　　　④ 報酬（契約）の形態　　　　　⑤ 不
 況の乗り切り方　　　　　⑥ その他（今後の傾向、
 所感など）\n《技術者紹介》　　　　　フリーランス
 のシステムエンジニアとして　　　　　１４年間活動
 をしており、主に業務 　　　　（販売業務、保険業
 務など）で使用する　　　　　システムの開発に携わ
 っている技術者の方　　　　　です。\n３．個別質問
 ／交流会(16:30～)　　　　フリーランスの方への個別質
 問と　　　　参加されている方々による交流　　    
            (自由参加）\nフリーランスセミナー詳細\n
 開催日：2021年6月26日（土）14:00～16:30　対象者：ITのフ
 リーランスに興味のある方　　　　　フリーランス準
 備中や始めたばかりの方　　場所：Navi渋谷Vビル（3階
 ）アクセス：JR線「渋谷駅」ハチ公口より徒歩１０分
 　　　　　渋谷マークシティ出口より徒歩５分　　　
 　　京王井之頭線「神泉駅」北口より徒歩３分　　定
 員：10名　　　会費：2\,500円　　　（当日、会場にて
 現金でお支払い頂きます）　　　　服装：自由　　WiFi
 ：あり 　※ＩＤは、当日お伝えします。　持ち物：
 筆記用具、ノート、名刺（交流会用）\n少しでもフリ
 ーランスにご興味のある方であれば、どなたでも参加
 いただけます。ご職業・ご年齢、問いません。\nおひ
 とり様、初めての方もご安心ください。女性の方も、
 大歓迎です！！ぜひ、ご参加ください♪\nセミナーが
 終わった後の個別のご質問も大歓迎です。ご遠慮なく
 、お声掛けください♬。\nお菓子をご用意いたします
 。お飲み物はご持参、または会場（１Ｆ）にある自動
 販売機でご購入いただけます。\n以下のコロナ対策を
 実施いたします\n・20名用のお部屋を準備し密にならな
 いようにします。・消毒液を準備しますので、受付時
 にご利用ください。・ドアや窓を開放し、換気を十分
 に行います。・当日の設備（机、いす）は事前に除菌
 を行います。・マスクは、各自ご持参ください。・当
 日体温が37.5度以上の方は参加をお控えください\n＜注
 意事項＞・基本的な大人のマナーを持ってご参加くだ
 さい。・キャンセルの場合は、ご連絡お願いします。
 　無断キャンセルは、今後参加をお断りさせて　いた
 だく場合もございます。・フロアは完全禁煙ですので
 、ご了承ください。・営業、勧誘目的の方は、参加い
 ただけません。
LOCATION:渋谷アントレサロン（3階） 東京都渋谷区円山町5
 -5 Navi渋谷V
URL:https://techplay.jp/event/819518?utm_medium=referral&utm_source=ics&utm
 _campaign=ics
END:VEVENT
END:VCALENDAR
