BEGIN:VCALENDAR
VERSION:2.0
PRODID:-//https://techplay.jp//JP
CALSCALE:GREGORIAN
METHOD:PUBLISH
X-WR-CALDESC:シニアプログラミングもくもく会＠愛知６月
X-WR-CALNAME:シニアプログラミングもくもく会＠愛知６月
X-WR-TIMEZONE:Asia/Tokyo
BEGIN:VTIMEZONE
TZID:Asia/Tokyo
BEGIN:STANDARD
DTSTART:19700101T000000
TZOFFSETFROM:+0900
TZOFFSETTO:+0900
TZNAME:JST
END:STANDARD
END:VTIMEZONE
BEGIN:VEVENT
UID:820328@techplay.jp
SUMMARY:シニアプログラミングもくもく会＠愛知６月
DTSTART;TZID=Asia/Tokyo:20210608T193000
DTEND;TZID=Asia/Tokyo:20210608T210000
DTSTAMP:20260424T050629Z
CREATED:20210605T085447Z
DESCRIPTION:イベント詳細はこちら\nhttps://techplay.jp/event/82032
 8?utm_medium=referral&utm_source=ics&utm_campaign=ics\n\nシニアプロ
 グラミングもくもく会@愛知【毎月第１火曜日定期】\n
 概要\n今回からNeWork（バーチャルオフィス）で開催し
 ます\nNeWork（バーチャルオフィス）で開催いたします
 。インストールは不要、Googleアカウントをお持ちであ
 れば、登録は不要です※NeWorkについてhttps://nework.app/doc
 ument/\n**********************こちらから入室してくださいhttp
 s://nework.app/workspace/c4a#02-00e4df4a-b45d-46a6-8016-1ed3bd76949c*****
 *****************\nトピック：シニアプログラミングもくも
 く会（愛知）\n\n時間：2021年6月8日 19:30～21:00\n\n\n2018年
 7月29日、Code for Japan の小泉氏や、世界最高齢アプリ開
 発者の若宮氏をお招きし、愛知県で「シニアプログラ
 ミングハッカソン」を開催しました。\nそれ以降、Code 
 for AICHI では、シニアプログラミングもくもく会を第１
 火曜日に定期開催し、シニアのみなさんを中心に、実
 際に「アプリ」や「モノ」をつくりあげるための作り
 込み会を継続しています。\n各自が自分自身で『つく
 りたいもの』に向けてもくもくと作り込んでいきます
 。ぜひ、お時間をつくっていただければ幸いです。\n\n
 タイムスケジュール\n\n\n\n時間\n内容\n\n\n\n\n19:15〜19:30\
 n受付開始\n\n\n19:30〜20:50\n作り込み・もくもく会（伴走
 支援アリ）\n\n\n20:50～21:00\n次回開催案内など\n\n\n21:00\n
 終了\n\n\n\n※ 当日、場合によりまして時間・内容が変
 更になる可能性がございます。\n対象にしている方\n\nI
 TやIoTに興味がある方\nプログラミングに挑戦してみた
 い方\n孫と一緒にプログラミングで語れるようになり
 たい方\n孫に自分がつくったプログラミングを自慢し
 たい方\n2020年プログラミングが授業化されるにあたり
 、孫にプログラミングを教えたい方\n定年退職を迎え
 、新しい生き方や新しいことに挑戦したい方\n電子工
 作を楽しみたい方\n世界最高齢のアプリ開発者の称号
 を更新したい方\nなにかつくりたい！って考えている
 シニアの方\n\n※ リクルーティング、勧誘など、採用
 目的でのイベント参加はお断りしております。※ 飲食
 のみを目的としたご応募・ご来場はご遠慮ください。
 ※ 欠席される場合は、お手数ですが速やかにキャンセ
 ル処理をお願い致します。\n日時・主催\n\n日時：2021年
 6月8日(火) 19:30〜21:00\n\n場所：オンライン\nNeWork（バー
 チャルオフィス）\n\n**********************こちらから入室
 してくださいhttps://nework.app/workspace/c4a#02-00e4df4a-b45d-46a6-
 8016-1ed3bd76949c**********************\n主催：Code for AICHI、シニ
 アプログラミングネットワーク\n\n共催：名古屋工業大
 学 白松研究室\n問い合わせ先： code4aichi@gmail.com\n\n参加
 費\n無料\nハッシュタグ\n#techplayjp#c4a#codeforaichi#seniorhackt
 hon#senior#mokumoku
LOCATION:https://nework.app/workspace/c4a#02-00e4df4a-b45d-46a6-8016-1ed3bd
 76949c
URL:https://techplay.jp/event/820328?utm_medium=referral&utm_source=ics&utm
 _campaign=ics
END:VEVENT
END:VCALENDAR
