BEGIN:VCALENDAR
VERSION:2.0
PRODID:-//https://techplay.jp//JP
CALSCALE:GREGORIAN
METHOD:PUBLISH
X-WR-CALDESC:【受付中】オンラインMatterport製品説明会（無
 料）
X-WR-CALNAME:【受付中】オンラインMatterport製品説明会（無
 料）
X-WR-TIMEZONE:Asia/Tokyo
BEGIN:VTIMEZONE
TZID:Asia/Tokyo
BEGIN:STANDARD
DTSTART:19700101T000000
TZOFFSETFROM:+0900
TZOFFSETTO:+0900
TZNAME:JST
END:STANDARD
END:VTIMEZONE
BEGIN:VEVENT
UID:820616@techplay.jp
SUMMARY:【受付中】オンラインMatterport製品説明会（無料）
DTSTART;TZID=Asia/Tokyo:20210623T110000
DTEND;TZID=Asia/Tokyo:20210623T120000
DTSTAMP:20260421T083650Z
CREATED:20210607T230750Z
DESCRIPTION:イベント詳細はこちら\nhttps://techplay.jp/event/82061
 6?utm_medium=referral&utm_source=ics&utm_campaign=ics\n\n【無料】Matt
 erport製品説明会\nMatterportがどのような撮影機なのか説
 明します\n\n概要\nMatterport製品説明会をZoomウェビナー
 にてオンラインで行います。Matterportの導入をお考えの
 方は是非ご参加下さい。【内容】・Matterportとはどのよ
 うな製品なのか・Matterportの特徴、活用方法、重要事項
 ・Matterportの撮影～クラウド契約、その他サポートにつ
 いて\nタイムスケジュール\n11：00～11：30　説明11：30～
 12：00　質疑応答\n登壇者\n\n\n細谷 正広氏\nご参加をお
 待ちしております。\n\n参加対象・VR撮影機材のご購入
 をご検討の方・インターネット上で展示場を作成され
 たい方・建設現場をVRで記録されたい方・不動産広告
 ご担当者・Matterport製品をご購入をご検討中の方\n参加
 費\n無料\n参照動画\n〜第４回 　建築現場で革新をおこ
 す【Matterportの紹介】～　場所：Youtube Live日時：6月17日
 （木）13:00-15:00\nMatterport 製品説明会　【オンライン講
 習】タイトル：Matterport 製品説明会月日：5月26日　11:00
 -11:30形式：オンライン講習\nタイトル：Matterport 製品説
 明会（短縮版）月日：2021.5.26　11:00-12:00形式：オンラ
 イン講習\n\nウェブサイト\n有限会社リビングCG Matterpor
 t 代理店ウェブサイト\n製品特徴ウェブサイト\n\nハッ
 シュタグ\n#techplayjp#Matterport#VR\n注意事項\n\nリクルーテ
 ィング、勧誘など、採用目的でのイベント参加はお断
 りしております。\nキャンセル待ち・補欠・落選の方
 はご参加いただくことが出来ませんのでご了承くださ
 い。\n欠席される場合は、お手数ですが速やかにキャ
 ンセル処理をお願い致します。\n無断キャンセルや欠
 席が続く場合、次回以降の参加をお断りさせていただ
 く場合がございます。\n
LOCATION:オンライン
URL:https://techplay.jp/event/820616?utm_medium=referral&utm_source=ics&utm
 _campaign=ics
END:VEVENT
END:VCALENDAR
