BEGIN:VCALENDAR
VERSION:2.0
PRODID:-//https://techplay.jp//JP
CALSCALE:GREGORIAN
METHOD:PUBLISH
X-WR-CALDESC:【7月受講生】マーケティング戦略講座　スク
 ール説明会（無料 30分）
X-WR-CALNAME:【7月受講生】マーケティング戦略講座　スク
 ール説明会（無料 30分）
X-WR-TIMEZONE:Asia/Tokyo
BEGIN:VTIMEZONE
TZID:Asia/Tokyo
BEGIN:STANDARD
DTSTART:19700101T000000
TZOFFSETFROM:+0900
TZOFFSETTO:+0900
TZNAME:JST
END:STANDARD
END:VTIMEZONE
BEGIN:VEVENT
UID:820628@techplay.jp
SUMMARY:【7月受講生】マーケティング戦略講座　スクール
 説明会（無料 30分）
DTSTART;TZID=Asia/Tokyo:20210608T150000
DTEND;TZID=Asia/Tokyo:20210702T190000
DTSTAMP:20260422T050828Z
CREATED:20210608T050140Z
DESCRIPTION:イベント詳細はこちら\nhttps://techplay.jp/event/82062
 8?utm_medium=referral&utm_source=ics&utm_campaign=ics\n\n【デジタル
 マーケター・事業戦略担当者向け】成功事例に基づい
 た戦略と提案力が身に付くトップマーケターから学び
 、ワークショップで徹底的に実践merc Education マーケテ
 ィング戦略基礎講座\n〜マーケティング戦略のスキル
 を最大の武器に〜3ヶ月で0からマーケティング戦略の
 基本を学ぶ、merc Education（運営：合同会社YuMK）が7月14
 日（水）より新クラス開講！\n\n大手マーケティング会
 社を中心としたマーケティング教育事業、ブランド設
 計支援、Webマーケティング支援を行う合同会社YuMK（本
 社：東京都千代田区・最高経営責任者：福田正義）が
 運営する\nマーケティング人材育成講座「merc Education」
 は、未経験から3ヶ月間で、マーケティング戦略の基本
 を実践ベースで身につける基礎講座を7/14（水）開講し
 ます。\n講座概要\nmerc Educationは、マーケティング支援
 事業の経験をもとに、より実践の場で成果（売上、CVR
 向上など）が出るための「マーケティング戦略」の基
 本を3ヶ月で網羅できるようカリキュラム化。\n\n約60%
 がワークショップで構成された、超実践型の学習スタ
 イルに加え、難しい用語や数字を最小限にし、初心者
 から経験者まで理解・納得ができるコミカルな要素を
 盛り込んだ講義内容が好評。\nこれまでに130名以上の
 卒業生を輩出し、特別講座等も幅広く展開し、累計1\,5
 00名以上が受講。\n大手企業からベンチャーまで多くの
 マーケティング支援・コンサルティングを行う元Yahoo!J
 apan コンサルティングマネージャーの福田正義が講師
 として、3ヶ月間直接トレーニングを行う。\nマーケテ
 ィング戦略 基礎講座とは\n未経験から、3ヶ月間でマー
 ケティング戦略（環境分析、戦略立案、施策立案の一
 連）の基本を実践形式（ケーススタディ）で学ぶ講座
 。\nアカデミックな学習スタイル、テスト、机上の空
 論になりがちな知識等は一切行わない、「実践」にと
 ことんこだわった講座。\nそのため、120分 / 回の内容
 ですが\nーーーーーーーーーーーーーー講義：50分ワー
 クショップ：60分フィードバック：10分＋質疑応答（自
 由参加）：15分ーーーーーーーーーーーーーー\nという
 構成になっています。\n\nこんな方に受講はオススメ\n
 ・マーケティング戦略の全体像を0から学びたい・今行
 っている事業で即応用したい・クライアント、自社の
 今の事業フローを改善したい・Webマーケティング領域
 でコンサルティングできるようになりたい・実際のコ
 ンサル案件で使用しているワークを使ってみたい\nmerc 
 Educationスクール説明+体験会のお申し込みについて\n7月
 14日（水）より15名の少人数制にて、開講いたします。
 まずはスクール説明会＋体験会にご参加くださいませ
 。※定員に達した場合は申込ができなくなります\n合
 同会社YuMKについて\n「社会課題を解決できるマーケタ
 ーをたくさん増やすことで人々が豊かに過ごせる社会
 を作る」ことを目的としてマーケティング教育事業を
 展開しています。\n大手企業をはじめとしたクライア
 ント向けにサイト制作、デジタル広告支援、コンサル
 ティング等、総合的にマーケティング支援を行ってき
 ましたが、その中で我々自身が成果に結びついた学び
 をベースに、教育事業を展開しています。\n体系的な
 学びだけでなく、継続的に実践してスキル定着を目指
 す学習コミュニティ「merc Guild」を2020年オープン。\n大
 手デジタルマーケティング会社からベンチャーまでの
 企業研修や、コンサルティング業務を提供中。
LOCATION:オンライン
URL:https://techplay.jp/event/820628?utm_medium=referral&utm_source=ics&utm
 _campaign=ics
END:VEVENT
END:VCALENDAR
