BEGIN:VCALENDAR
VERSION:2.0
PRODID:-//https://techplay.jp//JP
CALSCALE:GREGORIAN
METHOD:PUBLISH
X-WR-CALDESC:もっと時間が欲しい広告運用者必見！iPaaS・RPA
 ・レポートツールで実現する代理店業務効率化
X-WR-CALNAME:もっと時間が欲しい広告運用者必見！iPaaS・RPA
 ・レポートツールで実現する代理店業務効率化
X-WR-TIMEZONE:Asia/Tokyo
BEGIN:VTIMEZONE
TZID:Asia/Tokyo
BEGIN:STANDARD
DTSTART:19700101T000000
TZOFFSETFROM:+0900
TZOFFSETTO:+0900
TZNAME:JST
END:STANDARD
END:VTIMEZONE
BEGIN:VEVENT
UID:820760@techplay.jp
SUMMARY:もっと時間が欲しい広告運用者必見！iPaaS・RPA・
 レポートツールで実現する代理店業務効率化
DTSTART;TZID=Asia/Tokyo:20210623T170000
DTEND;TZID=Asia/Tokyo:20210623T174500
DTSTAMP:20260425T111945Z
CREATED:20210609T021906Z
DESCRIPTION:イベント詳細はこちら\nhttps://techplay.jp/event/82076
 0?utm_medium=referral&utm_source=ics&utm_campaign=ics\n\n運用型広告
 が広まり、数多くのWeb広告代理店・デジタルマーケテ
 ィング支援企業が存在し、今なお増え続けています。
 そのような中で競合優位性を保つためには、やはり考
 える時間が必要。作業的な業務は各種ツールに任せ、
 限られたリソースを注力業務に集中すること、創造性
 を最大限発揮できる組織を作ることが活路の一つでは
 ないでしょうか。今回は、「オートメーションテクノ
 ロジーで新しいワークスタイルを実現する」というミ
 ッションを掲げる『BizteX株式会社』と運用型Web広告代
 理店向けにツール開発・支援をしている『SO Technologies
 株式会社』とで、業務効率化をテーマにお話しをさせ
 ていただきます。奮ってご参加ください。\n■日程\n202
 1年6月23日水曜日17 ：00～17：45\n■ご参加方法\nzoomオン
 ライン開催（PC、スマホ、タブレット）\n※お申し込み
 後にご視聴URLをお送りいたします。\n■対象者\n・人を
 増やしたいけど、予算の都合上厳しい。けど、時間を
 作って売上拡大はしたい・運用メンバーの残業時間が
 課題になっている・毎月、毎週同じような作業をする
 業務が存在する・もっと顧客と会話をしたり、分析・
 改善提案など攻めの時間を増やしたい・既存の導入ツ
 ールだと、一部自動化出来ていない箇所がある・目の
 前の短期的なタスクに追われ、中長期的なことを考え
 る時間が設けられていない\n■ご確認事項\n・お申込み
 いただいた方は、弊社プライバシーポリシーに同意い
 ただいたものとさせていただきます。・弊社サービス
 と類似、または競合するサービスの運営企業様のご参
 加はご遠慮いただいております。あらかじめご了承く
 ださい。
LOCATION:オンライン
URL:https://techplay.jp/event/820760?utm_medium=referral&utm_source=ics&utm
 _campaign=ics
END:VEVENT
END:VCALENDAR
