BEGIN:VCALENDAR
VERSION:2.0
PRODID:-//https://techplay.jp//JP
CALSCALE:GREGORIAN
METHOD:PUBLISH
X-WR-CALDESC:【無料セミナー】防災DXで意思決定のスピード
 と質を向上！ ～災害時のオペレーションを強化する防
 災情報システムとは～
X-WR-CALNAME:【無料セミナー】防災DXで意思決定のスピード
 と質を向上！ ～災害時のオペレーションを強化する防
 災情報システムとは～
X-WR-TIMEZONE:Asia/Tokyo
BEGIN:VTIMEZONE
TZID:Asia/Tokyo
BEGIN:STANDARD
DTSTART:19700101T000000
TZOFFSETFROM:+0900
TZOFFSETTO:+0900
TZNAME:JST
END:STANDARD
END:VTIMEZONE
BEGIN:VEVENT
UID:820813@techplay.jp
SUMMARY:【無料セミナー】防災DXで意思決定のスピードと
 質を向上！ ～災害時のオペレーションを強化する防災
 情報システムとは～
DTSTART;TZID=Asia/Tokyo:20210625T122000
DTEND;TZID=Asia/Tokyo:20210625T125000
DTSTAMP:20260420T214411Z
CREATED:20210609T062327Z
DESCRIPTION:イベント詳細はこちら\nhttps://techplay.jp/event/82081
 3?utm_medium=referral&utm_source=ics&utm_campaign=ics\n\n防災DXで意
 思決定のスピードと質を向上！～災害時のオペレーシ
 ョンを強化する防災情報システムとは～\n概要\n本セミ
 ナーでは、省庁・自治体・消防本部などに採用されて
 いる、V-CUBE Board（オペレーションテーブル）とV-CUBE コ
 ラボレーション（Web会議）を組み合わせた「緊急対策
 ソリューション」を徹底解説いたします。更に、地図
 上のアイコンからコミュニケーションが始められる「
 コミュニケーションマップ」の開発も進めており、緊
 急時に錯綜するさまざまな情報をオペレーションテー
 ブル上に集約・俯瞰することで、遠隔地ともリアルタ
 イムに情報を共有することが可能なシステムです。こ
 の機会にぜひ、ご参加ください。\nこんな方におすす
 めです！\n\n現場との情報共有にタイムラグが出る\n関
 わる機関が多いため、コミュニケーションがスムーズ
 に取れず、情報の共有化を図ることが難しい\n対策本
 部内では無線・FAXを使用したり、メールを印刷・PCに
 集まって見るなどするため、最新の情報がどれか分か
 らなくなる時がある\n最新の緊急防災・減災に関する
 取り組みが知りたい\n地方自治体・企業での活用事例
 が知りたい\n\nセミナーに参加して得られる知識・メリ
 ットの例\n\nPCやタブレット・電子黒板・電子作戦ボー
 ドを活用した、リアルタイムな災害情報連携の仕組み
 を知ることができる\n災害対策本部に必要な次世代型
 情報共有端末と、その活用方法を知ることができる\n
 緊急防災・減災事業債の概要や期間、どんなシステム
 で利用できるか把握できる\n実際に導入した企業・団
 体の活用事例を知ることができる\n\n\n実施概要\n会場
 ：オンラインセミナー（アプリインストール不要でイ
 ンターネットがあればどこからでも参加可能）参加費
 ：無料日時：2021年6月25日（金）12:20～12:50定員：20名対
 象：企業・地方自治体における防災、危機管理対策ご
 担当者様　　　ライフライン系企業の防災、危機管理
 対策ご担当者様※競合他社様・個人事業主様につきま
 しては、お断りさせていただくことがございますので
 、予めご了承ください。\n視聴環境チェックサイト htt
 ps://ondemand.seminar.vcube.com/checker/videostream\n\n本セミナーに
 関するお問い合わせ先株式会社ブイキューブ　セミナ
 ー事務局／及川・高畠TEL：03-4405-2688（受付時間 平日10:
 00〜17:00）Mail：v-mail@vcube.co.jp
LOCATION:オンライン開催
URL:https://techplay.jp/event/820813?utm_medium=referral&utm_source=ics&utm
 _campaign=ics
END:VEVENT
END:VCALENDAR
