BEGIN:VCALENDAR
VERSION:2.0
PRODID:-//https://techplay.jp//JP
CALSCALE:GREGORIAN
METHOD:PUBLISH
X-WR-CALDESC:不動産テックカオスマップ 最新版（第7版）発
 表セミナー 2021
X-WR-CALNAME:不動産テックカオスマップ 最新版（第7版）発
 表セミナー 2021
X-WR-TIMEZONE:Asia/Tokyo
BEGIN:VTIMEZONE
TZID:Asia/Tokyo
BEGIN:STANDARD
DTSTART:19700101T000000
TZOFFSETFROM:+0900
TZOFFSETTO:+0900
TZNAME:JST
END:STANDARD
END:VTIMEZONE
BEGIN:VEVENT
UID:820949@techplay.jp
SUMMARY:不動産テックカオスマップ 最新版（第7版）発表
 セミナー 2021
DTSTART;TZID=Asia/Tokyo:20210708T180000
DTEND;TZID=Asia/Tokyo:20210708T200000
DTSTAMP:20260422T070636Z
CREATED:20210610T140007Z
DESCRIPTION:イベント詳細はこちら\nhttps://techplay.jp/event/82094
 9?utm_medium=referral&utm_source=ics&utm_campaign=ics\n\n【イベント
 概要】\n\nコロナショックは不動産テックにどのような
 影響を与えたのか？！\n不動産テックカオスマップ最
 新版（第7版）を発表するとともに、不動産テックへの
 コロナの影響を振り返ります。このセミナーに参加す
 れば、不動産テックの最新状況が一目瞭然です！\n不
 動産テックカオスマップへの掲載サービスの増減や傾
 向を細かく解説します。また、特徴的なサービスも紹
 介いたしますので不動産テックの最新動向を具体的に
 把握していただけます。\n有識者によるセミナーやパ
 ネルディスカッションも予定しています。カオスマッ
 プに限定されず、この１年の不動産テックとこれかの
 不動産テックを見定めるまたとない機会ですので、奮
 ってご参加ください。\n\n【登壇者】\n\n不動産テック
 協会代表理事 赤木 正幸（リマールエステート株式会
 社 代表取締役社長）\n株式会社NTTデータ経営研究所シ
 ニアマネージャー 川戸 温志\n不動産テック協会理事 
 浅海 剛（株式会社コラビット 代表取締役社長）\n不動
 産テック協会代表理事 巻口 成憲（リーウェイズ株式
 会社 代表取締役）\n不動産テック協会理事 名村 晋治
 （株式会社サービシンク 代表取締役）\n\n【プログラ
 ム】\n\n18:00〜18:05：オープニング\n\n18:05〜18:35：最新版
 不動産テックカオスマップ発表\n　　　　　　　【登
 壇者】不動産テック協会代表理事　赤木正幸\n\n18:35〜1
 9:05不動産テック最新動向セミナー\n　　　　　　　【
 登壇者】株式会社NTTデータ経営研究所シニアマネージ
 ャー　川戸 温志\n\n19:05〜19:50：不動産テックカオスマ
 ップ最新版と不動産テック最新動向パネルディスカッ
 ション\n　　　　　　　モデレーター：不動産テック
 協会代表理事　赤木正幸\n　　　　　　　パネリスト
 ：株式会社NTTデータ経営研究所シニアマネージャー　
 川戸 温志\n　　　　　　　パネリスト：不動産テック
 協会理事 浅海 剛\n　　　　　　　パネリスト：不動産
 テック協会代表理事 巻口 成憲（リーウェイズ株式会
 社代表取締役）\n　　　　　　　パネリスト：不動産
 テック協会理事 名村 晋治（株式会社サービシンク 代
 表取締役）\n\nみなさまのご参加お待ちしております。
 \n一般社団法人不動産テック協会\nhttps://retechjapan.org/\n\
 n一般社団法人不動産テック協会は\n\n不動産とテクノ
 ロジーの融合を促進し、不動産に係る事業並びに不動
 産業の健全な発展を図り、国民経済と国民生活の向上
 並びに公共の福祉の増進に寄与することを目的とし2018
 年に設立。主な活動としてデータ流通部会、物件流通
 部会、業界マップ部会、海外連携部会、不動産金融部
 会、取引電子化部会等の部会活動・研究活動を実施。
 また、不動産テックに関連したセミナーや勉強会も多
 く開催開催し、不動産業を行う企業とテック企業との
 交流も増やし、不動産業界における新しいテクノロジ
 ー企業の参入の手助けを積極的に行っている。2020年8
 月時点で100社以上の不動産テック企業、不動産会社等
 が加盟している。
LOCATION:オンライン
URL:https://techplay.jp/event/820949?utm_medium=referral&utm_source=ics&utm
 _campaign=ics
END:VEVENT
END:VCALENDAR
