BEGIN:VCALENDAR
VERSION:2.0
PRODID:-//https://techplay.jp//JP
CALSCALE:GREGORIAN
METHOD:PUBLISH
X-WR-CALDESC:JDLA認定　E資格の受験を検討している方向け　
 無料体験セミナー　★実際のテキスト配布特典あり！
X-WR-CALNAME:JDLA認定　E資格の受験を検討している方向け　
 無料体験セミナー　★実際のテキスト配布特典あり！
X-WR-TIMEZONE:Asia/Tokyo
BEGIN:VTIMEZONE
TZID:Asia/Tokyo
BEGIN:STANDARD
DTSTART:19700101T000000
TZOFFSETFROM:+0900
TZOFFSETTO:+0900
TZNAME:JST
END:STANDARD
END:VTIMEZONE
BEGIN:VEVENT
UID:821247@techplay.jp
SUMMARY:JDLA認定　E資格の受験を検討している方向け　無
 料体験セミナー　★実際のテキスト配布特典あり！
DTSTART;TZID=Asia/Tokyo:20210623T193000
DTEND;TZID=Asia/Tokyo:20210623T203000
DTSTAMP:20260421T165326Z
CREATED:20210614T045202Z
DESCRIPTION:イベント詳細はこちら\nhttps://techplay.jp/event/82124
 7?utm_medium=referral&utm_source=ics&utm_campaign=ics\n\nJDLA認定　E
 資格の受験を検討している方向け　無料体験セミナー\
 n概要\n本セミナーでは、JDLA認定プログラム全5回の講
 義の概要に加え、ディープラーニングに必要な数学と
 データ構造の知識を前半にご紹介します。セミナー後
 半では機械学習の最も基本である回帰について解説さ
 せていただきます。\nこれまで、JDLA認定プログラムに
 興味をお持ちの方から、\n「認定プログラムを受講す
 るにはどのくらいの数学の知識が必要ですか？」「受
 講するにあたり、どのような準備を行えばよいのです
 か？」\nといったご質問を多数いただいております。\n
 本セミナーを受講していただくと、JDLAが実施するE資
 格のレベル感に触れることができ、上記のような不安
 を解消することができます。\nその上で、実際に認定
 プログラムを受講してE資格にチャレンジするかどうか
 をご判断いただきたいと思いで、今回の無料体験セミ
 ナーを企画させていただきました。\n途中での入退出
 も可能ですので、ぜひ気軽にご参加ください。\n★今
 回のセミナーにお申し込みをいただいた方全員に、弊
 社の講座　「基礎から学ぶディープラーニング」で実
 際に使用している　テキスト(一部抜粋)を配布いたし
 ます！！\n★今回のセミナーに参加され、アンケート
 に答えてくださった方には　6月16日および7月5日から
 開講される認定プログラムの第一日目の受講が　無料
 でできるクーポンをお渡しします。　それを利用して
 いただくことで、実際の講義を受けた上で正式に受講
 するかどうかを　選択することができます。\n※弊社
 が開催している同タイトルのものは全て同じ内容です
 。▽日程が合わない方はこちら6月18日(金)19:30 https://te
 chplay.jp/event/8194736月29日(火)19:30 https://techplay.jp/event/8212
 48\n\nタイムスケジュール\n\n\n\n時間\n内容\n\n\n\n\n19:25〜
 \n受付開始\n\n\n19:30〜19:35\nテクノブレーンが運営して
 いる認定プログラムのスケジュールや特徴、割引キャ
 ンペーンの内容について\n\n\n19:35〜20:25\n講義パート平
 原健太(株式会社RUTILEA)-ディープラーニングに必要な数
 学とデータ構造-回帰について\n\n\n20:25〜20:30\nQ&A\n\n\n20:
 30\n終了\n\n\n\n※ 当日予告なく時間配分・内容が変更に
 なる可能性がございます。\n登壇者\n平原 健太株式会
 社RUTILEA\n京都大学総合人間学部総合人間学科卒業、そ
 の後再受験で京都大学工学部電気電子工学科入学、現
 在同学科在学中。\n専門は宇宙プラズマの計算機シミ
 ュレーション。塾・予備校講師経験を持つ。\n2020年1月
 のE資格講座を担当の実績あり。\n\n\n参加対象\n\nJDLA認
 定プログラムの受講を考えている方\n\n参加費\n無料\n
 注意事項\n\nリクルーティング、勧誘など、採用目的で
 のイベント参加はお断りしております。\nキャンセル
 待ち・補欠・落選の方はご参加いただくことが出来ま
 せんのでご了承ください。\n欠席される場合は、お手
 数ですが速やかにキャンセル処理をお願い致します。\
 n無断キャンセルや欠席が続く場合、次回以降の参加を
 お断りさせていただく場合がございます。\n
LOCATION:オンライン
URL:https://techplay.jp/event/821247?utm_medium=referral&utm_source=ics&utm
 _campaign=ics
END:VEVENT
END:VCALENDAR
