BEGIN:VCALENDAR
VERSION:2.0
PRODID:-//https://techplay.jp//JP
CALSCALE:GREGORIAN
METHOD:PUBLISH
X-WR-CALDESC:AWSの基礎を学ぼう 第五十回
X-WR-CALNAME:AWSの基礎を学ぼう 第五十回
X-WR-TIMEZONE:Asia/Tokyo
BEGIN:VTIMEZONE
TZID:Asia/Tokyo
BEGIN:STANDARD
DTSTART:19700101T000000
TZOFFSETFROM:+0900
TZOFFSETTO:+0900
TZNAME:JST
END:STANDARD
END:VTIMEZONE
BEGIN:VEVENT
UID:821308@techplay.jp
SUMMARY:AWSの基礎を学ぼう 第五十回
DTSTART;TZID=Asia/Tokyo:20210719T121500
DTEND;TZID=Asia/Tokyo:20210719T130000
DTSTAMP:20260423T182121Z
CREATED:20210614T062437Z
DESCRIPTION:イベント詳細はこちら\nhttps://techplay.jp/event/82130
 8?utm_medium=referral&utm_source=ics&utm_campaign=ics\n\nフォージビ
 ジョン株式会社 さんの、ご厚意で最大1000名参加可能
 なZoomをご提供いただけることとなりました！ありがと
 うございます。また、フォージビジョン、山口さんに
 運営管理者として参加いただくこととなりました。み
 なさんも、主に土曜を中心として登壇希望等お待ちし
 ています。\nAmazon Web Services (AWS)は現在200を超えるサー
 ビスを提供し、日々サービスの拡充を続けています。\
 nこのAWS エバンジェリスト シリーズでは週次でAWSのサ
 ービスをひとつづつ取り上げながらその基礎を説明し
 ていく\n初心者、中級者をターゲットとした講座です
 。午後の仕事前にスキルアップを一緒にしませんか？\
 n第五十回は機械学習の経験なしで使用できる Amazon.com 
 と同じテクノロジーに基づいた正確な時系列予測サー
 ビスである Amazon Forecastです\n学ぶサービス\nAmazon Forecas
 t\n\n配信はZoom使います。当日お申込みいただいた方向
 けにZoomのログインURLをお送りします。ブラウザでも視
 聴可能です。\n資料はオンラインイベント中にSlideshare
 のURLを共有します。\nそれではみなさんとお会いでき
 ることを楽しみにしています。\n講師：アマゾン ウェ
 ブ サービス ジャパン、シニアエバンジェリスト 亀田\
 n\n注意点\n登壇者による発表内容はアマゾン ウェブ サ
 ービス ジャパンとして主催しているものではなく、コ
 ミュニティ活動の一環として勉強会の主催を行ってい
 るものです。
LOCATION:オンライン Zoom
URL:https://techplay.jp/event/821308?utm_medium=referral&utm_source=ics&utm
 _campaign=ics
END:VEVENT
END:VCALENDAR
