BEGIN:VCALENDAR
VERSION:2.0
PRODID:-//https://techplay.jp//JP
CALSCALE:GREGORIAN
METHOD:PUBLISH
X-WR-CALDESC:【7/8(木)17時-】クラウド機械学習サービスを使
 いこなす人材の育て方
X-WR-CALNAME:【7/8(木)17時-】クラウド機械学習サービスを使
 いこなす人材の育て方
X-WR-TIMEZONE:Asia/Tokyo
BEGIN:VTIMEZONE
TZID:Asia/Tokyo
BEGIN:STANDARD
DTSTART:19700101T000000
TZOFFSETFROM:+0900
TZOFFSETTO:+0900
TZNAME:JST
END:STANDARD
END:VTIMEZONE
BEGIN:VEVENT
UID:821823@techplay.jp
SUMMARY:【7/8(木)17時-】クラウド機械学習サービスを使い
 こなす人材の育て方
DTSTART;TZID=Asia/Tokyo:20210708T170000
DTEND;TZID=Asia/Tokyo:20210708T180000
DTSTAMP:20260419T153149Z
CREATED:20210618T085044Z
DESCRIPTION:イベント詳細はこちら\nhttps://techplay.jp/event/82182
 3?utm_medium=referral&utm_source=ics&utm_campaign=ics\n\nプログラム
 概要\n近年、ビジネスシーンにおけるAI・データサイエ
 ンスの重要性は高まっており、専門的な人材の育成に
 力を入れる企業も増えています。しかし、教育の内容
 がAIの原理やアルゴリズムが中心となっていて、開発
 ・実装などの実務で躓くパターンも見られます。他方
 でAWS・Azure・GCPなどのクラウドプラットフォームには
 、機械学習サービスが充実してきており、実務におけ
 る利便性や導入コストの低さなどから、もはやビジネ
 スで利用しない理由がないという状況になっています
 。本イベントでは、クラウドプラットフォームを利用
 したことがない人を対象に、クラウドの機械学習サー
 ビスでできることや代表的なプラットフォームの違い
 、その導入を推進する人材の要件や育て方を解説しま
 す。\n\nタイムスケジュール\n17:00-17:05　冒頭挨拶\n17:05-
 17:30　講演\n17:30-17:45　パネルディスカッション\n17:45-17
 :55　質疑応答\n17:55-18:00　告知、アンケート\n\nスピー
 カー\nスキルアップAI株式会社 代表取締役 / 田原 眞一\
 n東京大学大学院新領域創成科学研究科修了。新卒でエ
 ンジニアとプロジェクトマネジャーを経験後、リクル
 ートにて数多くのAI案件に携わる。2017年に『スキルア
 ップAI』を開始し、企業へのAI教育サービスの提供、コ
 ンサルティングを実施。著書に「徹底攻略 ディープラ
 ーニングG検定 ジェネラリスト問題集」。JDLAの人材育
 成委員も務める。\nスキルアップAI株式会社 CTO / 小縣 
 信也\n2010年、OpenFOAM勉強会for beginner(現オープンCAE勉強
 会＠関東)を立ち上げ3年間幹事を務める。建築環境に
 関する数値シミュレーション、電力量や温湿度などの
 センサーデータに関する分析が専門。1級建築士、エネ
 ルギー管理士。2013年、国土交通省国土技術政策総合研
 究所 優秀技術者賞受賞。 日本ディープラーニング協
 会主催2018E資格試験 優秀賞受賞、2019#1E資格試験優秀賞
 受賞。最近は、需要予測や異常検知などのモデル開発
 に取り組んでいる。著書「徹底攻略ディープラーニン
 グE資格エンジニア問題集」（インプレス）。\n日時\n20
 21年7月8日（木）17:00～18:00    ( 参加費：無料 )\n開催
 場所\nZoom　※参加者には開催前日までに、参加URLをご
 連絡します\n個人情報の取扱いについて\n申し込み時に
 ご提供いただいた情報は、イベント受付管理や各種ご
 案内（サービス・イベント等）に利用させていただき
 ます。https://www.skillupai.com/privacy/\n注意事項\n※本セミ
 ナーは企業様限定のセミナーとなります。\n※本セミ
 ナーの途中入退室は自由です。\n※一部プログラムに
 変更が生じる可能性が場合がございます。\n※競合他
 社様のご参加は、ご遠慮いただいておりますので、ご
 了承ください。\n【ご協力のお願い】\n・申込後のキャ
 ンセルについては、前日までにご連絡ください。\n【
 ご協力のお願い】\n・申込後のキャンセルについては
 、前日までにご連絡ください。\n運営団体\nスキルアッ
 プAI\nhttps://www.skillupai.com/
LOCATION:Zoom
URL:https://techplay.jp/event/821823?utm_medium=referral&utm_source=ics&utm
 _campaign=ics
END:VEVENT
END:VCALENDAR
