BEGIN:VCALENDAR
VERSION:2.0
PRODID:-//https://techplay.jp//JP
CALSCALE:GREGORIAN
METHOD:PUBLISH
X-WR-CALDESC:シニアプログラミングもくもく会＠愛知６月
 （2回目）
X-WR-CALNAME:シニアプログラミングもくもく会＠愛知６月
 （2回目）
X-WR-TIMEZONE:Asia/Tokyo
BEGIN:VTIMEZONE
TZID:Asia/Tokyo
BEGIN:STANDARD
DTSTART:19700101T000000
TZOFFSETFROM:+0900
TZOFFSETTO:+0900
TZNAME:JST
END:STANDARD
END:VTIMEZONE
BEGIN:VEVENT
UID:821939@techplay.jp
SUMMARY:シニアプログラミングもくもく会＠愛知６月（2回
 目）
DTSTART;TZID=Asia/Tokyo:20210627T100000
DTEND;TZID=Asia/Tokyo:20210627T113000
DTSTAMP:20260424T003050Z
CREATED:20210619T233059Z
DESCRIPTION:イベント詳細はこちら\nhttps://techplay.jp/event/82193
 9?utm_medium=referral&utm_source=ics&utm_campaign=ics\n\nシニアプロ
 グラミングもくもく会@愛知【毎月日曜日朝にお引越し
 】\n概要\n今回からNeWork（バーチャルオフィス）で開催
 します\nNeWork（バーチャルオフィス）で開催いたしま
 す。インストールは不要でブラウザで参加可能です。
 ※GoogleChrome推奨\n※事前にCode for AICHIのスペースに参加
 してください。https://nework.app/invitation?code=e89ff46f630afcbf2
 3f2a72ebae3999e4a9c2d13a1bc60be9358d00cd826cfe41de790424a1aeca54b2d5418c2
 7169495106eb3909fc888244eac16d8f7038d7\n※NeWorkについてhttps://newo
 rk.app/document/\n**********************こちらから入室してくだ
 さいhttps://nework.app/workspace/c4a#02-00e4df4a-b45d-46a6-8016-1ed3bd7
 6949c**********************\nトピック：シニアプログラミン
 グもくもく会（愛知）\n\n時間：2021年6月8日 19:30～21:00\
 n\n\n2018年7月29日、Code for Japan の小泉氏や、世界最高齢
 アプリ開発者の若宮氏をお招きし、愛知県で「シニア
 プログラミングハッカソン」を開催しました。\nそれ
 以降、Code for AICHI では、シニアプログラミングもくも
 く会を第１火曜日に定期開催し、シニアのみなさんを
 中心に、実際に「アプリ」や「モノ」をつくりあげる
 ための作り込み会を継続しています。\n各自が自分自
 身で『つくりたいもの』に向けてもくもくと作り込ん
 でいきます。ぜひ、お時間をつくっていただければ幸
 いです。\n\nタイムスケジュール\n\n\n\n時間\n内容\n\n\n\n
 \n10:00〜\n自由入室\n\n\n10:10〜\n自己紹介や作りたいこと
 共有\n\n\n10:30〜\n作り込み・もくもく会（伴走支援アリ
 ）\n\n\n11:30\n終了\n\n\n\n※ 当日、場合によりまして時間
 ・内容が変更になる可能性がございます。\n対象にし
 ている方\n\nITやIoTに興味がある方\nプログラミングに
 挑戦してみたい方\n孫と一緒にプログラミングで語れ
 るようになりたい方\n孫に自分がつくったプログラミ
 ングを自慢したい方\n2020年プログラミングが授業化さ
 れるにあたり、孫にプログラミングを教えたい方\n定
 年退職を迎え、新しい生き方や新しいことに挑戦した
 い方\n電子工作を楽しみたい方\n世界最高齢のアプリ開
 発者の称号を更新したい方\nなにかつくりたい！って
 考えているシニアの方\n\n※ リクルーティング、勧誘
 など、採用目的でのイベント参加はお断りしておりま
 す。※ 欠席される場合は、お手数ですが速やかにキャ
 ンセル処理をお願い致します。\n日時・主催\n\n日時：2
 021年6月8日(火) 19:30〜21:00\n\n場所：オンライン\nNeWork（
 バーチャルオフィス）\n\n**********************こちらから
 入室してください 　※初めての方はCode for AICHIのスペ
 ースに事前参加してください。https://nework.app/workspace/c4
 a#02-00e4df4a-b45d-46a6-8016-1ed3bd76949c**********************\n主催
 ：Code for AICHI、シニアプログラミングネットワーク\n\n
 問い合わせ先： code4aichi@gmail.com\n\n参加費\n無料\nハッ
 シュタグ\n#techplayjp#c4a#codeforaichi#seniorhackthon#senior#mokumoku
LOCATION:https://nework.app/workspace/c4a#02-00e4df4a-b45d-46a6-8016-1ed3bd
 76949c
URL:https://techplay.jp/event/821939?utm_medium=referral&utm_source=ics&utm
 _campaign=ics
END:VEVENT
END:VCALENDAR
