BEGIN:VCALENDAR
VERSION:2.0
PRODID:-//https://techplay.jp//JP
CALSCALE:GREGORIAN
METHOD:PUBLISH
X-WR-CALDESC:AWSの基礎を学ぼう 特別編　最新サービスをみ
 んなで触ってみる 初めてのグラフデータベース
X-WR-CALNAME:AWSの基礎を学ぼう 特別編　最新サービスをみ
 んなで触ってみる 初めてのグラフデータベース
X-WR-TIMEZONE:Asia/Tokyo
BEGIN:VTIMEZONE
TZID:Asia/Tokyo
BEGIN:STANDARD
DTSTART:19700101T000000
TZOFFSETFROM:+0900
TZOFFSETTO:+0900
TZNAME:JST
END:STANDARD
END:VTIMEZONE
BEGIN:VEVENT
UID:822670@techplay.jp
SUMMARY:AWSの基礎を学ぼう 特別編　最新サービスをみんな
 で触ってみる 初めてのグラフデータベース
DTSTART;TZID=Asia/Tokyo:20210814T131500
DTEND;TZID=Asia/Tokyo:20210814T151500
DTSTAMP:20260422T062425Z
CREATED:20210625T141754Z
DESCRIPTION:イベント詳細はこちら\nhttps://techplay.jp/event/82267
 0?utm_medium=referral&utm_source=ics&utm_campaign=ics\n\nフォージビ
 ジョン株式会社 さんの、ご厚意で最大1000名参加可能
 なZoomをご提供いただけることとなりました！ありがと
 うございます。また、フォージビジョン、山口さんに
 運営管理者として参加いただくこととなりました。み
 なさんも、主に土曜を中心として登壇希望等お待ちし
 ています。\nこの特別編では、クラウド向けに構築さ
 れた高速で信頼性の高いグラフデータベースであるAmaz
 on Neptuneを触って学びましょう！\n画面説明しながら進
 めていきますので、是非初学者でも気後れせずに挑戦
 してみてください。\n講師：アマゾン ウェブ サービス
  ジャパン、シニアエバンジェリスト 亀田\n)\n必要なも
 の\nAWS アカウント\n数十円程度のAWS利用料金\n注意点\n
 登壇者による発表内容はアマゾン ウェブ サービス ジ
 ャパンとして主催しているものではなく、コミュニテ
 ィ活動の一環として勉強会の主催を行っているもので
 す。
LOCATION:オンライン Zoom
URL:https://techplay.jp/event/822670?utm_medium=referral&utm_source=ics&utm
 _campaign=ics
END:VEVENT
END:VCALENDAR
