BEGIN:VCALENDAR
VERSION:2.0
PRODID:-//https://techplay.jp//JP
CALSCALE:GREGORIAN
METHOD:PUBLISH
X-WR-CALDESC:ウィズ＆ポストコロナ時代の経営企画・DX・経
 理部門向けDXセミナー～新たな時代を勝ち抜くための
 事例および進め方をお教えします～
X-WR-CALNAME:ウィズ＆ポストコロナ時代の経営企画・DX・経
 理部門向けDXセミナー～新たな時代を勝ち抜くための
 事例および進め方をお教えします～
X-WR-TIMEZONE:Asia/Tokyo
BEGIN:VTIMEZONE
TZID:Asia/Tokyo
BEGIN:STANDARD
DTSTART:19700101T000000
TZOFFSETFROM:+0900
TZOFFSETTO:+0900
TZNAME:JST
END:STANDARD
END:VTIMEZONE
BEGIN:VEVENT
UID:822831@techplay.jp
SUMMARY:ウィズ＆ポストコロナ時代の経営企画・DX・経理
 部門向けDXセミナー～新たな時代を勝ち抜くための事
 例および進め方をお教えします～
DTSTART;TZID=Asia/Tokyo:20210727T140000
DTEND;TZID=Asia/Tokyo:20210727T150000
DTSTAMP:20260424T131446Z
CREATED:20210628T004910Z
DESCRIPTION:イベント詳細はこちら\nhttps://techplay.jp/event/82283
 1?utm_medium=referral&utm_source=ics&utm_campaign=ics\n\nコロナ禍が
 つづくなか、「社内の早期DX化」に翻弄されている経
 営企画および経理部門の方が多いかと存じます。しか
 し、実際どのように進めればいいのか？\nDX化の波でさ
 まざまなクラウドサービスなども登場し、まだまだ実
 績も少ないなかでいろいろ悩まれているのではないで
 しょうか？\n当セミナーでは、このようなお悩みをも
 つ方々向けに、ウィズ＆ポストコロナ時代を勝ち抜く
 ための事例および進め方をご紹介します。\n>>詳細＆お
 申込みはこちら\n当日のテーマ・タイムスケジュール\n
 \n\n\n時間\nコンテンツ\n\n\n\n\n13:45〜\nオンラインセミナ
 ーシステム入室開始\n\n\n14:00～14:05\n開演・ご挨拶\n\n\n1
 4:05〜14:35\n第1セッション：先進事例に学ぶウィズ＆ポ
 ストコロナ時代に向けたDX化の進め方株式会社クニエ
 シニアマネージャー牧野 真朋 氏■登壇内容■大手企
 業から中堅・中小企業までの経営企画や経理部門での
 各種改革やDX化のお手伝いをされている株式会社クニ
 エ　牧野様よりウィズ＆ポストコロナ時代を勝ち抜く
 ためのDX化の進め方について、事例を交えご紹介させ
 ていただきます。\n\n\n14:35～15:00\n第2セッション：クラ
 ウド型ERP・BI（見える化）活用で早く・安く・安全なDX
 化の進め方株式会社SHIFTエンタープライズ産業・流通
 統轄部　エンタープライズソリューションビジネスユ
 ニットESプリセールスグループ長大塚 和浩■登壇内容
 ■ウィズ＆ポストコロナ時代を勝ち抜くためのDX化実
 現の鍵は『クラウド型サービス』です。ERP、BIや新た
 なDXサービスの活用も、クラウド型なら『早く、安く
 、安全』に実現できる時代。クラウド化に新たな軸足
 をおくSHIFTからクラウド型サービスを活用したDX化の進
 め方をご紹介します。\n\n\n15:00\n終了\n\n\n\n※講師およ
 び講演内容は一部変更になる場合がございます※SHIFT
 の同業・競合他社様のお申し込みはお断りする場合が
 ございます※Gmailなどのフリーメールアドレスはご参
 加登録いただけません\n登壇者\n株式会社クニエシニア
 マネージャー牧野 真朋 氏\n■経歴■大手企業から中堅
 ・中小企業までの経営企画や経理部門での各種改革やD
 X化のお手伝いをされている株式会社クニエ　牧野様よ
 りウィズ＆ポストコロナ時代を勝ち抜くためのDX化の
 進め方について、事例を交えご紹介させていただきま
 す。\n\n株式会社SHIFTエンタープライズ産業・流通統轄
 部　エンタープライズソリューションビジネスユニッ
 トESプリセールスグループ長大塚 和浩\n■経歴■ウィ
 ズ＆ポストコロナ時代を勝ち抜くためのDX化実現の鍵
 は『クラウド型サービス』です。ERP、BIや新たなDXサー
 ビスの活用も、クラウド型なら『早く、安く、安全』
 に実現できる時代。クラウド化に新たな軸足をおくSHIF
 Tからクラウド型サービスを活用したDX化の進め方をご
 紹介します。\n\n開催概要\n開催日：2021年7月27日（火）
 14:00～15:00参加料：無料視聴方法：オンラインセミナー
 システムにて開催※動画視聴方法につきましては、お
 申し込みいただいた方へのみご案内させていただきま
 す。※同業他社・競合他社様、個人様のお申し込みは
 お断りする場合がございます。\n■個人情報保護方針
 について当社は、ご入力いただいた個人情報を、以下
 の目的でSHIFTグループ企業、一般社団法人UX設計技術推
 進協会と共同で利用することがあります。・本セミナ
 ーの運営・お問合せへの対応・製品・サービスに関す
 るご案内\n個人情報の取り扱いについてはこちらをご
 参照いただき、同意の上お申し込みください。株式会
 社SHIFTプライバシーポリシーはこちら　https://www.shiftinc
 .jp/privacy/\nハッシュタグ\n#techplayjp
LOCATION:オンライン
URL:https://techplay.jp/event/822831?utm_medium=referral&utm_source=ics&utm
 _campaign=ics
END:VEVENT
END:VCALENDAR
