BEGIN:VCALENDAR
VERSION:2.0
PRODID:-//https://techplay.jp//JP
CALSCALE:GREGORIAN
METHOD:PUBLISH
X-WR-CALDESC:大阪シニアプログラミングもくもく会2021年7月
 版
X-WR-CALNAME:大阪シニアプログラミングもくもく会2021年7月
 版
X-WR-TIMEZONE:Asia/Tokyo
BEGIN:VTIMEZONE
TZID:Asia/Tokyo
BEGIN:STANDARD
DTSTART:19700101T000000
TZOFFSETFROM:+0900
TZOFFSETTO:+0900
TZNAME:JST
END:STANDARD
END:VTIMEZONE
BEGIN:VEVENT
UID:823230@techplay.jp
SUMMARY:大阪シニアプログラミングもくもく会2021年7月版
DTSTART;TZID=Asia/Tokyo:20210716T200000
DTEND;TZID=Asia/Tokyo:20210716T220000
DTSTAMP:20260424T010412Z
CREATED:20210630T130647Z
DESCRIPTION:イベント詳細はこちら\nhttps://techplay.jp/event/82323
 0?utm_medium=referral&utm_source=ics&utm_campaign=ics\n\n大阪シニア
 プログラミングもくもく会2021年7月\n概要\nプログラミ
 ングを趣味として作品作りを楽しむシニアの会合です
 。\nオンラインにより開催しますので、大阪の名前が
 入っていますが、これにとらわれず遠くからのご参加
 も自由です。\n・自分で開発したscratchやアプリなどの
 作品を発表できる時間があります。作品発表を希望さ
 れる方は、アンケートにその旨をご記入くださるよう
 お願いいたします。また作品は自分で開発したもの以
 外でも、参考になるものがあれがご紹介することも自
 由です。\n・また、毎月、テーマを一つ決めて、それ
 について色々と参加者でおしゃべりをします。今月はG
 oogle ドキュメントです。Googleが無料提供する、ウェブ
 ブラウザ内で動くソフトですが、このソフトの共有機
 能を紹介します。時間があれば共有機能を使った、し
 りとりゲームを楽しみましょう。\nZoomを使用しますの
 で、事前にインストールしておいてください。\nタイ
 ムスケジュール(案)\n\n\n\n時間\n内容\n\n\n\n\n19:50〜\n受
 付開始\n\n\n20:00〜20:45\n作品発表等\n\n\n20:45〜21:30\nGoogle
 ドキュメント\n\n\n\n※ 当日参加人数などにより予告な
 く時間配分・内容が変更になる可能性がございます。\
 n参加方法\n申込者には開催2~3日前と当日の１８時頃にZ
 oomの招待メールを送付いたします。\n当日は１９時５
 ０分ごろから受付を開始します。当日の途中参加や退
 出は自由です。\n参加費\n無料\n注意事項\n\n欠席される
 場合は、お手数ですが速やかにキャンセル処理をお願
 い致します。\n
LOCATION:オンラインで開催します
URL:https://techplay.jp/event/823230?utm_medium=referral&utm_source=ics&utm
 _campaign=ics
END:VEVENT
END:VCALENDAR
