BEGIN:VCALENDAR
VERSION:2.0
PRODID:-//https://techplay.jp//JP
CALSCALE:GREGORIAN
METHOD:PUBLISH
X-WR-CALDESC:事前登録5500名超えのバーチャルイベント【Tabl
 eau Live Japan】～ Tableau 活用事例から学ぶデータドリブ
 ンな組織の作り方～
X-WR-CALNAME:事前登録5500名超えのバーチャルイベント【Tabl
 eau Live Japan】～ Tableau 活用事例から学ぶデータドリブ
 ンな組織の作り方～
X-WR-TIMEZONE:Asia/Tokyo
BEGIN:VTIMEZONE
TZID:Asia/Tokyo
BEGIN:STANDARD
DTSTART:19700101T000000
TZOFFSETFROM:+0900
TZOFFSETTO:+0900
TZNAME:JST
END:STANDARD
END:VTIMEZONE
BEGIN:VEVENT
UID:823337@techplay.jp
SUMMARY:事前登録5500名超えのバーチャルイベント【Tableau L
 ive Japan】～ Tableau 活用事例から学ぶデータドリブンな
 組織の作り方～
DTSTART;TZID=Asia/Tokyo:20210714T130000
DTEND;TZID=Asia/Tokyo:20210714T170000
DTSTAMP:20260421T210810Z
CREATED:20210701T003806Z
DESCRIPTION:イベント詳細はこちら\nhttps://techplay.jp/event/82333
 7?utm_medium=referral&utm_source=ics&utm_campaign=ics\n\nTableau Live Jap
 an\n14:35 - 15:05   ソリューションセッション\n『 Tableau 
 活用事例から学ぶデータドリブンな組織の作り方 』　
 ～不動産業界から人材会社、保険会社まで～\n概要\n昨
 今、企業の持つデータが膨大になることに伴い、デー
 タ活用に注目が集まっていることに加え、事業を飛躍
 的に成長させるインサイトを発見するため「データの
 可視化」に取り組む企業が増えています。データから
 ビジネスに有用な情報を取得しようとする企業が増え
 ているものの、具体的にデータの可視化をどう実現す
 るかがわからない方が多いのではないでしょうか。\n
 キーウォーカーでは、2021年7月14日（水）に開催される
 「Tableau Live Japan」にアライアンスパートナーとして出
 展・登壇し、データ分析、可視化に対し様々な課題を
 お持ちの方に向け、データを活用し分析スキルを向上
 させるための新しい方法をお伝えします。\n・日時：20
 21年7月14日（水）13:00～・会場：オンライン・協賛：キ
 ーウォーカー、日本電気、NECソリューションイノベー
 タ　　　　PwCコンサルティング、セゾン情報システム
 ズ、NTT データ・事前登録：5\,500名・参加費　：無料・
 事前登録フォーム：https://www.tableau.com/ja-jp/events/tableau-l
 ive/japan?utm_medium=Partner&utm_source=Keywalker\nTableauを導入・活
 用されているお客様の事例、Tableau 社員が語るおすす
 めの最新機能、ソリューションセッション、Tableau コ
 ミュニティーセッションなどのプログラムを予定して
 おります。\n本イベントではEventHub（イベント交流プラ
 ットフォーム） を採用。イベント参加者と事前に15 分
 単位で面会のアポを取ることができ、効率的に人材交
 流や商談が可能です。\nキーォーカー講演概要\n14:35 - 1
 5:05 ソリューションセッション\n『 Tableau 活用事例から
 学ぶデータドリブンな組織の作り方 』　～不動産業界
 から人材会社、保険会社まで～\nデジタル化によって
 蓄積したデータを業務やマーケティング、サービス向
 上のために活用するには、\n「集めたデータから何を
 見出し、どのように活用するか」\nが問われます。\nキ
 ーウォーカーでは、「Tableau を活用したデータドリブ
 ンな組織作り」をテーマに、これまで支援してきた様
 々な業界の事例をもとに解説します。\n事前登録フォ
 ーム：\nhttps://www.tableau.com/ja-jp/events/tableau-live/japan?utm_me
 dium=Partner&utm_source=Keywalker\n事例紹介\n□ タクシー会社
 様向けに意思決定に活かすためのデータ運用基盤の構
 築□ 金融会社様向けに分散して存在していたデータベ
 ースやExcelをTableauに一元化□ 人材派遣会社様向けに日
 報システムを開発、ネクストアクションの指示を迅速
 化□ 不動産業者様向けにAIで賃料推定モデル構築、Tabl
 eauに組込み意思決定を迅速化\nデータ可視化サンプル
 （講演資料より抜粋）\nエリア情報(ホテル情報、料金
 プラン etc.)を可視化し「エリア特性」を発見\n\n登壇者
 \n株式会社キーウォーカー取締役CSO データソリューシ
 ョン営業部長赤沼 隼\n登壇者略歴\n2004年から大手物流
 会社で通販事業者、メーカーへ物流ノウハウを活用し
 たITソリューションを提供。その後、シンガポール、
 マレーシアに駐在し海外における物流ネットワークの
 業務設計から構築に注力。2019年、キーウォーカー入社
 後データドリブンセールスを武器にAI、ビッグデータ
 の活用支援を行う。\nハッシュタグ\n#Tableau
LOCATION:オンライン
URL:https://techplay.jp/event/823337?utm_medium=referral&utm_source=ics&utm
 _campaign=ics
END:VEVENT
END:VCALENDAR
