BEGIN:VCALENDAR
VERSION:2.0
PRODID:-//https://techplay.jp//JP
CALSCALE:GREGORIAN
METHOD:PUBLISH
X-WR-CALDESC:【経営者向け業務自動化セミナー】時間のか
 かる事務作業を自動化。無駄作業ゼロで営業活動に集
 中!
X-WR-CALNAME:【経営者向け業務自動化セミナー】時間のか
 かる事務作業を自動化。無駄作業ゼロで営業活動に集
 中!
X-WR-TIMEZONE:Asia/Tokyo
BEGIN:VTIMEZONE
TZID:Asia/Tokyo
BEGIN:STANDARD
DTSTART:19700101T000000
TZOFFSETFROM:+0900
TZOFFSETTO:+0900
TZNAME:JST
END:STANDARD
END:VTIMEZONE
BEGIN:VEVENT
UID:823347@techplay.jp
SUMMARY:【経営者向け業務自動化セミナー】時間のかかる
 事務作業を自動化。無駄作業ゼロで営業活動に集中!
DTSTART;TZID=Asia/Tokyo:20210723T110000
DTEND;TZID=Asia/Tokyo:20210723T120000
DTSTAMP:20260420T043506Z
CREATED:20210701T051921Z
DESCRIPTION:イベント詳細はこちら\nhttps://techplay.jp/event/82334
 7?utm_medium=referral&utm_source=ics&utm_campaign=ics\n\n概要\nコロ
 ナ化により社会全体で生産性向上の重要性が増し、企
 業にとっても業務の効率化や事務時間の抑制は必須と
 なってきています。\n一方で、ITに対する"漠然とした
 願望"がありつつも、コストとの折り合いが付かない中
 小企業が多いことも事実です。\n本セミナーでは、RPA
 の活用ででムダ業務を10\,000時間削減した成功事例と共
 に、管理業務の負担を減らす事例やノウハウ、営業活
 動の質と量を最大化する仕組みづくりを紹介します。\
 n不動産・建築業界において、残業時間5時間未満で売
 上高150億円を達成した当社の事例紹介を交え、誰でも
 できる事務仕事を減らし、売上に直結する仕事に集中
 させるために、どういった業務を自動化できるのか、
 上司の管理業務をいかに軽減できるか、当社のRPA活用
 事例やノウハウを交えお話いたします。\nタイムスケ
 ジュール\n\n\n\n時間\n内容\n\n\n\n\n①\nIT化する上で陥り
 がちな中小企業の問題点・失敗例\n\n\n②\n自社業務の
 アプリ自動化のメリットと事例・ノウハウ紹介\n\n\n③\
 nスピード感をもって最適なIT化を進めるために\n\n\n④\
 nその他・質疑応答\n\n\n\n※ 当日予告なく時間配分・内
 容が変更になる可能性がございます。\n参加対象\n\n経
 営者\nマネージャー\n情報システム担当者\n業務の効率
 化でお悩みの方\n\n参加費\n無料
LOCATION:オンライン
URL:https://techplay.jp/event/823347?utm_medium=referral&utm_source=ics&utm
 _campaign=ics
END:VEVENT
END:VCALENDAR
