BEGIN:VCALENDAR
VERSION:2.0
PRODID:-//https://techplay.jp//JP
CALSCALE:GREGORIAN
METHOD:PUBLISH
X-WR-CALDESC:【企業向け】 成功パターンから読み解く 売上
 に繋がるTwitter運用
X-WR-CALNAME:【企業向け】 成功パターンから読み解く 売上
 に繋がるTwitter運用
X-WR-TIMEZONE:Asia/Tokyo
BEGIN:VTIMEZONE
TZID:Asia/Tokyo
BEGIN:STANDARD
DTSTART:19700101T000000
TZOFFSETFROM:+0900
TZOFFSETTO:+0900
TZNAME:JST
END:STANDARD
END:VTIMEZONE
BEGIN:VEVENT
UID:823486@techplay.jp
SUMMARY:【企業向け】 成功パターンから読み解く 売上に
 繋がるTwitter運用
DTSTART;TZID=Asia/Tokyo:20210714T160000
DTEND;TZID=Asia/Tokyo:20210714T170000
DTSTAMP:20260423T180533Z
CREATED:20210702T050112Z
DESCRIPTION:イベント詳細はこちら\nhttps://techplay.jp/event/82348
 6?utm_medium=referral&utm_source=ics&utm_campaign=ics\n\n【企業向け
 】 成功パターンから読み解く 売上に繋がるTwitter運用\
 nウェビナー後のアンケートにて希望された方限定で、
 弊社保有のビッグデータに基づいた競合調査や貴社サ
 イト課題点・改善点を用いた面談も行っております。
 お時間のある方はぜひご参加ください。\n▼ウェビナ
 ー内容・Twitterマーケティングのカギ「エンゲージメン
 ト」を中心とした施策設計とは・Twitterマーケティング
 を成功させる組織づくりとは 　・成果に繋がるTwitter
 の数値管理とは\n▼ウェビナー開催概要・開催日時：20
 21年7月14日（水）16:00～17:00・参加費：無料・開催方法
 ：ウェビナー　※Zoomを利用します・参加方法：お申込
 後に、別途担当者よりメールにてご案内致します。\n
 ▼タイムスケジュール15:58〜　視聴用URL開場16:00〜16:40
 　ウェビナー本編16:40〜17:00　質疑応答・アンケート回
 答　※質問がなくなり次第終了\n※ 当日予告なく時間
 配分・内容が変更になる可能性がございます。\n▼講
 師紹介平　大志朗株式会社CINC取締役副社長\n▼注意事
 項競合他社/同業者/企業にご所属でない個人の方から
 のお申込みなど、 当社の判断によりセミナー参加をお
 断りする場合があります。予めご了承ください。
LOCATION:オンラインセミナー
URL:https://techplay.jp/event/823486?utm_medium=referral&utm_source=ics&utm
 _campaign=ics
END:VEVENT
END:VCALENDAR
