BEGIN:VCALENDAR
VERSION:2.0
PRODID:-//https://techplay.jp//JP
CALSCALE:GREGORIAN
METHOD:PUBLISH
X-WR-CALDESC:最新事例に学ぶ！IBMのハイブリッド・クラウ
 ド戦略とIBMでのキャリア
X-WR-CALNAME:最新事例に学ぶ！IBMのハイブリッド・クラウ
 ド戦略とIBMでのキャリア
X-WR-TIMEZONE:Asia/Tokyo
BEGIN:VTIMEZONE
TZID:Asia/Tokyo
BEGIN:STANDARD
DTSTART:19700101T000000
TZOFFSETFROM:+0900
TZOFFSETTO:+0900
TZNAME:JST
END:STANDARD
END:VTIMEZONE
BEGIN:VEVENT
UID:823729@techplay.jp
SUMMARY:最新事例に学ぶ！IBMのハイブリッド・クラウド戦
 略とIBMでのキャリア
DTSTART;TZID=Asia/Tokyo:20210729T183000
DTEND;TZID=Asia/Tokyo:20210729T193000
DTSTAMP:20260423T081127Z
CREATED:20210704T234525Z
DESCRIPTION:イベント詳細はこちら\nhttps://techplay.jp/event/82372
 9?utm_medium=referral&utm_source=ics&utm_campaign=ics\n\n最新事例に
 学ぶ！IBMのハイブリッド・クラウド戦略とIBMでのキャ
 リア\n\n概要\n当セミナーでは、IT業界やコンサルティ
 ングファームでキャリアを築いてきた方々を対象にIBM
 の最新の戦略や事例をお伝えします。「なぜ、オープ
 ンなハイブリッド・クラウドが必要とされるのか」「I
 BMが全世界で展開しているハイブリッド・クラウド戦
 略とはどのようなものか」「ハイブリッド・クラウド
 の最新事例はどのようなものか」情報を掴んでいただ
 けましたら幸いです。また、当日は中途でIBMに入社さ
 れた社員も参加し、IBMでのキャリアについてご紹介し
 ます。現在の仕事内容ややりがいはもとより、働いて
 みてわかったIBMのこと、他社との違い等多方面に渡っ
 てご紹介する予定です。1時間を通して、何か今後を考
 えるきっかけをお届けできればと思います。\n\n開催日
 時・タイムスケジュール\n2021/7/29（木）18:30〜19:30\n\n\n\
 n\n時間\n内容\n\n\n\n\n18:30~18:35\nOpening\n\n\n18:35~18:50\nIBMの
 ハイブリッド・クラウド戦略とHCSの目指す方向性執行
 役員\, IBMオープン・クラウド・センター長 二上哲也\n\
 n\n18:50~19:10\nハイブリッド・クラウド最新事例紹介GBS事
 業本部 ハイブリッド・クラウド・サービス　渡海\n\n\n
 19:10~19:25\nIBMでの働き方　中途入社社員のホンネGBS事業
 本部 ハイブリッド・クラウド・サービス　馬場\n\n\n19:
 25~19:30\nClosing\n\n\n\n※ 当日は、4月にIBMフェローに着任
 した二上から「IBMのハイブリッド・クラウド戦略とHCS
 の目指す方向性」をご紹介させていただきます。https:/
 /jp.newsroom.ibm.com/2021-04-12-Announcement-of-appointment※ 当日予
 告なく時間配分・内容が変更になる可能性がございま
 す。\n参加対象\n\nエンジニア\nコンサルタント\nITアー
 キテクト\n\n参加費\n無料\nハッシュタグ\n#techplayjp\n注
 意事項\n\nリクルーティング、勧誘など、採用目的での
 イベント参加はお断りしております。\nキャンセル待
 ち・補欠・落選の方はご参加いただくことが出来ませ
 んのでご了承ください。\n欠席される場合は、お手数
 ですが速やかにキャンセル処理をお願い致します。\n
 無断キャンセルや欠席が続く場合、次回以降の参加を
 お断りさせていただく場合がございます。\n\n\n\n
LOCATION:オンライン（お申込いただいた方には開催前に当
 日の接続先URLを共有します）
URL:https://techplay.jp/event/823729?utm_medium=referral&utm_source=ics&utm
 _campaign=ics
END:VEVENT
END:VCALENDAR
