BEGIN:VCALENDAR
VERSION:2.0
PRODID:-//https://techplay.jp//JP
CALSCALE:GREGORIAN
METHOD:PUBLISH
X-WR-CALDESC:システムの保守性を向上！　アーキテクチャ
 解析ツール 「Lattix 」紹介WEBセミナー
X-WR-CALNAME:システムの保守性を向上！　アーキテクチャ
 解析ツール 「Lattix 」紹介WEBセミナー
X-WR-TIMEZONE:Asia/Tokyo
BEGIN:VTIMEZONE
TZID:Asia/Tokyo
BEGIN:STANDARD
DTSTART:19700101T000000
TZOFFSETFROM:+0900
TZOFFSETTO:+0900
TZNAME:JST
END:STANDARD
END:VTIMEZONE
BEGIN:VEVENT
UID:823991@techplay.jp
SUMMARY:システムの保守性を向上！　アーキテクチャ解析
 ツール 「Lattix 」紹介WEBセミナー
DTSTART;TZID=Asia/Tokyo:20210929T160000
DTEND;TZID=Asia/Tokyo:20210929T170000
DTSTAMP:20260421T041537Z
CREATED:20210707T015945Z
DESCRIPTION:イベント詳細はこちら\nhttps://techplay.jp/event/82399
 1?utm_medium=referral&utm_source=ics&utm_campaign=ics\n\nLattix紹介セ
 ミナー | テクマトリックス株式会社\n⇒セミナーの申
 し込みは、主催者のサイトから申し込みとなります。 
 こちらクリック\n概要\n以下のような課題をお持ちの方
 に最適なセミナーです\n\n要素間の依存関係やコード修
 正の影響範囲の把握が困難\n循環参照モジュール、階
 層構造の崩れといったアプリケーションの構造確認や
 問題点を把握したい\nメトリクスを使って、システム
 の定量的な保守性の評価や客観的なレビューを行いた
 い\n\n※事前質問も承っております。事前に頂いたご質
 問はQ&Aのお時間で回答致します。※ご日程の都合がつ
 かない場合、個別でのWEB会議等も承りますので、お気
 軽にご相談下さい。\nタイムスケジュール\n\n\n\n時間\n
 内容\n\n\n\n\n16:00～\n開始\n\n\n16:00～16:45\nセミナー\n\n\n16
 :45～17:00\n終了後に質疑応答\n\n\n\n※ 当日予告なく時間
 配分・内容が変更になる可能性がございます。\n会場\n
 \nWebブラウザーより簡単にセミナーに参加いただけま
 す。\nZoomを利用したWEBセミナーとなります。\n\n\nアジ
 ェンダ\n・テクマトリックス株式会社と開発元のご紹
 介\n・Lattixの概要紹介（資料）\n・Lattixのデモンストレ
 ーション\n・Q&A\n\n\n想定受講者\n\n設計担当者\nチーム
 リーダー\nマネージャー\n\n受講料\n\n無料\n\nお問い合
 わせ\n\nテクマトリックス株式会社　ソフトウェアエン
 ジニアリング事業部\n\n「Lattix」公式サイト
LOCATION:WEBセミナー
URL:https://techplay.jp/event/823991?utm_medium=referral&utm_source=ics&utm
 _campaign=ics
END:VEVENT
END:VCALENDAR
