BEGIN:VCALENDAR
VERSION:2.0
PRODID:-//https://techplay.jp//JP
CALSCALE:GREGORIAN
METHOD:PUBLISH
X-WR-CALDESC:【PLAN-B×BES】【無料セミナー】「SEO対策×SNS運
 用」最新トレンドを大公開！今やるべきWebマーケティ
 ングとは
X-WR-CALNAME:【PLAN-B×BES】【無料セミナー】「SEO対策×SNS運
 用」最新トレンドを大公開！今やるべきWebマーケティ
 ングとは
X-WR-TIMEZONE:Asia/Tokyo
BEGIN:VTIMEZONE
TZID:Asia/Tokyo
BEGIN:STANDARD
DTSTART:19700101T000000
TZOFFSETFROM:+0900
TZOFFSETTO:+0900
TZNAME:JST
END:STANDARD
END:VTIMEZONE
BEGIN:VEVENT
UID:824259@techplay.jp
SUMMARY:【PLAN-B×BES】【無料セミナー】「SEO対策×SNS運用」
 最新トレンドを大公開！今やるべきWebマーケティング
 とは
DTSTART;TZID=Asia/Tokyo:20210727T140000
DTEND;TZID=Asia/Tokyo:20210727T153000
DTSTAMP:20260421T002347Z
CREATED:20210709T055617Z
DESCRIPTION:イベント詳細はこちら\nhttps://techplay.jp/event/82425
 9?utm_medium=referral&utm_source=ics&utm_campaign=ics\n\n『「SEO対策
 ×SNS運用」最新トレンドを大公開！今やるべきWebマー
 ケティングとは』\n▼第一部（14:00-14:40）：株式会社BES
 \nコロナ禍でますます必要性を感じる方の増えてきたSN
 S運用。現在ではBtoC企業はもとよりBtoB企業でもSNS運用
 を本格的に始める企業も多くなってきました。ただそ
 んな中でなんとなく投稿、運用している企業がほとん
 どというのが事実です。SNS運用をする上で必ず意識す
 るべきユーザーニーズとユーザーコミュニケーション
 についてご説明します。最新のInstagram地図検索機能な
 どの紹介などもしますので最新情報をキャッチするこ
 とも可能です。これから本格的にSNS運用を始めたい、
 既に運用しているが伸び悩んでいる方には特におすす
 めです。\n\n▼こんな方におすすめです\n・Instagram、Twit
 terなどのフォロワーが伸びない方・ただなんとなく会
 社のSNS運用をしてしまっている方・これからSNS運用を
 始められる方・なるべくコストをかけずに効率よく集
 客をしたい方\n▼このウェビナーで学べること\n・なぜ
 今SNSを活用するべきなのか・運用で効果を出している
 企業の考え方・最新SNSツールのトレンド\n▼登壇者\n\n
 田中 千晶（Tanaka Chiaki）株式会社BES　代表取締役社長20
 09年、大学在学中に会社を設立し、1年半で大手企業、
 中小企業50社と取引をする。Webプロモーション支援を
 得意とし、特にSNS活用支援で多くの実績をもつ。2012年
 から全国各地でセミナーを精力的に実施。シリコンバ
 レーのFacebook本社やTwitter本社へ毎年出向いて直接SNSの
 最先端情報を仕入れてきている。角川出版社、マイナ
 ビ社、技術評論社、翔泳社、インプレス社でマーケテ
 ィング支援の書籍を6冊出版。連載も7社で行う。自身
 のラジオ番組、パーソナリティとしても活動し、SNSの
 最新情報を届けている。\n\n▼SNS SCHOOLについて\n企業様
 ごとにカリキュラムをカスタマイズし、運用・コンサ
 ル・研修 を一気通貫で行うプログラムです。今までの
 SNS運用代行で個別にかかっていたコストを大幅に削減
 し、企業にとって一生モノの財産になる、人材のスキ
 ルアップを実現します。受講者数総勢7\,000人以上! 100
 回以上の研修実績があり、すでに数十社の企業に成果
 を実感頂いています。\n\nさらに！以下の条件を満たす
 とSNS SCHOOLを実質無料で受講することができます！・採
 用5年以内・35歳未満の正規労働者が5名以上いらっしゃ
 る企業様→人材開発支援助成金が利用できます！・常
 時使用する従業員の数5人以下の商業・サービス業の企
 業様・常時使用する従業員の数20人以下の宿泊業・娯
 楽業・製造業・その他の企業様→小規模事業者持続化
 補助金が利用できます！\n詳しくはセミナー内でご説
 明いたします。\n\n▼第一部（14:40-15:20）：株式会社PLAN
 -B\nコンテンツマーケティングに注目が集まる中、Webサ
 イトの運用にもう一度力を入れる、あるいは一から立
 ち上げを検討している企業様も多いです。またサイト
 上で単にコンテンツを作るだけではなく、新規顧客を
 獲得していくための様々な戦略が必要になります。SEO
 対策はその戦略のうちの一つです。今回はSEO対策で注
 意すべきポイントや、ライティング時に意識すべきポ
 イントをご紹介します。\n\n▼登壇者\n\n木村 律也（Kimu
 ra Rituya）株式会社PLAN-B 新規事業統括本部　SEARCH WRITE事
 業部　セールス京都大学硬式野球部にて主務兼選手と
 して活躍後、2019年に新卒としてPLAN-Bに入社し、2020年
 新人賞を受賞。SEOコンサルタントとして、TOC系では、
 大手ネイルスクール様・TOB系では大手クラウド系サー
 ビス会社様を歴任し、いずれも1ドメインのコンサルテ
 ィングから信頼を頂き3ドメインをご担当させて頂くま
 でにお客様とともに成長。個人としては、「SEO対策費
 用」というSEO対策会社がひしめき合うキーワードにて
 執筆したコンテンツが1位表示。 2020年8月からSEARCH WRITE
 ・フィールドセールスとして活躍している。\n\n▼セミ
 ナー詳細情報\n【日程】 7月27日(火)　14:00-15:30\n【タイ
 ムスケジュール】14:00-14:40　株式会社BES14:40-15:20　株式
 会社PLAN-B15:20-15:30　質疑応答など\n【定員】100名\n【注
 意事項】・WEBのみの開催となりますので、ご了承くだ
 さい。エントリーいただいた方に、前日までにWEBセミ
 ナー開催のURLをお送りします。※WEBツール：Zoom・競合
 、同業社様（SNS運用代行業者、ウェブ広告代理店等）
 のご参加はお断りいたします。・お申し込み後にやむ
 を得ずご欠席される場合は、お手数ですが前日までに
 （info@bes-japan.jp　担当:須沢）宛にご連絡ください。・
 本セミナーではお申込時に取得した個人情報を共催企
 業へ提供いたします。共催企業への個人情報提供の目
 的は次のとおりです。●共催企業内での情報共有●お
 客様のご意見やご感想の回答の共有●共催企業からの
 情報提供\n・各社プライバシーポリシーに同意の上お
 申込みください。株式会社BES：http://snsschool.net/policy/株
 式会社PLAN-B：https://www.plan-b.co.jp/privacy_policy/
LOCATION:オンライン(zoom)
URL:https://techplay.jp/event/824259?utm_medium=referral&utm_source=ics&utm
 _campaign=ics
END:VEVENT
END:VCALENDAR
