BEGIN:VCALENDAR
VERSION:2.0
PRODID:-//https://techplay.jp//JP
CALSCALE:GREGORIAN
METHOD:PUBLISH
X-WR-CALDESC:【無料オンライン】導入済BIツールに課題はあ
 りませんか？BI表示が遅い、BI項目追加が手間な方向け
 「BI徹底活用のためのデータ分析基盤セミナー」【デ
 ータ統合自動化サービス trocco®️】primeNumber
X-WR-CALNAME:【無料オンライン】導入済BIツールに課題はあ
 りませんか？BI表示が遅い、BI項目追加が手間な方向け
 「BI徹底活用のためのデータ分析基盤セミナー」【デ
 ータ統合自動化サービス trocco®️】primeNumber
X-WR-TIMEZONE:Asia/Tokyo
BEGIN:VTIMEZONE
TZID:Asia/Tokyo
BEGIN:STANDARD
DTSTART:19700101T000000
TZOFFSETFROM:+0900
TZOFFSETTO:+0900
TZNAME:JST
END:STANDARD
END:VTIMEZONE
BEGIN:VEVENT
UID:824479@techplay.jp
SUMMARY:【無料オンライン】導入済BIツールに課題はあり
 ませんか？BI表示が遅い、BI項目追加が手間な方向け「
 BI徹底活用のためのデータ分析基盤セミナー」【デー
 タ統合自動化サービス trocco®️】primeNumber
DTSTART;TZID=Asia/Tokyo:20210902T110000
DTEND;TZID=Asia/Tokyo:20210902T120000
DTSTAMP:20260424T003552Z
CREATED:20210712T003403Z
DESCRIPTION:イベント詳細はこちら\nhttps://techplay.jp/event/82447
 9?utm_medium=referral&utm_source=ics&utm_campaign=ics\n\n【無料・事
 前登録制】※TECH PLAY上のお申込みではなく専用のペー
 ジにてお申込みが必要です。\nお申込みはこちらから
 ▶https://blog.trocco.io/seminar/primenumber-bi-data\n\nこんな方に
 おすすめ\n\nBIのパフォーマンスが悪く、表示・分析に
 時間がかかっている方\nBIへのデータ分析項目の追加に
 工数がかかっている方\nBIに１つのシステムデータしか
 繋いでおらず、BI活用が進んでいない方\n\nこのセミナ
 ーでわかること\n\nパフォーマンスの悪いBIの原因と解
 決策\nBIを徹底活用するために必要なツール\nBI・デー
 タウェアハウス・データ連携ツールの関係\n\n概要\n　B
 Iツール導入後、いざ分析を始めてみると「思っていた
 分析が出来ない」「運用やレポート準備に工数がかか
 る」とお悩みの声をよく聞きます。 BIツールで経営状
 況を多角的に見る為には、販売・購買・生産・顧客管
 理システムや、SaaS・広告サービスといった外部システ
 ムなど、複数の異なるシステムから異なる形式のデー
 タを集めて、統合することが不可欠です。この前処理
 なしにデータを繋げると「見たい数値が見られない」
 「分析項目が増えるたびに追加工数がかかる」「レポ
 ート表示に時間がかかる」などあらゆる問題が発生し
 ます。　BIツールを上手に活用するためには何が必要
 なのか、どんなプロセスを踏めば ビジネスに活かせる
 データとして見れるのか。 本セミナーでは、事例をも
 とに実際に起こっていたBIツールの課題や、解決した
 方法を紹介いたします。\nタイムスケジュール\n\n\n\n時
 間\n内\n\n\n\n\n11:00〜\n開始のあいさつ\n\n\n11:05〜\nBI導入
 後によくある課題とニーズ\n\n\n11:15〜\n課題解決のため
 のデータ分析基盤とは・・・\n\n\n11:25〜\n3社のお客様
 事例に見るデータ分析基盤不動産SHOPナカジツ社、メル
 カリ社、他\n\n\n11:40〜\nデータ統合自動化サービスtrocco
 ®️とデータ活用支援\n\n\n11:50〜\n質疑応答\n\n\n\n※上
 記のコンテンツや時間配分は目安となっております。
 ※当日変更となる可能性もございますのでご了承くだ
 さい。\n・イベント開始までに視聴用URLを参加申し込
 み頂いた方へご案内します。・配信内容の録画/録音は
 ご遠慮ください。・終了時刻は前後する可能性がござ
 います。\n詳細お申し込みはこちら↓\n※TECHPLAY経由で
 はなく以下のサイト経由でお申込みくださいお申込み
 はこちらから▶https://blog.trocco.io/seminar/primenumber-bi-data\n
 講師プロフィール\n株式会社primeNumberソリューションア
 ーキテクト　岩田 匠・ITコンサルティング会社にてシ
 ステム開発経験後 同社R&D部隊に転籍・社内AI教育担当
 等を兼任後、AIベンチャーに転職・PaaS事業部にてビジ
 ネスリードや事業責任者を務めた後 primeNumberに参画・
 現在はデータ活用支援に関する提案とソリューション
 デリバリを牽引\n主催会社情報\n我々は「あらゆるデー
 タを、ビジネスの力に変える。」データテクノロジー
 カンパニーです。データが爆発的に増えていく時代に
 、誰もがすばやく、簡単にデータを使える環境を構築
 し、データ活用までのプロセスを最適化。高度なテク
 ノロジーと独自のアイデアで、世界中のビジネスを支
 援します。データ統合自動化サービス「troccoⓇ」の運
 営やデータ活用伴走支援型ソリューションを提供して
 います。
LOCATION:オンライン
URL:https://techplay.jp/event/824479?utm_medium=referral&utm_source=ics&utm
 _campaign=ics
END:VEVENT
END:VCALENDAR
