BEGIN:VCALENDAR
VERSION:2.0
PRODID:-//https://techplay.jp//JP
CALSCALE:GREGORIAN
METHOD:PUBLISH
X-WR-CALDESC:ニューバランス・鈴木健＆アクサダイレクト
 ・小原奈名絵が教える！「若手マーケターのお悩み解
 決Q&A」（Marketing Native Live vol.4）
X-WR-CALNAME:ニューバランス・鈴木健＆アクサダイレクト
 ・小原奈名絵が教える！「若手マーケターのお悩み解
 決Q&A」（Marketing Native Live vol.4）
X-WR-TIMEZONE:Asia/Tokyo
BEGIN:VTIMEZONE
TZID:Asia/Tokyo
BEGIN:STANDARD
DTSTART:19700101T000000
TZOFFSETFROM:+0900
TZOFFSETTO:+0900
TZNAME:JST
END:STANDARD
END:VTIMEZONE
BEGIN:VEVENT
UID:824560@techplay.jp
SUMMARY:ニューバランス・鈴木健＆アクサダイレクト・小
 原奈名絵が教える！「若手マーケターのお悩み解決Q&A
 」（Marketing Native Live vol.4）
DTSTART;TZID=Asia/Tokyo:20210729T183000
DTEND;TZID=Asia/Tokyo:20210729T193000
DTSTAMP:20260423T225554Z
CREATED:20210712T063425Z
DESCRIPTION:イベント詳細はこちら\nhttps://techplay.jp/event/82456
 0?utm_medium=referral&utm_source=ics&utm_campaign=ics\n\n【7/29開催】
 ニューバランス・鈴木健＆アクサダイレクト・小原奈
 名絵が教える！「若手マーケターのお悩み解決Q&A」（M
 arketing Native Live vol.4）\n概要\n株式会社CINC（シンク、以
 下 CINC）が運営するWebメディア「Marketing Native（マーケ
 ティング・ネイティブ）」では、7月29日（木）18時30分
 からアクサ損害保険（アクサダイレクト）上級執行役
 員CMOの小原奈名絵さんとニューバランス ジャパン マ
 ーケティング部ディレクター鈴木健さんの2人が若手マ
 ーケターの悩み相談に答えるオンラインイベントをラ
 イブ配信いたします。\nMarketing Nativeではこれまで3回に
 わたって「Marketing Native LIVE」を開催してきました。中
 でも毎回最も人気になるのは視聴者の皆さまから登壇
 者に寄せられる質問コーナーです。長文をびっしり書
 き込んでくださる方もいて、皆さまの熱心さ、向上心
 の強さに頭が下がる思いです。\nそこで今回の「vol.4」
 は質問コーナーの拡大版をお届けいたします。登壇者
 は企業でマーケティング部門のトップを務める2人と、
 「視聴者代表」の若手マーケター。両者をオンライン
 で結び、公開で「若手マーケターのお悩み解決Q&A」を
 ライブ配信いたします。\n若手マーケターは日頃、ど
 んなことに悩んでいるのか、マーケティング部門の責
 任者の方々はその悩みをどのように乗り越えてきたの
 か。いつも時間切れで聞けなかった、とっておきのお
 話をこの際、たっぷり教えていただきましょう！\n主
 なトーク内容（予定）\n・あすの仕事からすぐ役立つ
 マーケター向けの書籍が知りたい。・話題性のあるプ
 ロモーションのアイデアが思いつかない。・アンケー
 トやユーザーインタビューを繰り返しても消費者のイ
 ンサイトがつかめない。　など\n※トーク内容は、予
 告なく変更になる場合がございます。\n登壇者\n鈴木健
 （すずき・たけし）\n株式会社ニューバランス ジャパ
 ン マーケティング部ディレクター\n1991年に広告代理店
 の営業からキャリアをスタートし、2002年ナイキジャパ
 ン入社。ナイキゴルフの広告、Web\, PRを担当。2009年ニ
 ューバランス ジャパン入社。ブランドマネジメント、
 PR、広告などマーケティング全般に幅広く携わる。\n\n
 小原奈名絵（おばら・ななえ）\nアクサ損害保険株式
 会社（アクサダイレクト）上級執行役員CMO\n早稲田大
 学卒業後、鎮痛薬のブランドマネージャーなどを経て
 、外資系金融機関のダイレクトマーケティング部門で
 デジタルマーケティングやコーポレートブランディン
 グを担当。2014年にアクサ損害保険に入社。社内のデジ
 タルトランスフォーメーション推進のほか、2019年に手
 掛けたテレビCMがCM総合研究所「消費者を動かしたCM展
 開10選」に選定される。グロービス経営大学院の第16回
 「グロービス　アルムナイ・アワード」（2020年度）変
 革部門を受賞。\n\nおすすめの視聴者\n\n企業や官公庁
 などに勤務する若手のマーケティング従事者\n\n参加費
 \n無料\nハッシュタグ\n#MN対談\n注意事項\n\n欠席される
 場合は、お手数ですが速やかにキャンセル処理をお願
 い致します。\n無断キャンセルや欠席が続く場合、次
 回以降の参加をお断りさせていただく場合がございま
 す。\n
LOCATION:オンライン（Zoom）
URL:https://techplay.jp/event/824560?utm_medium=referral&utm_source=ics&utm
 _campaign=ics
END:VEVENT
END:VCALENDAR
