BEGIN:VCALENDAR
VERSION:2.0
PRODID:-//https://techplay.jp//JP
CALSCALE:GREGORIAN
METHOD:PUBLISH
X-WR-CALDESC:【受付中】オンラインMatterport製品説明会（無
 料）
X-WR-CALNAME:【受付中】オンラインMatterport製品説明会（無
 料）
X-WR-TIMEZONE:Asia/Tokyo
BEGIN:VTIMEZONE
TZID:Asia/Tokyo
BEGIN:STANDARD
DTSTART:19700101T000000
TZOFFSETFROM:+0900
TZOFFSETTO:+0900
TZNAME:JST
END:STANDARD
END:VTIMEZONE
BEGIN:VEVENT
UID:824636@techplay.jp
SUMMARY:【受付中】オンラインMatterport製品説明会（無料）
DTSTART;TZID=Asia/Tokyo:20210804T110000
DTEND;TZID=Asia/Tokyo:20210804T120000
DTSTAMP:20260421T084619Z
CREATED:20210713T024329Z
DESCRIPTION:イベント詳細はこちら\nhttps://techplay.jp/event/82463
 6?utm_medium=referral&utm_source=ics&utm_campaign=ics\n\n【無料】Matt
 erport製品説明会　Matterportがどのような撮影機なのか説
 明します\n概要\n【内容】\n\n・Matterportとはどのような
 製品なのか\n・Matterportの特徴、活用方法、重要事項\n
 ・Matterportの撮影～クラウド契約、その他サポートにつ
 いて\n\n\n\nさらなるプラグインを少しだけ紹介\n\n\n\nMat
 terportMapAnalyzeの特徴と利用費用\nArchiTwinクラウドの特徴
 と効果の利用費用\n\n\n概要\nMatterport製品説明会をZoomウ
 ェビナーにてオンラインで行います。Matterportの導入を
 お考えの方は是非ご参加下さい。\nタイムスケジュー
 ル\n※ 当日予告なく時間配分・内容が変更になる可能
 性がございます。\n登壇者\n\n\n細谷 正広氏\nご参加を
 お待ちしております。\n\n参加対象・VR撮影機材のご購
 入をご検討の方・インターネット上で展示場を作成さ
 れたい方・建設現場をVRで記録されたい方・不動産広
 告CGパース作成者・Matterport製品をご購入をご検討中の
 方\n\n参照動画\n〜第４回 　建築現場で革新をおこす【
 Matterportの紹介】～　場所：Youtube Live日時：6月17日（木
 ）13:00-15:00\nMatterport 製品説明会　【オンライン講習】
 タイトル：Matterport 製品説明会月日：5月26日　11:00-11:30
 形式：オンライン講習\nタイトル：Matterport 製品説明会
 （短縮版）月日：2021.5.26　11:00-12:00形式：オンライン
 講習\n\nウェブサイト\nMatterport-プロモーション動画（3
 分間）\n有限会社リビングCG Matterport 代理店\n製品特徴
 \nデータダウンロード(サンプル・解説書・利用規約な
 ど)サンプルデータおよびチラシ・解説書・利用規約を
 ダウンロードできます。1 .サンプルデータ　（objファ
 イル、xyzファイル、平面図、天伏図）2.チラシ（PDF）3.
 解説書（PDF）4.利用規約（PDF）\nhttps://livingcg.jp/matterport
 /download/\nMatterportトレーニング\nMatterportよくあるご質問
 集\nMatterport 行動解析Matterport Map Analyzeは、Matterport Cloud
 と連携し、スペース内の利用者行動（導線・滞在時間
 など）をトラッキングし、分析・表示するツールです
 。このユーザ行動分析アプリケーションでVRでの展示
 をより活用し効果的な結果への追求が可能です。\n\n参
 加費\n無料\nハッシュタグ\n#techplayjp#Matterport#VR\n注意事
 項\n\nリクルーティング、勧誘など、採用目的でのイベ
 ント参加はお断りしております。\nキャンセル待ち・
 補欠・落選の方はご参加いただくことが出来ませんの
 でご了承ください。\n欠席される場合は、お手数です
 が速やかにキャンセル処理をお願い致します。\n無断
 キャンセルや欠席が続く場合、次回以降の参加をお断
 りさせていただく場合がございます。\n
LOCATION:オンライン
URL:https://techplay.jp/event/824636?utm_medium=referral&utm_source=ics&utm
 _campaign=ics
END:VEVENT
END:VCALENDAR
