BEGIN:VCALENDAR
VERSION:2.0
PRODID:-//https://techplay.jp//JP
CALSCALE:GREGORIAN
METHOD:PUBLISH
X-WR-CALDESC:[MLS3]第１回機械学習システムセキュリティ勉
 強会
X-WR-CALNAME:[MLS3]第１回機械学習システムセキュリティ勉
 強会
X-WR-TIMEZONE:Asia/Tokyo
BEGIN:VTIMEZONE
TZID:Asia/Tokyo
BEGIN:STANDARD
DTSTART:19700101T000000
TZOFFSETFROM:+0900
TZOFFSETTO:+0900
TZNAME:JST
END:STANDARD
END:VTIMEZONE
BEGIN:VEVENT
UID:824810@techplay.jp
SUMMARY:[MLS3]第１回機械学習システムセキュリティ勉強会
DTSTART;TZID=Asia/Tokyo:20210728T180000
DTEND;TZID=Asia/Tokyo:20210728T210000
DTSTAMP:20260422T070612Z
CREATED:20210714T061447Z
DESCRIPTION:イベント詳細はこちら\nhttps://techplay.jp/event/82481
 0?utm_medium=referral&utm_source=ics&utm_campaign=ics\n\n日時：7/28(
 水) 18:00-20:10\, 交流会:20:20-21:00\n場所：Zoom\nプログラム\
 n18:00-18:05 (オープニング)機械学習システムセキュリテ
 ィガイドライン策定部会(MLS-SG-TF)の発足と勉強会の趣
 旨\, 吉岡信和（早稲田大学 理工学術院総合研究所・研
 究院教授）\n18:05-18:30 基調講演: AIとセキュリティの4つ
 の観点と統合的セキュリティ構想\n\n講演者: 佐々木良
 一（東京電機大学研究推進社会連携センター 顧問 客
 員教授）\n略歴: 1971年東京大学卒業。同年日立製作所
 入社。システム開発研究所にてセキュリティ技術、ネ
 ットワーク管理システム等の研究開発に従事。2001年よ
 り2018年まで東京電機大学教授、現在、同大学顧問・客
 員教授、工学博士（東京大学）。2002年情報処理学会論
 文賞受賞。2007年および2017年に総務大臣表彰。2017年電
 子情報通信学会マイルストーン表彰など。著書に、「I
 Tリスクの考え方」岩波新書2008年等。日本セキュリテ
 ィ・マネジメント学会会長、内閣官房サイバーセキュ
 リティ補佐官等を歴任。\n18:30-18:50 招待講演: 機械学習
 のセキュリティの研究動向―金融サービスでの活用を
 展望して\n\n講演者: 宇根正志（日本銀行金融研究所情
 報技術研究センター）\n略歴：1994年、筑波大学第三学
 群社会工学類卒業、同年、日本銀行に入行。\n2003年、
 横浜国立大学大学院工学研究科博士課程後期修了、博
 士（工学）。\n現在、金融分野に関連の深い情報技術
 の研究に従事。\n18:50-18:55 質疑＆休憩\n18:55-19:15 招待講
 演: Security Development Lifecycle for AI (SDL4AI)\n\n講演者: 高橋
 正和（株式会社 Prefered Networks 執行役員最高セキュリテ
 ィ責任者）\n略歴：基本ソフトの開発などを経て1999年
 インターネット セキュリティシステムズ(ISS)に入社。
 セキュリティコンサルティングの立上げ、CIO、CTOを務
 める。2006年にマイクロソフト日本マイクロソフト Chief
  Security Advisorに就任。2017年より現職。\n著書に、「CISO
 ハンドブック～業務執行のための情報セキュリティ実
 践ガイド」（共著）技術評論社 2001年等\n日本ネットワ
 ークセキュリティ協会 副会長、日本セキュリティマネ
 ジメント学会 執行理事。\n19:15-19:35 講演: セキュリテ
 ィガイドラインと実践的AIセキュリティリスク分析プ
 ロセス\n\n講演者: 矢嶋 純 （富士通株式会社 富士通研
 究所 研究本部 データ＆セキュリティ研究所 AIサイバ
 ーセキュリティプロジェクト）\n略歴：\n1999年富士通
 株式会社入社、同年株式会社富士通研究所へ出向し、2
 021年に富士通株式会社に戻る。暗号・ハッシュ関数の
 安全性評価、暗号実装、自動車セキュリティ、AIセキ
 ュリティなどの研究開発に従事。1999年中央大学大学院
 修士課程修了。2021年情報セキュリティ大学院大学博士
 後期課程修了(博士(情報学))。2007年暗号と情報セキュ
 リティシンポジウム(SCIS2007)にてSCIS論文賞、2012年同シ
 ンポジウム(SCIS2012)にてイノベーション論文賞受賞。IPA
 の暗号モジュール試験及び認証制度における暗号アル
 ゴリズム実装試験要件検討WG委員(2010-)。電子情報通信
 学会ハードウェアセキュリティ研究会専門委員(2017-)。
 電子情報通信学会基礎・境界ソサエティ和・英論文誌
 編集委員(2021-)。\n19:35-19:40 質疑＆休憩\n19:40-20:00 セキ
 ュリティガイドラインへの期待と現場の課題について
 のグループ議論\, ファシリテータ: 吉岡信和（早稲田
 大学 理工学術院総合研究所）\n20:00-20:10 グループ発表 
 & クロージング\n20:20-21:00 第１回セキュリティガイドラ
 イン策定部会キックオフおよび交流会
LOCATION:オンライン オンライン
URL:https://techplay.jp/event/824810?utm_medium=referral&utm_source=ics&utm
 _campaign=ics
END:VEVENT
END:VCALENDAR
