BEGIN:VCALENDAR
VERSION:2.0
PRODID:-//https://techplay.jp//JP
CALSCALE:GREGORIAN
METHOD:PUBLISH
X-WR-CALDESC:それをやめれば売上は上がる！ムダを無くし
 て予算未達成者を0にする方法
X-WR-CALNAME:それをやめれば売上は上がる！ムダを無くし
 て予算未達成者を0にする方法
X-WR-TIMEZONE:Asia/Tokyo
BEGIN:VTIMEZONE
TZID:Asia/Tokyo
BEGIN:STANDARD
DTSTART:19700101T000000
TZOFFSETFROM:+0900
TZOFFSETTO:+0900
TZNAME:JST
END:STANDARD
END:VTIMEZONE
BEGIN:VEVENT
UID:824832@techplay.jp
SUMMARY:それをやめれば売上は上がる！ムダを無くして予
 算未達成者を0にする方法
DTSTART;TZID=Asia/Tokyo:20210720T150000
DTEND;TZID=Asia/Tokyo:20210720T160000
DTSTAMP:20260420T080634Z
CREATED:20210714T081416Z
DESCRIPTION:イベント詳細はこちら\nhttps://techplay.jp/event/82483
 2?utm_medium=referral&utm_source=ics&utm_campaign=ics\n\n新型コロナ
 ウイルスや働き方改革など、営業組織を取り巻く環境
 が目まぐるしく変化する中、売上を向上させる方法も
 従来通りの手法ではうまくいなかないケースが増えて
 きました。\n売上を向上させる施策は様々な観点があ
 りますが、昨今の情勢下で最も注目されているのは生
 産性の向上ではないでしょうか。\n生産性を向上させ
 る、と聞くと「労働時間を削減する」という観点に目
 がいきがちですが、本来の生産性とは成果をあげるた
 めにムダなタスクや行動を削減することで、受注率の
 向上や一人当たり受注件数の増加などが可能な重要指
 標の1つです。\n本セミナーでは無駄を削減することで
 生産性・売上を向上させるソリューションを提供する3
 社を招き、売上を向上させる生産性向上手法について
 具体的な事例を交えながらお話しいたします。\n■対
 象者\n下記のようなお悩み・課題をお持ちの方にお勧
 めです！・売上が向上しない原因が明確でない方・遅
 くまで残業をしているのに成果の上がらない部下がい
 る方・無駄を削減する売上向上施策をまだ行っていな
 い事業責任者の方\n■プログラム\n●メインプログラム
 それをやめれば売上は上がる！ムダを無くして予算未
 達成者を0にする方法●プレゼンテーション予算未達成
 者０の具体的手法とは●質疑応答・Q＆A\n■日程\n7月20
 日 (火) 15:00 - 16:00\n■ご参加方法\nzoomオンライン開催（
 PC、スマホ、タブレット）\n※お申し込み後にご視聴URL
 をお送りいたします。\n■ご確認事項\n・お申込みいた
 だいた方は、弊社プライバシーポリシーに同意いただ
 いたものとさせていただきます。・弊社サービスと類
 似、または競合するサービスの運営企業様のご参加は
 ご遠慮いただいております。あらかじめご了承くださ
 い。
LOCATION:オンライン
URL:https://techplay.jp/event/824832?utm_medium=referral&utm_source=ics&utm
 _campaign=ics
END:VEVENT
END:VCALENDAR
