BEGIN:VCALENDAR
VERSION:2.0
PRODID:-//https://techplay.jp//JP
CALSCALE:GREGORIAN
METHOD:PUBLISH
X-WR-CALDESC:【導入検討者向け】RPAデモセミナー 〜デモか
 ら学ぶ現場主導のRPA導入アプローチ〜
X-WR-CALNAME:【導入検討者向け】RPAデモセミナー 〜デモか
 ら学ぶ現場主導のRPA導入アプローチ〜
X-WR-TIMEZONE:Asia/Tokyo
BEGIN:VTIMEZONE
TZID:Asia/Tokyo
BEGIN:STANDARD
DTSTART:19700101T000000
TZOFFSETFROM:+0900
TZOFFSETTO:+0900
TZNAME:JST
END:STANDARD
END:VTIMEZONE
BEGIN:VEVENT
UID:824837@techplay.jp
SUMMARY:【導入検討者向け】RPAデモセミナー 〜デモから学
 ぶ現場主導のRPA導入アプローチ〜
DTSTART;TZID=Asia/Tokyo:20210727T110000
DTEND;TZID=Asia/Tokyo:20210727T120000
DTSTAMP:20260423T181233Z
CREATED:20210714T090930Z
DESCRIPTION:イベント詳細はこちら\nhttps://techplay.jp/event/82483
 7?utm_medium=referral&utm_source=ics&utm_campaign=ics\n\nRPAデモセミ
 ナー\n~デモから学ぶ現場主導のRPA導入アプローチ~\nセ
 ミナー概要\nRPAの最適な導入アプローチをRPA動作デモ
 を交えて解説\n働き⽅改⾰に伴ったリモートワークの
 推進や在宅勤務制度の普及で業務を取り巻く環境が⼤
 きく変わり、それに伴ってより ⾼い業務効率が求めら
 れています。こうした背景から各企業がRPA導⼊を検討
 、推進しています。\nこうした背景からRPA導入の検討
 、推進でこんなお悩みや疑問をお問い合わせいただき
 ます。\n\nRPAを検討していて、成功するRPAの導⼊⽅法を
 知りたい\nRPAを導入したいけど、どんなRPAツールが良
 いか知りたい\nRPAを導入したいけど、どんな業務に適
 ⽤できるか知りたい\n\n本セミナーでは、RPAの導⼊⽅法
 や業務事例の解説、ロボット操作デモの実演を通じて
 、RPA導⼊に対するお悩みや疑問の解決をお手伝いしま
 す。　\n当セミナーでは、ロボット開発やRPAの適正業
 務を理解し、具体的なRPA導入のイメージを掴むことが
 できます。\n■豊富な導⼊事例と実演デモ\n実際にRPAを
 適用した業務をご紹介し、RPAが強みを発揮する業務の
 特徴を解説します。 また実演デモをご覧いただき、業
 務担当者が簡単にロボットを作れることやRPAを適用す
 るべき業務など具体的なRPA導入のイメージを掴んでい
 ただきます。\n■最適なRPAの導入方法\n従来、IT技術者
 がロボット開発を行い、RPA導入を主導していましたが
 、導入までに時間とコストがかかりすぎてしまう問題
 がありました。 この問題を解消し、効果を確実に出せ
 る現場の業務担当者で主導するRPA導入のアプローチの
 進め方やメリットを解説します。\n■業務担当者主導
 型アプローチに適したRPAツール\n「ロボオペレータ」
 は業務担当者向けにつくられたRPAツールです。 操作デ
 モの実演や特徴、実績のご紹介を通じて、現場主導のR
 PA導入に向いたツールであることを知っていただきま
 す。　\n\n\n\n開催日程\n時間\n申込受付\n\n\n\n\n2021年7月2
 7日(火)\n11:00～12:00\nお申込はコチラ\n\n\n\n※ リクルー
 ティング、勧誘など、採用目的でのイベント参加はお
 断りしております。\n参加対象\nこんな方にオススメで
 す！\n\n社内やクライアント先にてRPA導入ご検討中の方
 \nRPAツールをご検討中の方\nRPAや業務効率化・自動化に
 興味がある方\n過去にRPA導入を試みた、もしくは検討
 したが断念した方　\n\nタイムスケジュール\n\n\n\n時間\
 n内容\n\n\n\n\n10:50〜\n受付開始\n\n\n11:00〜11:45\n1. RPAの基
 礎知識と導入方法（10分）2. RPAツール「ロボオペレー
 タ」のご紹介（10分）3. RPAの適用業務事例（15分）4. ロ
 ボオペレータの動作デモ実演（10分）\n\n\n11:45〜12:00\n
 質疑応答\n\n\n\n※ 当日予告なく時間配分・内容が変更
 になる可能性がございます。\nRPAツール『ロボオペレ
 ータ』とは？\n『ロボオペレータ』の特徴\n\n\n簡　単
 ：プログラミング知識が必要なく、直観的に操作がで
 きます！\n\nお手軽：普段お使いのPCにインストールす
 るだけで、すぐに使えます！\n\n安　い：月単位のライ
 センス体系のため、使いたいときだけ使えます\n\n無料
 トライアルも提供中\n\n『ロボオペレータ』の無料トラ
 イアルライセンスのご提供\nトライアル期間中の無料
 テクニカルサポート・技術支援の提供（詳しいサポー
 ト内容はセミナー内にてご案内）\n『ロボオペレータ
 』の基本操作が学べるトレーニングガイドもご提供\n\n
 参加方法\nWEBセミナー\n※ 配信ツールは「Zoom」を使用
 し、特別な設定やインストールの必要はございません
 。※ 参加用のURLを別途メールにてご案内させて頂きま
 す。\n参加費\n無料\n注意事項\n\nリクルーティング、勧
 誘など、採用目的でのイベント参加はお断りしており
 ます。\nキャンセル待ち・補欠・落選の方はご参加い
 ただくことが出来ませんのでご了承ください。\n欠席
 される場合は、お手数ですが速やかにキャンセル処理
 をお願い致します。\n無断キャンセルや欠席が続く場
 合、次回以降の参加をお断りさせていただく場合がご
 ざいます。\n
LOCATION:WEBセミナー
URL:https://techplay.jp/event/824837?utm_medium=referral&utm_source=ics&utm
 _campaign=ics
END:VEVENT
END:VCALENDAR
