BEGIN:VCALENDAR
VERSION:2.0
PRODID:-//https://techplay.jp//JP
CALSCALE:GREGORIAN
METHOD:PUBLISH
X-WR-CALDESC:【キャンセル・日程再調整中】 JJUGナイトセミ
 ナー「Kubernetes Native Java」8/10(火) 開催
X-WR-CALNAME:【キャンセル・日程再調整中】 JJUGナイトセミ
 ナー「Kubernetes Native Java」8/10(火) 開催
X-WR-TIMEZONE:Asia/Tokyo
BEGIN:VTIMEZONE
TZID:Asia/Tokyo
BEGIN:STANDARD
DTSTART:19700101T000000
TZOFFSETFROM:+0900
TZOFFSETTO:+0900
TZNAME:JST
END:STANDARD
END:VTIMEZONE
BEGIN:VEVENT
UID:825706@techplay.jp
SUMMARY:【キャンセル・日程再調整中】 JJUGナイトセミナ
 ー「Kubernetes Native Java」8/10(火) 開催
DTSTART;TZID=Asia/Tokyo:20210810T200000
DTEND;TZID=Asia/Tokyo:20210810T220000
DTSTAMP:20260423T163222Z
CREATED:20210722T060004Z
DESCRIPTION:イベント詳細はこちら\nhttps://techplay.jp/event/82570
 6?utm_medium=referral&utm_source=ics&utm_campaign=ics\n\n** 登壇者体
 調不良のためキャンセルとなりました。日程再調整中
 です。日時が決まりましたら改めてイベントページ作
 成・皆様にご案内いたしますので今しばらくお待ちく
 ださい。**\n\n8月のナイトセミナーは「Kubernetes Native Jav
 a」をお送りします。\nVMwareのJosh LongがKubernetesでの本番
 環境向けのSpringBootアプリケーションを構築する方法に
 ついて説明します。\n\n本イベントは全て英語でのセッ
 ションとなります。\n\nせっかくオンラインで実施する
 ので、気になるところや質問などを、チャットなどで
 書いてもらえると嬉しいです。オフラインではできな
 いことをやりたいので、みなさまわいわいご参加くだ
 さい！     \n\nナイトセミナー開催URLにつきましては、
 イベント開始15分前までに参加者の皆様にメール及びTw
 itter JJUG公式アカウントでお知らせいたします。\n\nタ
 イムテーブル\n\n\n\n時間\n内容\n\n\n\n20:00～20:05\nオープ
 ニング\n\n\n20:05～21:45\nKubernetes Native Java\n\n\n21:45～22:00\n
 QA＆クロージング\n\n\n\nKubernetes Native Java\n\nSpring is all ab
 out helping developers get to production quickly and safely. These days\,
  "production" is all but guaranteed to mean Kubernetes\, and Spring has y
 ou covered. Join me\, Spring Developer Advocate Josh Long \, and we'll lo
 ok at how Spring Boot makes writing blisteringly fast\, cloud-native\, an
 d scalable services more effortless than ever.\n\n[訳]\nSpringは、開
 発者が迅速かつ安全に本番環境に移行できるように支
 援することを目的としています。最近では、「本番」
 といえばKubernetesを意味することがほとんどですが、Spr
 ingはそれをカバーしています。今回は、Spring Developer Ad
 vocateのJosh Long氏と一緒に、Spring Bootがいかにして超高
 速なクラウドネイティブでスケーラブルなサービスを
 これまで以上に楽に作れるようにするかを見ていきま
 す。\n\nJosh Long  @starbuxman\n\nJosh has been the first Spring Develo
 per Advocate since 2010. Josh is a Java Champion\, author of 6 books (inc
 luding O'Reilly's "Cloud Native Java: Designing Resilient Systems with Sp
 ring Boot\, Spring Cloud\, and Cloud Foundry" and "Reactive Spring") and 
 numerous best-selling video training (including "Building Microservices w
 ith Spring Boot Livelessons" with Spring Boot co-founder Phil Webb)\, and
  an open-source contributor (Spring Boot\, Spring Integration\, Spring Cl
 oud\, Activiti and Vaadin\, etc)\, a podcaster ("A Bootiful Podcast") and
  a YouTuber.\n\n[訳]\nJoshは、2010年から初めてのSpring Develope
 r Advocateとして活躍しています。そして、Java Championで
 あり、6冊の書籍（O'Reillyの「Cloud Native Java: Designing Resil
 ient Systems with Spring Boot\, Spring Cloud\, and Cloud Foundry」や「
 Reactive Spring」など)の著者で、数々のベストセラーとな
 ったビデオトレーニングの作者でもあります。また、
 オープンソースのコントリビューター(Spring Boot\,Spring I
 ntegration\,Spring Cloud\,Activiti\,Vaadinなど)、ポッドキャスタ
 ー(A Bootiful Podcast)、YouTuberとしても活躍しています。
LOCATION:オンライン配信 (YouTube Live) オンライン配信 (YouTub
 e Live)
URL:https://techplay.jp/event/825706?utm_medium=referral&utm_source=ics&utm
 _campaign=ics
END:VEVENT
END:VCALENDAR
