BEGIN:VCALENDAR
VERSION:2.0
PRODID:-//https://techplay.jp//JP
CALSCALE:GREGORIAN
METHOD:PUBLISH
X-WR-CALDESC:2回で学べる！SEO記事の書き方！キーワードの
 選び方から書き方までまるわかり！
X-WR-CALNAME:2回で学べる！SEO記事の書き方！キーワードの
 選び方から書き方までまるわかり！
X-WR-TIMEZONE:Asia/Tokyo
BEGIN:VTIMEZONE
TZID:Asia/Tokyo
BEGIN:STANDARD
DTSTART:19700101T000000
TZOFFSETFROM:+0900
TZOFFSETTO:+0900
TZNAME:JST
END:STANDARD
END:VTIMEZONE
BEGIN:VEVENT
UID:826007@techplay.jp
SUMMARY:2回で学べる！SEO記事の書き方！キーワードの選び
 方から書き方までまるわかり！
DTSTART;TZID=Asia/Tokyo:20210817T120000
DTEND;TZID=Asia/Tokyo:20210824T130000
DTSTAMP:20260426T032006Z
CREATED:20210726T092339Z
DESCRIPTION:イベント詳細はこちら\nhttps://techplay.jp/event/82600
 7?utm_medium=referral&utm_source=ics&utm_campaign=ics\n\n2回で学べる
 ！SEO記事の書き方！キーワードの選び方から書き方ま
 でまるわかり！\n【連載1回目】2021年8月17日（火）12:00
 ～13:00 ※終了しました【連載2回目】2021年8月24日（火
 ）12:00～13:00\n連載1回目は記事作成時のキーワードの選
 定方法について、連載2回目は現役のエディターが登壇
 し、記事構成案の作り方について解説します。※エデ
 ィターは2回目のみに登壇予定です。\nウェビナー後の
 アンケートにて希望された方限定で、弊社保有のビッ
 グデータに基づいた競合調査や貴社サイト課題点・改
 善点を用いた面談も行っております。お時間のある方
 はぜひご参加ください。\n▼こんな方にオススメです
 ！・コンテンツマーケティングをこれから始めるご担
 当者様・記事構成案の作り方の流れを知りたいご担当
 者様・作った記事が評価されずに悩んでいるご担当者
 様\n▼ウェビナー内容【連載1回目】※終了しました・S
 EOで上位表示する為に必要な考え・Googleはビッグデー
 タからニーズを把握・検索意図の深堀り・記事の書き
 方\n【連載2回目】・記事構成案の作り方　└ユーザー
 ニーズ調査　└見出しの設定と肉付け　└仕上げと網
 羅チェックン\n▼ウェビナー開催概要・開催日時：　
 【連載1回目】2021年8月17日（火）12:00～13:00 ※終了しま
 した　【連載2回目】2021年8月24日（火）12:00～13:00・参
 加費：無料・開催方法：ウェビナー　※Zoomを利用しま
 す・参加方法：お申込後に、別途メールにてご案内致
 します。\n▼タイムスケジュール11:58〜　視聴用URL開場
 12:00〜12:40　ウェビナー本編12:40〜13:00　質疑応答・ア
 ンケート回答　※質問がなくなり次第終了\n※ 当日予
 告なく時間配分・内容が変更になる可能性がございま
 す。\n▼講師紹介古川 拓株式会社CINCコンサルタント\n
 日下部 貴士株式会社CINCマーケティングエディター\n▼
 注意事項競合他社/同業者/企業にご所属でない個人の
 方からのお申込みなど、 当社の判断によりセミナー参
 加をお断りする場合があります。予めご了承ください
 。
LOCATION:オンラインセミナー
URL:https://techplay.jp/event/826007?utm_medium=referral&utm_source=ics&utm
 _campaign=ics
END:VEVENT
END:VCALENDAR
