BEGIN:VCALENDAR
VERSION:2.0
PRODID:-//https://techplay.jp//JP
CALSCALE:GREGORIAN
METHOD:PUBLISH
X-WR-CALDESC:水曜日のDXデザイン #2 DXに向き合うリアル
X-WR-CALNAME:水曜日のDXデザイン #2 DXに向き合うリアル
X-WR-TIMEZONE:Asia/Tokyo
BEGIN:VTIMEZONE
TZID:Asia/Tokyo
BEGIN:STANDARD
DTSTART:19700101T000000
TZOFFSETFROM:+0900
TZOFFSETTO:+0900
TZNAME:JST
END:STANDARD
END:VTIMEZONE
BEGIN:VEVENT
UID:826112@techplay.jp
SUMMARY:水曜日のDXデザイン #2 DXに向き合うリアル
DTSTART;TZID=Asia/Tokyo:20210804T190000
DTEND;TZID=Asia/Tokyo:20210804T203000
DTSTAMP:20260425T022422Z
CREATED:20210727T062206Z
DESCRIPTION:イベント詳細はこちら\nhttps://techplay.jp/event/82611
 2?utm_medium=referral&utm_source=ics&utm_campaign=ics\n\nイベント概
 要\n水曜日のDXデザインとは、DXに向き合う人たちのリ
 アルな日常について聞けるイベントです。\n参加者の
 みなさんからもご質問やコメントをいただきながら進
 めていきます。\nZoom開催、途中参加・退出もOKなので
 、お仕事や家事の合間にぜひご参加ください！\n日時\n
 2021年8月4日（水）19:00開始\n※途中参加・退出OKです\n
 開催方法\nZoomで開催します。\nZoomのURL等は、お申込み
 いただいた方にメールでご案内いたします。\n※ 2021年
 8月4日（水）にご案内予定\n参加申込方法\nconnpassから
 お申し込みください。\nスピーカー\n山口 隆広｜Takahiro
  Yamaguchi｜@hiro93n\nプロダクトマネージャー / 人間中心
 設計専門家\n保育をハックするユニファ株式会社のプ
 ロダクトマネージャーでIAの人。ねこ大好き。プロダ
 クトじゃないマネジメントもそこそこ好き。これまで
 の経験事業領域はソーシャルゲームやIoTサービスなど
 。HCD-net認定センター&Webインフラの中の人も担当中。\n
 坂田 一倫 | Kazumichi Sakata | @mariosakata\nUXディレクター | U
 Iデザイナーとしてキャリアをスタート。制作会社や大
 手IT企業にてUXデザイナーとしてウェブサービスのUX改
 善や新規事業の立ち上げに従事。2016年よりPivotal Labs To
 kyoでプロダクトマネージャーとしてLeanXPの思想に基づ
 くプロダクト開発を行い、企業のDXを支援。その後、
 医療系スタートアップでプロダクトオーナーとしての
 経験を積み、2021年にChatworkに入社。\n三浦 直行 | Naoyuki
  Miura | @3ura_n\nデザイナー\nwebコンサルティング会社の
 デザイナーからライフステージの変化にともない株式
 会社マネーフォワードへ転職。\ntoB向けSaaSのプロダク
 ト開発を担当。2021年6月から個人・SMB領域のデザイン
 チームリーダーになり色々奮闘中。\n休日は3歳になる
 子供と公園巡りをして遊んでいます。\n猪爪 雄 | Inotsum
 e Takeshi | @inotashikeshike\nデザイナー／ファシリテーター 
 | 2012年、株式会社スポットライト入社。来店ポイント
 サービス「スマポ」のiOS/Androidアプリのデザインを担
 当。2013年度グッドデザイン賞受賞。\n2018年、マネーフ
 ォワード入社。仮想通貨事業、一般消費者向け事業な
 どを経て、現在はビジネス向け事業のデザインチーム
 に在籍。新規プロダクトの成功確率を高める考え方と
 プロセスをフレームワーク化し、様々なプロダクトへ
 の導入を進める。\nタイムテーブル\n\n19:00 受付開始\n19
 :05 オープニング  \n19:15 登壇者紹介\n19:30 セッション\n2
 0:20 クロージング\n\nこんな方におすすめ\n\nDXに興味が
 あるデザイナーやプロダクトマネージャー\n
LOCATION:Zoom オンライン
URL:https://techplay.jp/event/826112?utm_medium=referral&utm_source=ics&utm
 _campaign=ics
END:VEVENT
END:VCALENDAR
