BEGIN:VCALENDAR
VERSION:2.0
PRODID:-//https://techplay.jp//JP
CALSCALE:GREGORIAN
METHOD:PUBLISH
X-WR-CALDESC:【Webセミナー：オンライン商談成功のポイン
 トとは】人×仕組み×ソフトでオンラインでも成果を上
 げ続ける
X-WR-CALNAME:【Webセミナー：オンライン商談成功のポイン
 トとは】人×仕組み×ソフトでオンラインでも成果を上
 げ続ける
X-WR-TIMEZONE:Asia/Tokyo
BEGIN:VTIMEZONE
TZID:Asia/Tokyo
BEGIN:STANDARD
DTSTART:19700101T000000
TZOFFSETFROM:+0900
TZOFFSETTO:+0900
TZNAME:JST
END:STANDARD
END:VTIMEZONE
BEGIN:VEVENT
UID:826136@techplay.jp
SUMMARY:【Webセミナー：オンライン商談成功のポイントと
 は】人×仕組み×ソフトでオンラインでも成果を上げ続
 ける
DTSTART;TZID=Asia/Tokyo:20210804T150000
DTEND;TZID=Asia/Tokyo:20210804T170000
DTSTAMP:20260422T053724Z
CREATED:20210727T070301Z
DESCRIPTION:イベント詳細はこちら\nhttps://techplay.jp/event/82613
 6?utm_medium=referral&utm_source=ics&utm_campaign=ics\n\n【シン・営
 業スタイル】人・仕組み・ツールで見えたオンライン
 商談の成功\n〜人×仕組み×ソフトでオンラインでも成
 果を上げ続ける「オンライン商談」成功につながるポ
 イント〜\n概要\n■主催登壇：株式会社ジェック(15:00~15
 :30)新しい時代の営業スタイル「オンライン商談」成功
 の3つのポイント\n■ゲスト登壇：HubSpot Japan株式会社(15
 :30~16:00)今の環境だからこそできる「営業のナレッジベ
 ースで受注率向上を実現」\n■ゲスト登壇：株式会社
 ブイキューブ(16:00~16:30)今さら聞けない、オンライン商
 談でZoomが利用される理由とは？\n■パネルディスカッ
 ション・質疑応答(16:30~17:00)みなさまの疑問にお答えし
 ます。\nいまさら聞けない、上司も教えてくれない・
 「対面でなければ、信頼関係はつくれない」という思
 い込みがある・営業活動の実態が見えない・非対面・
 非接触営業の助言、指導はどうしたらいいのかわから
 ない・オンライン商談の成果が上がらない・従来のシ
 ステム・ツールのままで「オンライン」商談を乗り切
 ろうとしている\n３つのアプローチでオンライン商談
 の課題を解決\n\n人\n\n「オンライン商談は対面商談の
 代替措置」「対面でなければ、信頼関係はつくれない
 」という固定観念を捨て、オンライン商談と対面商談
 双方のメリットを把握したうえで、状況に応じた柔軟
 な使い分けができるようになることです。「オンライ
 ン商談」を成功させるうえでのマインドや、オンライ
 ン商談の効果的な進め方についてお伝えいたします。\
 n\n仕組み\n\nオンライン商談はテクノロジーで成り立っ
 ています。テクノロジーの恩恵を最大化できているか
 どうかが競合他社への競争力となります。営業業務を
 “可視化”し自社の営業ナレッジベースを構築、“自
 動化”や“定型化”による営業業務効率化、見込客の
 関心に寄り添ったアプローチの“最適化”を実現でき
 るセールスグロース支援をご紹介\n\nツール\n\n以下の
 ような課題はありませんか？◇社内で推奨されているW
 eb会議ツールだと使いづらい◇営業がテレワークのた
 め顧客管理がExcelでは難しくなってきた◇オンライン
 商談時に資料共有・画面共有がうまくいかない　等々
 、いまさら聞けない、けれどもオンライン商談には欠
 かせない。そんな課題解決に今すぐ役立つツールのご
 紹介します。\nセミナー概要\n\n\n\n時間\n内容\n\n\n\n\n日
 時\n2021年8月4日（水）15:00～17:00\n\n\n費用\n無料\n\n\nプ
 ログラム\n１．主催登壇：株式会社ジェック(15:00~15:30)
 新しい時代の営業スタイル「オンライン商談」成功の3
 つのポイント２．ゲスト登壇：HubSpot Japan株式会社(15:30
 ~16:00)今の環境だからこそできる「営業のナレッジベー
 スで受注率向上を実現」３．ゲスト登壇：株式会社ブ
 イキューブ(16:00~16:30)今さら聞けない、オンライン商談
 でZoomが利用される理由とは？4．パネルディスカッシ
 ョン・質疑応答(16:30~17:00)みなさまの疑問にお答えしま
 す。\n\n\n会場\nオンライン\n\n\n\n※ 当日予告なく時間
 配分・内容が変更になる可能性がございます。\n登壇
 者\n熱田 健太郎\n株式会社ジェックコンサルタント\n新
 しい時代の営業スタイル\n「オンライン商談」成功の3
 つのポイント\n１：オンライン商談の現状と今後～大
 切なのは使い分け ～\n２：オンライン商談成功のため
 のマインドオンライン商談の流れ\n３：ジェックのオ
 ンライン商談での成功事例\n\n\n\n宮滝 悠佑\nHubSpot Japan 
 株式会社チャネルアカウントマネージャー\n◆受注率
 を上げる\nシステムにより営業の見込客フォローの抜
 け漏れをなくし、失注リスクを下げる。商談をDB化し
 、受注・失注要因を記録させ、要因を分析し営業活動
 へ活用するメールや資料の閲覧状況をトラックし、見
 込客の興味関心に合わせた営業を実現する\n◆効率化
 を図る\nルーティン作業をテンプレート化し、営業メ
 ンバーの業務効率化を実現する。営業の活動状況を把
 握し、営業の生産性向上へつなげる\n◆視化する\nチー
 ム全体/個人単位で保有している案件を可視化し、売上
 見込を正確に把握する。レポートからボトルネックや
 改善すべき事項を探り、チーム売上向上へつなげる\n\n
 \n生出 旭\n株式会社ブイキューブ営業本部 VCソリュー
 ション第1営業グループマネジャー\n今さら聞けない、
 オンライン商談でZoomが利用される理由とは？\n１：オ
 ンライン商談・オンラインセールスで利用されるツー
 ルとは\n２：オンラインセールスでZoomが利用される３
 つの理由とは\n３：ブイキューブ実践事例、導入事例\n
 \n《株式会社ブイキューブ》オンライン商談システム
 、Webセミナーシステム、Web会議システムの開発・販売
 ・サポート・運営支援を行っている東証一部上場企業
 。\n\n参加方法：インターネットに繋がるPC、スマート
 フォン・タブレット\n費用：無料\n会場：オンラインセ
 ミナー\n視聴URL：前日に送付\n
LOCATION:オンライン開催（V-CUBEセミナー）
URL:https://techplay.jp/event/826136?utm_medium=referral&utm_source=ics&utm
 _campaign=ics
END:VEVENT
END:VCALENDAR
