BEGIN:VCALENDAR
VERSION:2.0
PRODID:-//https://techplay.jp//JP
CALSCALE:GREGORIAN
METHOD:PUBLISH
X-WR-CALDESC:ごちゃまぜロボットコンテスト交流会 #1
X-WR-CALNAME:ごちゃまぜロボットコンテスト交流会 #1
X-WR-TIMEZONE:Asia/Tokyo
BEGIN:VTIMEZONE
TZID:Asia/Tokyo
BEGIN:STANDARD
DTSTART:19700101T000000
TZOFFSETFROM:+0900
TZOFFSETTO:+0900
TZNAME:JST
END:STANDARD
END:VTIMEZONE
BEGIN:VEVENT
UID:826228@techplay.jp
SUMMARY:ごちゃまぜロボットコンテスト交流会 #1
DTSTART;TZID=Asia/Tokyo:20210829T123000
DTEND;TZID=Asia/Tokyo:20210829T183000
DTSTAMP:20260422T200319Z
CREATED:20210728T062444Z
DESCRIPTION:イベント詳細はこちら\nhttps://techplay.jp/event/82622
 8?utm_medium=referral&utm_source=ics&utm_campaign=ics\n\nごちゃまぜ
 ロボットコンテスト交流会について\n交流会の狙い\n競
 技会の壁を越えた交流\n本交流会では、ロボットコン
 テストを限定せずに様々なコンテストに出場している
 競技者が集まり、競技会を跨いだ交流の機会の提供を
 目的としています。それぞれのロボットコンテストは
 どのようなものなのか、何が学べるのかなどを参加者
 相互に共有することで新たな知識の発見の場にして頂
 くとともに、例えば今後参加する競技会選びの参考に
 もして頂ければ幸いです。\nロボコンOBOGのその後を知
 る\nロボコン経験者のその後のご活躍を知る機会とし
 て、ロボコンで活躍された諸先輩方がどのような職業
 で働かれているのかを招待講演という形でお話頂きま
 す。これらの講演が今ロボコン参加されている学生・
 生徒の方々にとって将来の進路を考える一助となれば
 幸いです。\n対象とする参加者\n\nロボットコンテスト
 に出場している方（学生・社会人かは問いません）\n
 ロボットコンテスト出場を検討していて、各コンテス
 トの情報を収集したい方（保護者の方も歓迎です）\n\n
 交流会形式について\n 京都府への緊急事態宣言の発出
 に伴いオフライン参加は中止とさせて頂きます。何卒
 ご了承頂けますようお願い致します \nZoomオンライン会
 場のみでの開催。Zoom URLは後日ご案内致します。\nけい
 はんなロボット技術センター（京都府相楽郡精華町 htt
 ps://www.pref.kyoto.jp/sangyo-sien/robotcenterkyoto.html ）の現地会
 場とZoomオンライン会場のハイブリッド開催と致します
 。新型コロナウィルス感染拡大に伴い、様々な競技会
 の交流会がオンサイト実施出来ていないことを受け、
 本交流会では感染対策を徹底した上で、けいはんなに
 直接集まっての交流を推進しております。是非現地で
 の交流もご検討ください。\n技術交流会について\n交流
 会閉会後、より技術や細かい話に焦点を当てる技術交
 流会を実施します。この技術交流会では機械・回路・
 制御・運営の4セッションに分かれ、それぞれのZoom部
 屋で希望者の方から5～8分程度の発表＋参加者相互に
 お好きな話題で交流頂きます。各セッションでの発表
 が応募多数の場合、競技会の偏りをなくす目的で抽選
 と致します。\nタイムスケジュール\n日付：2021年8月29
 日（日）\n時間：12:30～18:35（途中入退室可）\n※下記
 時間に関しては多少前後する可能性がございます\n開
 会・ロボコンOBOGからの講演他\n12:30～12:35　交流会開会
 \n12:35～13:05　ロボコンOBOGからの講演1　株式会社ティ
 アフォー様\n「自動運転に関する事業紹介」（詳細は
 後日公開）\n13:05～13:35　ロボコンOBOGからの講演2　堀
 井隆斗様（大阪大学・講師）\n「知能ロボティクスの
 研究紹介（長井研究室の研究紹介）」（詳細は後日公
 開）\n13:35～13:45　次世代ロボットエンジニア支援機構
 のご紹介  \nロボコンチーム／競技会より発表\n13:45～14
 :00　FUKUOKA NIWAKA様（RoboMaster）\n14:00～14:15　大阪大学Robo
 han様（NHK学生ロボコン）\n14:15～14:30　株式会社京都製
 作所様（キャチロボバトルコンテスト）\n14:30～14:40　
 休憩\n14:40～15:00　Scramble（FIRST Robotics Competition）\n15:00
 ～15:15　愛知県立大学RoboDragons様（RoboCup Soccer SSL）\n15:1
 5～15:30　岐阜高専ロボット研究会様（アイデア対決・
 全国高等専門学校ロボットコンテスト）\n15:30～15:45　
 三重県立四日市工業高等学校様（全日本ロボット相撲
 大会他）\n15:45～15:55　休憩\nパネルディスカッション
 ・閉会他\n15:55～16:35　パネルディスカッション\n16:35～
 16:55　Scrambleロボットデモ＆居室紹介\n16:55～17:00　閉会
 （中締め）  \n技術交流会\n17:00～17:05　休憩\n17:05～18:35
 　技術交流会（機械、回路・制御、運営の3セッション
 。希望者からのLT＋自由交流）\n機械セッション発表順
 \n１．Yuhei_Noborio 様\n２．Masaki Hamafuji 様\n３．kazushi-morig
 aki 様  \n回路・制御セッション発表順\n１．alnicomag 様\n
 ２．OkadaTechnology 様\n３．ふじーさん 様\n４．Tatsuki Nishi
 mura 様\n５．hakuturu583 様  \n運営セッション発表順\n１．
 kmrmkt 様\n２．Yokoti 様\n３．yuki 様\n４．phoenix_robots 様  \
 n主催者説明\n一般社団法人次世代ロボットエンジニア
 支援機構は次世代のエンジニア育成支援、ものづくり
 振興を目的に、ロボットコンテストを使った学生育成
 や各種イベント主催・企画などを実施している非営利
 法人です。詳細は公式webサイトからご覧ください。\nht
 tps://scramble-robot.org/\nご注意\n本交流会の録画、録音な
 どはご遠慮下さい。
LOCATION:オンライン会場（Zoom）
URL:https://techplay.jp/event/826228?utm_medium=referral&utm_source=ics&utm
 _campaign=ics
END:VEVENT
END:VCALENDAR
