BEGIN:VCALENDAR
VERSION:2.0
PRODID:-//https://techplay.jp//JP
CALSCALE:GREGORIAN
METHOD:PUBLISH
X-WR-CALDESC:［BtoB］ マーケティング担当者必見！ 初心者
 でもリード獲得数が2倍に！月額6000円からの簡単マー
 ケティングオートメーション活用法
X-WR-CALNAME:［BtoB］ マーケティング担当者必見！ 初心者
 でもリード獲得数が2倍に！月額6000円からの簡単マー
 ケティングオートメーション活用法
X-WR-TIMEZONE:Asia/Tokyo
BEGIN:VTIMEZONE
TZID:Asia/Tokyo
BEGIN:STANDARD
DTSTART:19700101T000000
TZOFFSETFROM:+0900
TZOFFSETTO:+0900
TZNAME:JST
END:STANDARD
END:VTIMEZONE
BEGIN:VEVENT
UID:826331@techplay.jp
SUMMARY:［BtoB］ マーケティング担当者必見！ 初心者でも
 リード獲得数が2倍に！月額6000円からの簡単マーケテ
 ィングオートメーション活用法
DTSTART;TZID=Asia/Tokyo:20210826T110000
DTEND;TZID=Asia/Tokyo:20210826T120000
DTSTAMP:20260421T111230Z
CREATED:20210729T070518Z
DESCRIPTION:イベント詳細はこちら\nhttps://techplay.jp/event/82633
 1?utm_medium=referral&utm_source=ics&utm_campaign=ics\n\nこんな方に
 おすすめ\n\nオンライン上で新規リードを獲得する施策
 を知りたい方\nコンテンツマーケティングの強化を検
 討中の方\n動画や漫画、資料ダウンロード用ホワイト
 ペーパーを有効活用したい方\nこれからマーケティン
 グオートメーション（＝MA）を始めたいが何をしてい
 いのかわからない方\nMAを使用していて、費用が高いと
 思っている方\n\n現在、デジタルマーケティングを推進
 し、オンライン上での営業施策を模索する企業様が増
 加傾向にあります。一方で営業活動に必要なだけの新
 規リード・問い合わせをオンライン上のみで賄えるの
 か？といった疑問をお持ちであったり、実際に自社にM
 Aツール導入するにあたってもどれが良いのかわかりづ
 らくツールの選定が困難になってきている等、新規リ
 ードを獲得する上でまだまだ課題感の多い部分ではな
 いでしょうか。本ウェビナーでは「コンテンツマーケ
 ティング×MA活用法」で、BtoBリード獲得2倍できるマー
 ケティングオートメーションの活用方法を、実際の成
 功事例を交えながらお伝えいたします！\nタイムテー
 ブル\n講師紹介\n第1部：テレワーク時代でもリード獲
 得2倍を実現！〜BtoB企業のWeb接客活用ポイント〜　　 
 　［クロストレックス株式会社］オンライン施策がメ
 インとなったBtoBリード獲得でも、自社サイトの見せ方
 や訪問者へのケアをきちんと設計する事で、問合せや
 資料請求は増やせます。サイト改修をしなくても既存
 動画や漫画、資料ダウンロード用ホワイトペーパーを
 活用して問合せが2倍増えた事例も踏まえて、最新のBto
 B向けWeb接客効果をご紹介します。\n第2部：初心者でも
 できる月額6000円からの簡単マーケティングオートメー
 ション活用法　           ［株式会社トライエッジ
 ］「過去にMAを導入したが、成果が出なかった」「こ
 れからMAを始めたいが何をしていいのかわからない」
 方必見！初心者でも成果を上げることできる簡単マー
 ケティングオートメーション活用方法を、100社以上に
 セールス・マーケティング支援を行ってきた㈱トライ
 エッジ代表 中野がご紹介します\n井上 翔太 氏（クロ
 ストレックス株式会社）2008年極東株式会社入社、資産
 運用コンサルティングを経験。2015年ビルコム株式会社
 入社。BtoB\,toC大手企業を中心に統合型デジタルマーケ
 ティング支援を担う 。2018年11月よりクロストレックス
 株式会社 取締役就任。Webマーケティングの解析・デジ
 タル広告を活用した企業のマーケティング支援・コン
 テンツマーケティング制作および運用支援を担う。イ
 ンタラクティブコンテンツ配信プラットフォーム「OPTI
 O」のプロダクトマネージャーとして新規企画から開発
 、販売を担う。\n中野 三四郎 氏（株式会社 トライエ
 ッジ　代表取締役CEO）新卒で大手人材派遣会社に入社
 。営業企画・マーケティング部門に従事。CRMシステム
 の企画・構築・運用支援、営業戦略の立案、顧客分析
 などを行う。その後、コンサルファーム（M&A）やメー
 カーでの営業企画などを経て、2011年トライエッジを設
 立。大手外資系IT企業、学校法人、人材企業、医療コ
 ンサルティング会社など100社以上のセールス・マーケ
 ティング支援を行う。現在はトライエッジにてCRM構築
 やAIを活用したマーケティング支援を展開。大分県中
 津市出身　広島県福山市育ち/青山学院大学大学院卒（
 MBA）\nイベント概要\n【タイトル】［BtoB］マーケティ
 ング担当者必見！　　　　　 初心者でもリード獲得数
 が2倍に！月額6000円からの簡単マーケティングオート
 メーション活用法【開催日時】 2021年8月26日（木）11：
 00〜12：00（10:45よりアクセス可能）【参加費】     無
 料【申込方法】 こちらのフォームよりお申込みくだ
 さい【視聴方法】 Zoom（ズーム）お申込み時にご登録
 いただいたメールアドレスに、開催日の前日までに受
 講用のURLを送信いたします。※事前に視聴環境のご用
 意をお願いいたします。【注意事項】\n\n一定数以上の
 ご応募があった場合、早期に募集を締め切らせていた
 だく場合がございます。\n同業のお客様のお申し込み
 はお断りしております。あらかじめご了承ください。\
 n締切日時を過ぎてからのお申込みは受講できない場合
 があります。\n\n【個人情報保護方針について】今回ご
 提供いただく個人情報は、個人情報保護方針に基づき
 厳重に管理いたしますプライバシーポリシー　株式会
 社トライエッジ【問い合わせ先】株式会社トライエッ
 ジセミナー事務局　担当：平岡Mail:info@triedge.co.jp注意
 事項：※ 競合他社様のご参加は、ご遠慮いただいてお
 りますので、ご了承ください。【ご協力のお願い】・
 お申込後のキャンセルについては、前日までにご連絡
 ください。【個人情報保護方針について】株式会社ト
 ライエッジプライバシーポリシーに沿って管理いたし
 ます。 なお、ご登録いただいた情報はプライバシーポ
 リシーに定める利用目的の他、共催企業のマーケティ
 ング活動に利用させていただきます。
LOCATION:オンライン
URL:https://techplay.jp/event/826331?utm_medium=referral&utm_source=ics&utm
 _campaign=ics
END:VEVENT
END:VCALENDAR
