BEGIN:VCALENDAR
VERSION:2.0
PRODID:-//https://techplay.jp//JP
CALSCALE:GREGORIAN
METHOD:PUBLISH
X-WR-CALDESC:【千葉/就活生必見】大学生限定のプログラミ
 ングコミュニティGeekSalon新拠点立ち上げ長期インター
 ン募集
X-WR-CALNAME:【千葉/就活生必見】大学生限定のプログラミ
 ングコミュニティGeekSalon新拠点立ち上げ長期インター
 ン募集
X-WR-TIMEZONE:Asia/Tokyo
BEGIN:VTIMEZONE
TZID:Asia/Tokyo
BEGIN:STANDARD
DTSTART:19700101T000000
TZOFFSETFROM:+0900
TZOFFSETTO:+0900
TZNAME:JST
END:STANDARD
END:VTIMEZONE
BEGIN:VEVENT
UID:826486@techplay.jp
SUMMARY:【千葉/就活生必見】大学生限定のプログラミング
 コミュニティGeekSalon新拠点立ち上げ長期インターン募
 集
DTSTART;TZID=Asia/Tokyo:20210807T100000
DTEND;TZID=Asia/Tokyo:20210807T170000
DTSTAMP:20260421T000653Z
CREATED:20210730T105432Z
DESCRIPTION:イベント詳細はこちら\nhttps://techplay.jp/event/82648
 6?utm_medium=referral&utm_source=ics&utm_campaign=ics\n\n          
          \n大学生限定のプログラミングコミュニティ
 GeekSalonが千葉に新拠点立ち上げます！\n大学生限定プ
 ログラミングコミュニティGeekSalonの新拠点、千葉教室
 の立ち上げメンバーを募集します。\nプログラミング
 未経験者も大歓迎！就活との両立も可能です。\n0から
 何かを創りたい、立ち上げから本気で挑戦したい方の
 ご応募お待ちしております！\n”人生に火を灯す”大
 学生限定プログラミングコミュニティ"GeekSalon"とは\nGee
 kSalonはプログラミング初心者を含む大学生に3ヶ月でア
 プリを開発・リリースするという体験を提供するプロ
 グラミングスクールです。プログラミングを教える業
 務はもちろん、マーケティングや人事まで幅広い業務
 を学生が主体となって運営しています。\nそんな私た
 ちは、以下のVISIONとMISSIONを胸に、日々自分の成長に向
 き合っています。\n-VISION-\n全国各地にプログラミング
 スキルを届けることで、\n社会を牽引する大学生を輩
 出する。\nプログラミング初心者が3ヶ月でアプリをリ
 リースすることは容易ではありません。\nメンターや
 仲間と支え合い、困難があっても乗り越えていくこと
 で初めて得られる景色があります。\n”アプリリリー
 ス”という容易でない成功体験を獲得することで、自
 信を持って社会を牽引して欲しい。\nそんな思いから
 、私たちは目標に向かって頑張る大学生を全力でサポ
 ートしています。\n-MISSION-\n技術を通して”人生に火を
 灯す”、\n日本最大のテクノロジープラットフォーム
 へ\n「困難にぶち当たっても乗り越えられることがで
 きた！」\n「私ってエンジニアに向いているかもしれ
 ない！」\n「難しいことでも仲間がいれば乗り越えら
 れた！」\n形はどうあれ、私たちは、この3ヶ月の体験
 を通して人生に火を灯したいと思っています。\nそし
 てそれはもちろん、働くメンター側も然り。\n夢中に
 なって取り組める環境がここにはあります。\n▼公式
 ホームページ▼\nhttps://geek-salon.com/\n募集要項\n【応募
 要件】\n・研修に参加できる方（8/7 10:00~ ＠恵比寿教室
 ）\n・23卒以降卒業の大学生・大学院生\n・千葉の大学
 に通っている、もしくは千葉在住\n・やると決めたら
 やり切れる人\n・成果に向けて思考・行動ができる人\n
 ・人と接するのが好きな方\n現段階でのプログラミン
 グスキルは不問です。意欲さえあれば初心者でも大歓
 迎です！\n（他教室立ち上げメンバーは7割が初心者）\
 n【主な業務内容】\n・拠点運営\n・市場調査およびユ
 ーザー獲得戦略の立案と実行\n・プログラミング技術
 の習得と会員学生へのレクチャー（3ヶ月でのアプリリ
 リースをサポート）\n・コミュニティのマネジメント
 、エンゲージメント向上\n・インターン生の採用/育成\
 n【得られるもの】\n・マーケティングスキル\n・学生
 だけでの事業運営経験\n・就活で有利になる実績\n・プ
 ログラミングスキル\n・コーチング等の対人スキル\n・
 刺激し合える仲間\n【どんなメンバーがいるか】\n目標
 に向かって本気で取り組む個性豊かなメンバーです！\
 n全員が高みを目指し、よりよい組織づくりのために考
 え、行動しています。\n文理比、男女比ともに5:5なの
 で、様々な大学の様々な学生と交流できます！\n現在
 全国に6拠点あり、全国の学生とも関わることができま
 す。\n【この経験を通じたメンバーの活躍】\n・起業し
 、自分の会社の経営と並行。その後作成したアプリを
 毎日新聞社に事業売却！\n・エンジニアとしてGeekSalon
 の発表会で出会った企業から数十万円の案件を獲得！\
 n・大学3年の秋に大手外資コンサル会社の早期内定を
 獲得！\n【運営メンバー内定先】\nリクルート\,ソフト
 バンク\,LINE\,サイバーエージェント\,日本IBM\,ヤフー\,JT
 \,楽天\,アトラエ\,他\n【報酬】\n月3〜8万円（稼働量や
 役職に応じて変動）\n※研修後の給与になります。\n【
 勤務時間】\n週15~20時間\n・週2回ほどのミーティング 
 （固定・オンラインまたはオフライン）\n・オンライ
 ン・オフラインでの受講生対応\n※定員達し次第募集
 締め切り\n【重要】 研修について\nプログラミング研
 修では実際にGeekSalonの３ヶ月カリキュラム（¥98\,340分
 ）を無料で受けてもらいます。\nもし研修生として採
 用が決まった後、面接等でこちらから落選を伝える/判
 断する以外での途中離脱の際には、離脱の際には受講
 料¥98\,340をご自身で負担していただくことになります
 。\nGeekSalonの貴重なコンテンツを使用して頂くため、
 ご理解ご協力のほど宜しくお願い致します。\n応募フ
 ロー\n１、こちらのページからエントリー【8月2日締め
 切り】\n２、書類選考通過者は仮採用選考を実施\n３、
 選考通過者に限り、8月7日（＠恵比寿）のキックオフ
 に参加\n４、技術/ビジネス研修の実施（1ヶ月程度）\n
 ５、採用面談\n６、9月から勤務\n「GeekSalonメンター募
 集用LINE」の登録が必須となります。\nこちらのLINEの追
 加をお願いします。\nご不明点などございましたらこ
 ちらからご連絡をお願いいたします。\nhttps://line.me/R/ti
 /p/%40646khaxp\nまた、選考の詳細なども、こちらのLINEか
 らご連絡いたします。\n公式LINEの都合上、メッセージ
 をいただいた方にのみ返信できますので、「氏名」「
 大学名」「応募拠点」を送信してください。
LOCATION:オンライン
URL:https://techplay.jp/event/826486?utm_medium=referral&utm_source=ics&utm
 _campaign=ics
END:VEVENT
END:VCALENDAR
