BEGIN:VCALENDAR
VERSION:2.0
PRODID:-//https://techplay.jp//JP
CALSCALE:GREGORIAN
METHOD:PUBLISH
X-WR-CALDESC:大阪シニアプログラミングもくもく会2021年8月
 版
X-WR-CALNAME:大阪シニアプログラミングもくもく会2021年8月
 版
X-WR-TIMEZONE:Asia/Tokyo
BEGIN:VTIMEZONE
TZID:Asia/Tokyo
BEGIN:STANDARD
DTSTART:19700101T000000
TZOFFSETFROM:+0900
TZOFFSETTO:+0900
TZNAME:JST
END:STANDARD
END:VTIMEZONE
BEGIN:VEVENT
UID:826487@techplay.jp
SUMMARY:大阪シニアプログラミングもくもく会2021年8月版
DTSTART;TZID=Asia/Tokyo:20210820T200000
DTEND;TZID=Asia/Tokyo:20210820T213000
DTSTAMP:20260424T112253Z
CREATED:20210730T134502Z
DESCRIPTION:イベント詳細はこちら\nhttps://techplay.jp/event/82648
 7?utm_medium=referral&utm_source=ics&utm_campaign=ics\n\n大阪シニア
 プログラミングもくもく会2021年8月\n概要\nプログラミ
 ングを趣味として作品作りを楽しむシニアの会合です
 。\nオンラインにより開催しますので、大阪の名前が
 入っていますが、これにとらわれず遠くからのご参加
 も自由です。\n・自分で開発したscratchやアプリなどの
 作品を発表できる時間があります。(作品は途中でも結
 構です)作品発表を希望される方は、アンケートにその
 旨をご記入くださるようお願いいたします。また作品
 は自分で開発したもの以外でも、参考になるものがあ
 れがご紹介することも自由です。\n・また、毎月、テ
 ーマを一つ決めて、それについて色々と参加者でおし
 ゃべりをします。今月はJamboardです。Googleが無料提供
 する、スマートディスプレイです。どのようなものか
 皆んなで試してみましょう。\nZoomを使用しますので、
 事前にインストールしておいてください。\nタイムス
 ケジュール(案)\n\n\n\n時間\n内容\n\n\n\n\n19:55〜\n受付\n\n\
 n20:00〜21:00\n作品発表等\n\n\n21:00〜21:30\nJamboard\n\n\n\n※ 
 当日参加人数などにより予告なく時間配分・内容が変
 更になる可能性がございます。\n参加方法\n申込者には
 開催2~3日前と当日の１８時頃にZoomの招待メールを送付
 いたします。\n当日の途中参加や退出は自由です。\n参
 加費\n無料\n注意事項\n\n欠席される場合は、お手数で
 すが速やかにキャンセル処理をお願い致します。\n
LOCATION:オンラインで開催します
URL:https://techplay.jp/event/826487?utm_medium=referral&utm_source=ics&utm
 _campaign=ics
END:VEVENT
END:VCALENDAR
