BEGIN:VCALENDAR
VERSION:2.0
PRODID:-//https://techplay.jp//JP
CALSCALE:GREGORIAN
METHOD:PUBLISH
X-WR-CALDESC:OpenID TechNight vol.18 ~ Nat さん本出版記念
X-WR-CALNAME:OpenID TechNight vol.18 ~ Nat さん本出版記念
X-WR-TIMEZONE:Asia/Tokyo
BEGIN:VTIMEZONE
TZID:Asia/Tokyo
BEGIN:STANDARD
DTSTART:19700101T000000
TZOFFSETFROM:+0900
TZOFFSETTO:+0900
TZNAME:JST
END:STANDARD
END:VTIMEZONE
BEGIN:VEVENT
UID:827159@techplay.jp
SUMMARY:OpenID TechNight vol.18 ~ Nat さん本出版記念
DTSTART;TZID=Asia/Tokyo:20210824T190000
DTEND;TZID=Asia/Tokyo:20210824T210000
DTSTAMP:20260423T174906Z
CREATED:20210805T061550Z
DESCRIPTION:イベント詳細はこちら\nhttps://techplay.jp/event/82715
 9?utm_medium=referral&utm_source=ics&utm_campaign=ics\n\n米国 OpenID Fo
 undation 理事長でもある崎村さん (Nat さん) の書籍「デ
 ジタルアイデンティティー 経営者が知らないサイバー
 ビジネスの核心」の出版を記念して、Nat さんに見所紹
 介していただいたのち、OpenID Foundation Japan のエバンジ
 ェリスト達がいろいろ質問しちゃいます。
LOCATION:Zoom オンライン
URL:https://techplay.jp/event/827159?utm_medium=referral&utm_source=ics&utm
 _campaign=ics
END:VEVENT
END:VCALENDAR
